{"text_format":"1","workbook":"xlsx","n_sheets":3,"sheets":["様式","記入例","学校取込レイアウト"],"not_rendered":{"charts":0,"images":0,"macros":1,"external_links":0,"defined_names":2,"comments":0,"pivot_tables":0},"unopened":[],"bounds":{"document_bytes":16777216,"sheet_cells":100000,"rows_first":2000,"rows_last":500,"rows_between":2000,"halvings":0,"cell_chars":16384,"cell_head_chars":4096},"cells_cut":0,"cells_raw":0,"read":"whole","date_system":"1900"}

{"sheet":"様式","index":0,"n_rows":420,"n_cols":11,"rows_kept":420,"cut":false,"hidden":false,"merged":[[1,1,1,6],[0,0,0,6],[2,2,2,3],[46,0,46,6],[139,1,139,6],[140,2,140,3],[184,0,184,6],[47,1,47,6],[48,2,48,3],[92,0,92,6],[93,1,93,6],[94,2,94,3],[138,0,138,6],[185,1,185,6],[186,2,186,3],[230,0,230,6],[231,1,231,6],[415,1,415,6],[232,2,232,3],[276,0,276,6],[277,1,277,6],[278,2,278,3],[416,2,416,3],[322,0,322,6],[323,1,323,6],[324,2,324,3],[414,0,414,6],[368,0,368,6],[369,1,369,6],[370,2,370,3]]}
["学校検診　検査名簿様式",null,null,null,null,null,null,null,null,null,"変換したいセルを選択後、ご希望のボタンをクリックしてください。"]
[null,"　　　　　　　島根県環境保健公社"]
[null,"学校名",null,null,"検査種別"]
[null,"※保育所園（所）、幼稚園におきまして①学年②クラスが存在しない場合は記入する必要はありません",null,null,null,null,"№1"]
[null,"①学年（組）","②クラス","③出席番号","④氏　名","⑤ﾌﾘｶﾞﾅ","⑥性　別"]
[null,null,null,null,null,null,null,"男＝1　女＝2　を入力してください。"]
[]
[]
[]
[]
[]
[]
[]
[]
[]
[]
[]
[]
[]
[]
[]
[]
[]
[]
[]
[]
[]
[]
[]
[]
[]
[]
[]
[]
[]
[]
[]
[]
[]
[]
[]
[]
[]
[]
[]
[]
["学校検診　検査名簿様式"]
[null,"　　　　　　　島根県環境保健公社"]
[null,"学校名",null,null,"検査種別"]
[null,"※保育所園（所）、幼稚園におきまして①学年②クラスが存在しない場合は記入する必要はありません",null,null,null,null,"№2"]
[null,"①学年（組）","②クラス","③出席番号","④氏　名","⑤ﾌﾘｶﾞﾅ","⑥性　別"]
[null,null,null,null,null,null,null,"男＝1　女＝2　を入力してください。"]
[]
[]
[]
[]
[]
[]
[]
[]
[]
[]
[]
[]
[]
[]
[]
[]
[]
[]
[]
[]
[]
[]
[]
[]
[]
[]
[]
[]
[]
[]
[]
[]
[]
[]
[]
[]
[]
[]
[]
[]
["学校検診　検査名簿様式"]
[null,"　　　　　　　島根県環境保健公社"]
[null,"学校名",null,null,"検査種別"]
[null,"※保育所園（所）、幼稚園におきまして①学年②クラスが存在しない場合は記入する必要はありません",null,null,null,null,"№3"]
[null,"①学年（組）","②クラス","③出席番号","④氏　名","⑤ﾌﾘｶﾞﾅ","⑥性　別"]
[null,null,null,null,null,null,null,"男＝1　女＝2　を入力してください。"]
[]
[]
[]
[]
[]
[]
[]
[]
[]
[]
[]
[]
[]
[]
[]
[]
[]
[]
[]
[]
[]
[]
[]
[]
[]
[]
[]
[]
[]
[]
[]
[]
[]
[]
[]
[]
[]
[]
[]
[]
["学校検診　検査名簿様式"]
[null,"　　　　　　　島根県環境保健公社"]
[null,"学校名",null,null,"検査種別"]
[null,"※保育所園（所）、幼稚園におきまして①学年②クラスが存在しない場合は記入する必要はありません",null,null,null,null,"№4"]
[null,"①学年（組）","②クラス","③出席番号","④氏　名","⑤ﾌﾘｶﾞﾅ","⑥性　別"]
[null,null,null,null,null,null,null,"男＝1　女＝2　を入力してください。"]
[]
[]
[]
[]
[]
[]
[]
[]
[]
[]
[]
[]
[]
[]
[]
[]
[]
[]
[]
[]
[]
[]
[]
[]
[]
[]
[]
[]
[]
[]
[]
[]
[]
[]
[]
[]
[]
[]
[]
[]
["学校検診　検査名簿様式"]
[null,"　　　　　　　島根県環境保健公社"]
[null,"学校名",null,null,"検査種別"]
[null,"※保育所園（所）、幼稚園におきまして①学年②クラスが存在しない場合は記入する必要はありません",null,null,null,null,"№5"]
[null,"①学年（組）","②クラス","③出席番号","④氏　名","⑤ﾌﾘｶﾞﾅ","⑥性　別"]
[null,null,null,null,null,null,null,"男＝1　女＝2　を入力してください。"]
[]
[]
[]
[]
[]
[]
[]
[]
[]
[]
[]
[]
[]
[]
[]
[]
[]
[]
[]
[]
[]
[]
[]
[]
[]
[]
[]
[]
[]
[]
[]
[]
[]
[]
[]
[]
[]
[]
[]
[]
["学校検診　検査名簿様式"]
[null,"　　　　　　　島根県環境保健公社"]
[null,"学校名",null,null,"検査種別"]
[null,"※保育所園（所）、幼稚園におきまして①学年②クラスが存在しない場合は記入する必要はありません",null,null,null,null,"№6"]
[null,"①学年（組）","②クラス","③出席番号","④氏　名","⑤ﾌﾘｶﾞﾅ","⑥性　別"]
[null,null,null,null,null,null,null,"男＝1　女＝2　を入力してください。"]
[]
[]
[]
[]
[]
[]
[]
[]
[]
[]
[]
[]
[]
[]
[]
[]
[]
[]
[]
[]
[]
[]
[]
[]
[]
[]
[]
[]
[]
[]
[]
[]
[]
[]
[]
[]
[]
[]
[]
[]
["学校検診　検査名簿様式"]
[null,"　　　　　　　島根県環境保健公社"]
[null,"学校名",null,null,"検査種別"]
[null,"※保育所園（所）、幼稚園におきまして①学年②クラスが存在しない場合は記入する必要はありません",null,null,null,null,"№7"]
[null,"①学年（組）","②クラス","③出席番号","④氏　名","⑤ﾌﾘｶﾞﾅ","⑥性　別"]
[null,null,null,null,null,null,null,"男＝1　女＝2　を入力してください。"]
[]
[]
[]
[]
[]
[]
[]
[]
[]
[]
[]
[]
[]
[]
[]
[]
[]
[]
[]
[]
[]
[]
[]
[]
[]
[]
[]
[]
[]
[]
[]
[]
[]
[]
[]
[]
[]
[]
[]
[]
["学校検診　検査名簿様式"]
[null,"　　　　　　　島根県環境保健公社"]
[null,"学校名",null,null,"検査種別"]
[null,"※保育所園（所）、幼稚園におきまして①学年②クラスが存在しない場合は記入する必要はありません",null,null,null,null,"№8"]
[null,"①学年（組）","②クラス","③出席番号","④氏　名","⑤ﾌﾘｶﾞﾅ","⑥性　別"]
[null,null,null,null,null,null,null,"男＝1　女＝2　を入力してください。"]
[]
[]
[]
[]
[]
[]
[]
[]
[]
[]
[]
[]
[]
[]
[]
[]
[]
[]
[]
[]
[]
[]
[]
[]
[]
[]
[]
[]
[]
[]
[]
[]
[]
[]
[]
[]
[]
[]
[]
[]
["学校検診　検査名簿様式"]
[null,"　　　　　　　島根県環境保健公社"]
[null,"学校名",null,null,"検査種別"]
[null,"※保育所園（所）、幼稚園におきまして①学年②クラスが存在しない場合は記入する必要はありません",null,null,null,null,"№9"]
[null,"①学年（組）","②クラス","③出席番号","④氏　名","⑤ﾌﾘｶﾞﾅ","⑥性　別"]
[null,null,null,null,null,null,null,"男＝1　女＝2　を入力してください。"]
[]
[]
[]
[]
[]
[]
[]
[]
[]
[]
[]
[]
[]
[]
[]
[]
[]
[]
[]
[]
[]
[]
[]
[]
[]
[]
[]
[]
[]
[]
[]
[]
[]
[]
[]
[]
[]
[]
[]
[]
["学校検診　検査名簿様式"]
[null,"　　　　　　　島根県環境保健公社"]
[null,"学校名",null,null,"検査種別"]
[null,"※保育所園（所）、幼稚園におきまして①学年②クラスが存在しない場合は記入する必要はありません",null,null,null,null,"№10"]
[null,"①学年（組）","②クラス","③出席番号","④氏　名","⑤ﾌﾘｶﾞﾅ","⑥性　別"]
[null,null,null,null,null,null,null,"男＝1　女＝2　を入力してください。"]

{"sheet":"記入例","index":1,"n_rows":30,"n_cols":7,"rows_kept":30,"cut":false,"hidden":false,"merged":[[0,0,0,6],[1,1,1,6]]}
["学校検診　検査名簿（見本）"]
[null,"　　　　　　　島根県環境保健公社"]
[null,"学校名：","松江市立　○○○小学校",null,"検査種別","尿・心電図"]
[]
[null,"※①学年(組)②クラス③出席番号は全角でお願いいたします"]
[null,"※保育所園（所）、幼稚園におきまして①学年(組)②クラスが存在しない場合は記入する必要はありません"]
[null,"※④氏名の姓と名の間に全角のスペースを入力してください"]
[null,"※⑤ﾌﾘｶﾞﾅは半角で入力し、姓と名の間に半角のスペースを入力してください"]
[null,"※システムの都合上、漢字変換できない字はカタカナで表記させていただく場合があります"]
[null,"※同姓同名が在籍する場合はご一報ください。"]
[]
[null,"①学年（組）","②クラス","③出席番号","④氏　名","⑤ﾌﾘｶﾞﾅ","⑥性　別"]
[null,"４","１","１","古志原　一郎","ｺｼﾊﾞﾗ ｲﾁﾛｳ",1]
[null,"４","２","２","乃木　花子","ﾉｷﾞ ﾊﾅｺ",2]
[]
[null,"５","１","１","津田　太郎","ﾂﾀﾞ ﾀﾛｳ",1]
[]
[]
[]
[]
[null,"ぶどう",null,"１","古志原　一郎","ｺｼﾊﾞﾗ ｲﾁﾛｳ",1]
[null,"ぶどう",null,"２","乃木　花子","ﾉｷﾞ ﾊﾅｺ",2]
[null,"ぶどう",null,null,"津田　太郎","ﾂﾀﾞ ﾀﾛｳ",1]
[]
[null,"めろん",null,"１","古志原　ひかる","ｺｼﾊﾞﾗ ﾋｶﾙ",1]
[null,"めろん",null,"２","環境　保","ｶﾝｷｮｳ ﾀﾓﾂ",1]
[]
[null,"もも",null,"１","乃木　花子","ﾉｷﾞ ﾊﾅｺ",2]
[null,"もも",null,"２","環境　公","ｶﾝｷｮｳ ｺｳ",2]
[null,"もも",null,"３","島根　コウシャ","ｼﾏﾈ ｺｳｼｬ",1]

{"sheet":"学校取込レイアウト","index":2,"n_rows":401,"n_cols":19,"rows_kept":401,"cut":false,"hidden":true,"merged":[]}
["団体ｺｰﾄﾞ","細分ｺｰﾄﾞ1","登録番号","学年（組）","クラス","出席番号","漢字氏名","カナ氏名","性別","尿","寄生虫","4誘導","12誘導","心音","貧血","脂質","小児",null,"空き"]
[null,null,null,{"$f":"IF(ISBLANK(様式!B6),\"\",様式!B6)","v":""},{"$f":"IF(ISBLANK(様式!C6),\"\",様式!C6)","v":""},{"$f":"IF(ISBLANK(様式!D6),\"\",様式!D6)","v":""},{"$f":"IF(ISBLANK(様式!E6),\"\",様式!E6)","v":""},{"$f":"IF(ISBLANK(様式!F6),\"\",様式!F6)","v":""},{"$f":"IF(ISBLANK(様式!G6),\"\",様式!G6)","v":""}]
[null,null,null,{"$f":"IF(ISBLANK(様式!B7),\"\",様式!B7)","v":""},{"$f":"IF(ISBLANK(様式!C7),\"\",様式!C7)","v":""},{"$f":"IF(ISBLANK(様式!D7),\"\",様式!D7)","v":""},{"$f":"IF(ISBLANK(様式!E7),\"\",様式!E7)","v":""},{"$f":"IF(ISBLANK(様式!F7),\"\",様式!F7)","v":""},{"$f":"IF(ISBLANK(様式!G7),\"\",様式!G7)","v":""}]
[null,null,null,{"$f":"IF(ISBLANK(様式!B8),\"\",様式!B8)","v":""},{"$f":"IF(ISBLANK(様式!C8),\"\",様式!C8)","v":""},{"$f":"IF(ISBLANK(様式!D8),\"\",様式!D8)","v":""},{"$f":"IF(ISBLANK(様式!E8),\"\",様式!E8)","v":""},{"$f":"IF(ISBLANK(様式!F8),\"\",様式!F8)","v":""},{"$f":"IF(ISBLANK(様式!G8),\"\",様式!G8)","v":""}]
[null,null,null,{"$f":"IF(ISBLANK(様式!B9),\"\",様式!B9)","v":""},{"$f":"IF(ISBLANK(様式!C9),\"\",様式!C9)","v":""},{"$f":"IF(ISBLANK(様式!D9),\"\",様式!D9)","v":""},{"$f":"IF(ISBLANK(様式!E9),\"\",様式!E9)","v":""},{"$f":"IF(ISBLANK(様式!F9),\"\",様式!F9)","v":""},{"$f":"IF(ISBLANK(様式!G9),\"\",様式!G9)","v":""}]
[null,null,null,{"$f":"IF(ISBLANK(様式!B10),\"\",様式!B10)","v":""},{"$f":"IF(ISBLANK(様式!C10),\"\",様式!C10)","v":""},{"$f":"IF(ISBLANK(様式!D10),\"\",様式!D10)","v":""},{"$f":"IF(ISBLANK(様式!E10),\"\",様式!E10)","v":""},{"$f":"IF(ISBLANK(様式!F10),\"\",様式!F10)","v":""},{"$f":"IF(ISBLANK(様式!G10),\"\",様式!G10)","v":""}]
[null,null,null,{"$f":"IF(ISBLANK(様式!B11),\"\",様式!B11)","v":""},{"$f":"IF(ISBLANK(様式!C11),\"\",様式!C11)","v":""},{"$f":"IF(ISBLANK(様式!D11),\"\",様式!D11)","v":""},{"$f":"IF(ISBLANK(様式!E11),\"\",様式!E11)","v":""},{"$f":"IF(ISBLANK(様式!F11),\"\",様式!F11)","v":""},{"$f":"IF(ISBLANK(様式!G11),\"\",様式!G11)","v":""}]
[null,null,null,{"$f":"IF(ISBLANK(様式!B12),\"\",様式!B12)","v":""},{"$f":"IF(ISBLANK(様式!C12),\"\",様式!C12)","v":""},{"$f":"IF(ISBLANK(様式!D12),\"\",様式!D12)","v":""},{"$f":"IF(ISBLANK(様式!E12),\"\",様式!E12)","v":""},{"$f":"IF(ISBLANK(様式!F12),\"\",様式!F12)","v":""},{"$f":"IF(ISBLANK(様式!G12),\"\",様式!G12)","v":""}]
[null,null,null,{"$f":"IF(ISBLANK(様式!B13),\"\",様式!B13)","v":""},{"$f":"IF(ISBLANK(様式!C13),\"\",様式!C13)","v":""},{"$f":"IF(ISBLANK(様式!D13),\"\",様式!D13)","v":""},{"$f":"IF(ISBLANK(様式!E13),\"\",様式!E13)","v":""},{"$f":"IF(ISBLANK(様式!F13),\"\",様式!F13)","v":""},{"$f":"IF(ISBLANK(様式!G13),\"\",様式!G13)","v":""}]
[null,null,null,{"$f":"IF(ISBLANK(様式!B14),\"\",様式!B14)","v":""},{"$f":"IF(ISBLANK(様式!C14),\"\",様式!C14)","v":""},{"$f":"IF(ISBLANK(様式!D14),\"\",様式!D14)","v":""},{"$f":"IF(ISBLANK(様式!E14),\"\",様式!E14)","v":""},{"$f":"IF(ISBLANK(様式!F14),\"\",様式!F14)","v":""},{"$f":"IF(ISBLANK(様式!G14),\"\",様式!G14)","v":""}]
[null,null,null,{"$f":"IF(ISBLANK(様式!B15),\"\",様式!B15)","v":""},{"$f":"IF(ISBLANK(様式!C15),\"\",様式!C15)","v":""},{"$f":"IF(ISBLANK(様式!D15),\"\",様式!D15)","v":""},{"$f":"IF(ISBLANK(様式!E15),\"\",様式!E15)","v":""},{"$f":"IF(ISBLANK(様式!F15),\"\",様式!F15)","v":""},{"$f":"IF(ISBLANK(様式!G15),\"\",様式!G15)","v":""}]
[null,null,null,{"$f":"IF(ISBLANK(様式!B16),\"\",様式!B16)","v":""},{"$f":"IF(ISBLANK(様式!C16),\"\",様式!C16)","v":""},{"$f":"IF(ISBLANK(様式!D16),\"\",様式!D16)","v":""},{"$f":"IF(ISBLANK(様式!E16),\"\",様式!E16)","v":""},{"$f":"IF(ISBLANK(様式!F16),\"\",様式!F16)","v":""},{"$f":"IF(ISBLANK(様式!G16),\"\",様式!G16)","v":""}]
[null,null,null,{"$f":"IF(ISBLANK(様式!B17),\"\",様式!B17)","v":""},{"$f":"IF(ISBLANK(様式!C17),\"\",様式!C17)","v":""},{"$f":"IF(ISBLANK(様式!D17),\"\",様式!D17)","v":""},{"$f":"IF(ISBLANK(様式!E17),\"\",様式!E17)","v":""},{"$f":"IF(ISBLANK(様式!F17),\"\",様式!F17)","v":""},{"$f":"IF(ISBLANK(様式!G17),\"\",様式!G17)","v":""}]
[null,null,null,{"$f":"IF(ISBLANK(様式!B18),\"\",様式!B18)","v":""},{"$f":"IF(ISBLANK(様式!C18),\"\",様式!C18)","v":""},{"$f":"IF(ISBLANK(様式!D18),\"\",様式!D18)","v":""},{"$f":"IF(ISBLANK(様式!E18),\"\",様式!E18)","v":""},{"$f":"IF(ISBLANK(様式!F18),\"\",様式!F18)","v":""},{"$f":"IF(ISBLANK(様式!G18),\"\",様式!G18)","v":""}]
[null,null,null,{"$f":"IF(ISBLANK(様式!B19),\"\",様式!B19)","v":""},{"$f":"IF(ISBLANK(様式!C19),\"\",様式!C19)","v":""},{"$f":"IF(ISBLANK(様式!D19),\"\",様式!D19)","v":""},{"$f":"IF(ISBLANK(様式!E19),\"\",様式!E19)","v":""},{"$f":"IF(ISBLANK(様式!F19),\"\",様式!F19)","v":""},{"$f":"IF(ISBLANK(様式!G19),\"\",様式!G19)","v":""}]
[null,null,null,{"$f":"IF(ISBLANK(様式!B20),\"\",様式!B20)","v":""},{"$f":"IF(ISBLANK(様式!C20),\"\",様式!C20)","v":""},{"$f":"IF(ISBLANK(様式!D20),\"\",様式!D20)","v":""},{"$f":"IF(ISBLANK(様式!E20),\"\",様式!E20)","v":""},{"$f":"IF(ISBLANK(様式!F20),\"\",様式!F20)","v":""},{"$f":"IF(ISBLANK(様式!G20),\"\",様式!G20)","v":""}]
[null,null,null,{"$f":"IF(ISBLANK(様式!B21),\"\",様式!B21)","v":""},{"$f":"IF(ISBLANK(様式!C21),\"\",様式!C21)","v":""},{"$f":"IF(ISBLANK(様式!D21),\"\",様式!D21)","v":""},{"$f":"IF(ISBLANK(様式!E21),\"\",様式!E21)","v":""},{"$f":"IF(ISBLANK(様式!F21),\"\",様式!F21)","v":""},{"$f":"IF(ISBLANK(様式!G21),\"\",様式!G21)","v":""}]
[null,null,null,{"$f":"IF(ISBLANK(様式!B22),\"\",様式!B22)","v":""},{"$f":"IF(ISBLANK(様式!C22),\"\",様式!C22)","v":""},{"$f":"IF(ISBLANK(様式!D22),\"\",様式!D22)","v":""},{"$f":"IF(ISBLANK(様式!E22),\"\",様式!E22)","v":""},{"$f":"IF(ISBLANK(様式!F22),\"\",様式!F22)","v":""},{"$f":"IF(ISBLANK(様式!G22),\"\",様式!G22)","v":""}]
[null,null,null,{"$f":"IF(ISBLANK(様式!B23),\"\",様式!B23)","v":""},{"$f":"IF(ISBLANK(様式!C23),\"\",様式!C23)","v":""},{"$f":"IF(ISBLANK(様式!D23),\"\",様式!D23)","v":""},{"$f":"IF(ISBLANK(様式!E23),\"\",様式!E23)","v":""},{"$f":"IF(ISBLANK(様式!F23),\"\",様式!F23)","v":""},{"$f":"IF(ISBLANK(様式!G23),\"\",様式!G23)","v":""}]
[null,null,null,{"$f":"IF(ISBLANK(様式!B24),\"\",様式!B24)","v":""},{"$f":"IF(ISBLANK(様式!C24),\"\",様式!C24)","v":""},{"$f":"IF(ISBLANK(様式!D24),\"\",様式!D24)","v":""},{"$f":"IF(ISBLANK(様式!E24),\"\",様式!E24)","v":""},{"$f":"IF(ISBLANK(様式!F24),\"\",様式!F24)","v":""},{"$f":"IF(ISBLANK(様式!G24),\"\",様式!G24)","v":""}]
[null,null,null,{"$f":"IF(ISBLANK(様式!B25),\"\",様式!B25)","v":""},{"$f":"IF(ISBLANK(様式!C25),\"\",様式!C25)","v":""},{"$f":"IF(ISBLANK(様式!D25),\"\",様式!D25)","v":""},{"$f":"IF(ISBLANK(様式!E25),\"\",様式!E25)","v":""},{"$f":"IF(ISBLANK(様式!F25),\"\",様式!F25)","v":""},{"$f":"IF(ISBLANK(様式!G25),\"\",様式!G25)","v":""}]
[null,null,null,{"$f":"IF(ISBLANK(様式!B26),\"\",様式!B26)","v":""},{"$f":"IF(ISBLANK(様式!C26),\"\",様式!C26)","v":""},{"$f":"IF(ISBLANK(様式!D26),\"\",様式!D26)","v":""},{"$f":"IF(ISBLANK(様式!E26),\"\",様式!E26)","v":""},{"$f":"IF(ISBLANK(様式!F26),\"\",様式!F26)","v":""},{"$f":"IF(ISBLANK(様式!G26),\"\",様式!G26)","v":""}]
[null,null,null,{"$f":"IF(ISBLANK(様式!B27),\"\",様式!B27)","v":""},{"$f":"IF(ISBLANK(様式!C27),\"\",様式!C27)","v":""},{"$f":"IF(ISBLANK(様式!D27),\"\",様式!D27)","v":""},{"$f":"IF(ISBLANK(様式!E27),\"\",様式!E27)","v":""},{"$f":"IF(ISBLANK(様式!F27),\"\",様式!F27)","v":""},{"$f":"IF(ISBLANK(様式!G27),\"\",様式!G27)","v":""}]
[null,null,null,{"$f":"IF(ISBLANK(様式!B28),\"\",様式!B28)","v":""},{"$f":"IF(ISBLANK(様式!C28),\"\",様式!C28)","v":""},{"$f":"IF(ISBLANK(様式!D28),\"\",様式!D28)","v":""},{"$f":"IF(ISBLANK(様式!E28),\"\",様式!E28)","v":""},{"$f":"IF(ISBLANK(様式!F28),\"\",様式!F28)","v":""},{"$f":"IF(ISBLANK(様式!G28),\"\",様式!G28)","v":""}]
[null,null,null,{"$f":"IF(ISBLANK(様式!B29),\"\",様式!B29)","v":""},{"$f":"IF(ISBLANK(様式!C29),\"\",様式!C29)","v":""},{"$f":"IF(ISBLANK(様式!D29),\"\",様式!D29)","v":""},{"$f":"IF(ISBLANK(様式!E29),\"\",様式!E29)","v":""},{"$f":"IF(ISBLANK(様式!F29),\"\",様式!F29)","v":""},{"$f":"IF(ISBLANK(様式!G29),\"\",様式!G29)","v":""}]
[null,null,null,{"$f":"IF(ISBLANK(様式!B30),\"\",様式!B30)","v":""},{"$f":"IF(ISBLANK(様式!C30),\"\",様式!C30)","v":""},{"$f":"IF(ISBLANK(様式!D30),\"\",様式!D30)","v":""},{"$f":"IF(ISBLANK(様式!E30),\"\",様式!E30)","v":""},{"$f":"IF(ISBLANK(様式!F30),\"\",様式!F30)","v":""},{"$f":"IF(ISBLANK(様式!G30),\"\",様式!G30)","v":""}]
[null,null,null,{"$f":"IF(ISBLANK(様式!B31),\"\",様式!B31)","v":""},{"$f":"IF(ISBLANK(様式!C31),\"\",様式!C31)","v":""},{"$f":"IF(ISBLANK(様式!D31),\"\",様式!D31)","v":""},{"$f":"IF(ISBLANK(様式!E31),\"\",様式!E31)","v":""},{"$f":"IF(ISBLANK(様式!F31),\"\",様式!F31)","v":""},{"$f":"IF(ISBLANK(様式!G31),\"\",様式!G31)","v":""}]
[null,null,null,{"$f":"IF(ISBLANK(様式!B32),\"\",様式!B32)","v":""},{"$f":"IF(ISBLANK(様式!C32),\"\",様式!C32)","v":""},{"$f":"IF(ISBLANK(様式!D32),\"\",様式!D32)","v":""},{"$f":"IF(ISBLANK(様式!E32),\"\",様式!E32)","v":""},{"$f":"IF(ISBLANK(様式!F32),\"\",様式!F32)","v":""},{"$f":"IF(ISBLANK(様式!G32),\"\",様式!G32)","v":""}]
[null,null,null,{"$f":"IF(ISBLANK(様式!B33),\"\",様式!B33)","v":""},{"$f":"IF(ISBLANK(様式!C33),\"\",様式!C33)","v":""},{"$f":"IF(ISBLANK(様式!D33),\"\",様式!D33)","v":""},{"$f":"IF(ISBLANK(様式!E33),\"\",様式!E33)","v":""},{"$f":"IF(ISBLANK(様式!F33),\"\",様式!F33)","v":""},{"$f":"IF(ISBLANK(様式!G33),\"\",様式!G33)","v":""}]
[null,null,null,{"$f":"IF(ISBLANK(様式!B34),\"\",様式!B34)","v":""},{"$f":"IF(ISBLANK(様式!C34),\"\",様式!C34)","v":""},{"$f":"IF(ISBLANK(様式!D34),\"\",様式!D34)","v":""},{"$f":"IF(ISBLANK(様式!E34),\"\",様式!E34)","v":""},{"$f":"IF(ISBLANK(様式!F34),\"\",様式!F34)","v":""},{"$f":"IF(ISBLANK(様式!G34),\"\",様式!G34)","v":""}]
[null,null,null,{"$f":"IF(ISBLANK(様式!B35),\"\",様式!B35)","v":""},{"$f":"IF(ISBLANK(様式!C35),\"\",様式!C35)","v":""},{"$f":"IF(ISBLANK(様式!D35),\"\",様式!D35)","v":""},{"$f":"IF(ISBLANK(様式!E35),\"\",様式!E35)","v":""},{"$f":"IF(ISBLANK(様式!F35),\"\",様式!F35)","v":""},{"$f":"IF(ISBLANK(様式!G35),\"\",様式!G35)","v":""}]
[null,null,null,{"$f":"IF(ISBLANK(様式!B36),\"\",様式!B36)","v":""},{"$f":"IF(ISBLANK(様式!C36),\"\",様式!C36)","v":""},{"$f":"IF(ISBLANK(様式!D36),\"\",様式!D36)","v":""},{"$f":"IF(ISBLANK(様式!E36),\"\",様式!E36)","v":""},{"$f":"IF(ISBLANK(様式!F36),\"\",様式!F36)","v":""},{"$f":"IF(ISBLANK(様式!G36),\"\",様式!G36)","v":""}]
[null,null,null,{"$f":"IF(ISBLANK(様式!B37),\"\",様式!B37)","v":""},{"$f":"IF(ISBLANK(様式!C37),\"\",様式!C37)","v":""},{"$f":"IF(ISBLANK(様式!D37),\"\",様式!D37)","v":""},{"$f":"IF(ISBLANK(様式!E37),\"\",様式!E37)","v":""},{"$f":"IF(ISBLANK(様式!F37),\"\",様式!F37)","v":""},{"$f":"IF(ISBLANK(様式!G37),\"\",様式!G37)","v":""}]
[null,null,null,{"$f":"IF(ISBLANK(様式!B38),\"\",様式!B38)","v":""},{"$f":"IF(ISBLANK(様式!C38),\"\",様式!C38)","v":""},{"$f":"IF(ISBLANK(様式!D38),\"\",様式!D38)","v":""},{"$f":"IF(ISBLANK(様式!E38),\"\",様式!E38)","v":""},{"$f":"IF(ISBLANK(様式!F38),\"\",様式!F38)","v":""},{"$f":"IF(ISBLANK(様式!G38),\"\",様式!G38)","v":""}]
[null,null,null,{"$f":"IF(ISBLANK(様式!B39),\"\",様式!B39)","v":""},{"$f":"IF(ISBLANK(様式!C39),\"\",様式!C39)","v":""},{"$f":"IF(ISBLANK(様式!D39),\"\",様式!D39)","v":""},{"$f":"IF(ISBLANK(様式!E39),\"\",様式!E39)","v":""},{"$f":"IF(ISBLANK(様式!F39),\"\",様式!F39)","v":""},{"$f":"IF(ISBLANK(様式!G39),\"\",様式!G39)","v":""}]
[null,null,null,{"$f":"IF(ISBLANK(様式!B40),\"\",様式!B40)","v":""},{"$f":"IF(ISBLANK(様式!C40),\"\",様式!C40)","v":""},{"$f":"IF(ISBLANK(様式!D40),\"\",様式!D40)","v":""},{"$f":"IF(ISBLANK(様式!E40),\"\",様式!E40)","v":""},{"$f":"IF(ISBLANK(様式!F40),\"\",様式!F40)","v":""},{"$f":"IF(ISBLANK(様式!G40),\"\",様式!G40)","v":""}]
[null,null,null,{"$f":"IF(ISBLANK(様式!B41),\"\",様式!B41)","v":""},{"$f":"IF(ISBLANK(様式!C41),\"\",様式!C41)","v":""},{"$f":"IF(ISBLANK(様式!D41),\"\",様式!D41)","v":""},{"$f":"IF(ISBLANK(様式!E41),\"\",様式!E41)","v":""},{"$f":"IF(ISBLANK(様式!F41),\"\",様式!F41)","v":""},{"$f":"IF(ISBLANK(様式!G41),\"\",様式!G41)","v":""}]
[null,null,null,{"$f":"IF(ISBLANK(様式!B42),\"\",様式!B42)","v":""},{"$f":"IF(ISBLANK(様式!C42),\"\",様式!C42)","v":""},{"$f":"IF(ISBLANK(様式!D42),\"\",様式!D42)","v":""},{"$f":"IF(ISBLANK(様式!E42),\"\",様式!E42)","v":""},{"$f":"IF(ISBLANK(様式!F42),\"\",様式!F42)","v":""},{"$f":"IF(ISBLANK(様式!G42),\"\",様式!G42)","v":""}]
[null,null,null,{"$f":"IF(ISBLANK(様式!B43),\"\",様式!B43)","v":""},{"$f":"IF(ISBLANK(様式!C43),\"\",様式!C43)","v":""},{"$f":"IF(ISBLANK(様式!D43),\"\",様式!D43)","v":""},{"$f":"IF(ISBLANK(様式!E43),\"\",様式!E43)","v":""},{"$f":"IF(ISBLANK(様式!F43),\"\",様式!F43)","v":""},{"$f":"IF(ISBLANK(様式!G43),\"\",様式!G43)","v":""}]
[null,null,null,{"$f":"IF(ISBLANK(様式!B44),\"\",様式!B44)","v":""},{"$f":"IF(ISBLANK(様式!C44),\"\",様式!C44)","v":""},{"$f":"IF(ISBLANK(様式!D44),\"\",様式!D44)","v":""},{"$f":"IF(ISBLANK(様式!E44),\"\",様式!E44)","v":""},{"$f":"IF(ISBLANK(様式!F44),\"\",様式!F44)","v":""},{"$f":"IF(ISBLANK(様式!G44),\"\",様式!G44)","v":""}]
[null,null,null,{"$f":"IF(ISBLANK(様式!B45),\"\",様式!B45)","v":""},{"$f":"IF(ISBLANK(様式!C45),\"\",様式!C45)","v":""},{"$f":"IF(ISBLANK(様式!D45),\"\",様式!D45)","v":""},{"$f":"IF(ISBLANK(様式!E45),\"\",様式!E45)","v":""},{"$f":"IF(ISBLANK(様式!F45),\"\",様式!F45)","v":""},{"$f":"IF(ISBLANK(様式!G45),\"\",様式!G45)","v":""}]
[null,null,null,{"$f":"IF(ISBLANK(様式!B52),\"\",様式!B52)","v":""},{"$f":"IF(ISBLANK(様式!C52),\"\",様式!C52)","v":""},{"$f":"IF(ISBLANK(様式!D52),\"\",様式!D52)","v":""},{"$f":"IF(ISBLANK(様式!E52),\"\",様式!E52)","v":""},{"$f":"IF(ISBLANK(様式!F52),\"\",様式!F52)","v":""},{"$f":"IF(ISBLANK(様式!G52),\"\",様式!G52)","v":""}]
[null,null,null,{"$f":"IF(ISBLANK(様式!B53),\"\",様式!B53)","v":""},{"$f":"IF(ISBLANK(様式!C53),\"\",様式!C53)","v":""},{"$f":"IF(ISBLANK(様式!D53),\"\",様式!D53)","v":""},{"$f":"IF(ISBLANK(様式!E53),\"\",様式!E53)","v":""},{"$f":"IF(ISBLANK(様式!F53),\"\",様式!F53)","v":""},{"$f":"IF(ISBLANK(様式!G53),\"\",様式!G53)","v":""}]
[null,null,null,{"$f":"IF(ISBLANK(様式!B54),\"\",様式!B54)","v":""},{"$f":"IF(ISBLANK(様式!C54),\"\",様式!C54)","v":""},{"$f":"IF(ISBLANK(様式!D54),\"\",様式!D54)","v":""},{"$f":"IF(ISBLANK(様式!E54),\"\",様式!E54)","v":""},{"$f":"IF(ISBLANK(様式!F54),\"\",様式!F54)","v":""},{"$f":"IF(ISBLANK(様式!G54),\"\",様式!G54)","v":""}]
[null,null,null,{"$f":"IF(ISBLANK(様式!B55),\"\",様式!B55)","v":""},{"$f":"IF(ISBLANK(様式!C55),\"\",様式!C55)","v":""},{"$f":"IF(ISBLANK(様式!D55),\"\",様式!D55)","v":""},{"$f":"IF(ISBLANK(様式!E55),\"\",様式!E55)","v":""},{"$f":"IF(ISBLANK(様式!F55),\"\",様式!F55)","v":""},{"$f":"IF(ISBLANK(様式!G55),\"\",様式!G55)","v":""}]
[null,null,null,{"$f":"IF(ISBLANK(様式!B56),\"\",様式!B56)","v":""},{"$f":"IF(ISBLANK(様式!C56),\"\",様式!C56)","v":""},{"$f":"IF(ISBLANK(様式!D56),\"\",様式!D56)","v":""},{"$f":"IF(ISBLANK(様式!E56),\"\",様式!E56)","v":""},{"$f":"IF(ISBLANK(様式!F56),\"\",様式!F56)","v":""},{"$f":"IF(ISBLANK(様式!G56),\"\",様式!G56)","v":""}]
[null,null,null,{"$f":"IF(ISBLANK(様式!B57),\"\",様式!B57)","v":""},{"$f":"IF(ISBLANK(様式!C57),\"\",様式!C57)","v":""},{"$f":"IF(ISBLANK(様式!D57),\"\",様式!D57)","v":""},{"$f":"IF(ISBLANK(様式!E57),\"\",様式!E57)","v":""},{"$f":"IF(ISBLANK(様式!F57),\"\",様式!F57)","v":""},{"$f":"IF(ISBLANK(様式!G57),\"\",様式!G57)","v":""}]
[null,null,null,{"$f":"IF(ISBLANK(様式!B58),\"\",様式!B58)","v":""},{"$f":"IF(ISBLANK(様式!C58),\"\",様式!C58)","v":""},{"$f":"IF(ISBLANK(様式!D58),\"\",様式!D58)","v":""},{"$f":"IF(ISBLANK(様式!E58),\"\",様式!E58)","v":""},{"$f":"IF(ISBLANK(様式!F58),\"\",様式!F58)","v":""},{"$f":"IF(ISBLANK(様式!G58),\"\",様式!G58)","v":""}]
[null,null,null,{"$f":"IF(ISBLANK(様式!B59),\"\",様式!B59)","v":""},{"$f":"IF(ISBLANK(様式!C59),\"\",様式!C59)","v":""},{"$f":"IF(ISBLANK(様式!D59),\"\",様式!D59)","v":""},{"$f":"IF(ISBLANK(様式!E59),\"\",様式!E59)","v":""},{"$f":"IF(ISBLANK(様式!F59),\"\",様式!F59)","v":""},{"$f":"IF(ISBLANK(様式!G59),\"\",様式!G59)","v":""}]
[null,null,null,{"$f":"IF(ISBLANK(様式!B60),\"\",様式!B60)","v":""},{"$f":"IF(ISBLANK(様式!C60),\"\",様式!C60)","v":""},{"$f":"IF(ISBLANK(様式!D60),\"\",様式!D60)","v":""},{"$f":"IF(ISBLANK(様式!E60),\"\",様式!E60)","v":""},{"$f":"IF(ISBLANK(様式!F60),\"\",様式!F60)","v":""},{"$f":"IF(ISBLANK(様式!G60),\"\",様式!G60)","v":""}]
[null,null,null,{"$f":"IF(ISBLANK(様式!B61),\"\",様式!B61)","v":""},{"$f":"IF(ISBLANK(様式!C61),\"\",様式!C61)","v":""},{"$f":"IF(ISBLANK(様式!D61),\"\",様式!D61)","v":""},{"$f":"IF(ISBLANK(様式!E61),\"\",様式!E61)","v":""},{"$f":"IF(ISBLANK(様式!F61),\"\",様式!F61)","v":""},{"$f":"IF(ISBLANK(様式!G61),\"\",様式!G61)","v":""}]
[null,null,null,{"$f":"IF(ISBLANK(様式!B62),\"\",様式!B62)","v":""},{"$f":"IF(ISBLANK(様式!C62),\"\",様式!C62)","v":""},{"$f":"IF(ISBLANK(様式!D62),\"\",様式!D62)","v":""},{"$f":"IF(ISBLANK(様式!E62),\"\",様式!E62)","v":""},{"$f":"IF(ISBLANK(様式!F62),\"\",様式!F62)","v":""},{"$f":"IF(ISBLANK(様式!G62),\"\",様式!G62)","v":""}]
[null,null,null,{"$f":"IF(ISBLANK(様式!B63),\"\",様式!B63)","v":""},{"$f":"IF(ISBLANK(様式!C63),\"\",様式!C63)","v":""},{"$f":"IF(ISBLANK(様式!D63),\"\",様式!D63)","v":""},{"$f":"IF(ISBLANK(様式!E63),\"\",様式!E63)","v":""},{"$f":"IF(ISBLANK(様式!F63),\"\",様式!F63)","v":""},{"$f":"IF(ISBLANK(様式!G63),\"\",様式!G63)","v":""}]
[null,null,null,{"$f":"IF(ISBLANK(様式!B64),\"\",様式!B64)","v":""},{"$f":"IF(ISBLANK(様式!C64),\"\",様式!C64)","v":""},{"$f":"IF(ISBLANK(様式!D64),\"\",様式!D64)","v":""},{"$f":"IF(ISBLANK(様式!E64),\"\",様式!E64)","v":""},{"$f":"IF(ISBLANK(様式!F64),\"\",様式!F64)","v":""},{"$f":"IF(ISBLANK(様式!G64),\"\",様式!G64)","v":""}]
[null,null,null,{"$f":"IF(ISBLANK(様式!B65),\"\",様式!B65)","v":""},{"$f":"IF(ISBLANK(様式!C65),\"\",様式!C65)","v":""},{"$f":"IF(ISBLANK(様式!D65),\"\",様式!D65)","v":""},{"$f":"IF(ISBLANK(様式!E65),\"\",様式!E65)","v":""},{"$f":"IF(ISBLANK(様式!F65),\"\",様式!F65)","v":""},{"$f":"IF(ISBLANK(様式!G65),\"\",様式!G65)","v":""}]
[null,null,null,{"$f":"IF(ISBLANK(様式!B66),\"\",様式!B66)","v":""},{"$f":"IF(ISBLANK(様式!C66),\"\",様式!C66)","v":""},{"$f":"IF(ISBLANK(様式!D66),\"\",様式!D66)","v":""},{"$f":"IF(ISBLANK(様式!E66),\"\",様式!E66)","v":""},{"$f":"IF(ISBLANK(様式!F66),\"\",様式!F66)","v":""},{"$f":"IF(ISBLANK(様式!G66),\"\",様式!G66)","v":""}]
[null,null,null,{"$f":"IF(ISBLANK(様式!B67),\"\",様式!B67)","v":""},{"$f":"IF(ISBLANK(様式!C67),\"\",様式!C67)","v":""},{"$f":"IF(ISBLANK(様式!D67),\"\",様式!D67)","v":""},{"$f":"IF(ISBLANK(様式!E67),\"\",様式!E67)","v":""},{"$f":"IF(ISBLANK(様式!F67),\"\",様式!F67)","v":""},{"$f":"IF(ISBLANK(様式!G67),\"\",様式!G67)","v":""}]
[null,null,null,{"$f":"IF(ISBLANK(様式!B68),\"\",様式!B68)","v":""},{"$f":"IF(ISBLANK(様式!C68),\"\",様式!C68)","v":""},{"$f":"IF(ISBLANK(様式!D68),\"\",様式!D68)","v":""},{"$f":"IF(ISBLANK(様式!E68),\"\",様式!E68)","v":""},{"$f":"IF(ISBLANK(様式!F68),\"\",様式!F68)","v":""},{"$f":"IF(ISBLANK(様式!G68),\"\",様式!G68)","v":""}]
[null,null,null,{"$f":"IF(ISBLANK(様式!B69),\"\",様式!B69)","v":""},{"$f":"IF(ISBLANK(様式!C69),\"\",様式!C69)","v":""},{"$f":"IF(ISBLANK(様式!D69),\"\",様式!D69)","v":""},{"$f":"IF(ISBLANK(様式!E69),\"\",様式!E69)","v":""},{"$f":"IF(ISBLANK(様式!F69),\"\",様式!F69)","v":""},{"$f":"IF(ISBLANK(様式!G69),\"\",様式!G69)","v":""}]
[null,null,null,{"$f":"IF(ISBLANK(様式!B70),\"\",様式!B70)","v":""},{"$f":"IF(ISBLANK(様式!C70),\"\",様式!C70)","v":""},{"$f":"IF(ISBLANK(様式!D70),\"\",様式!D70)","v":""},{"$f":"IF(ISBLANK(様式!E70),\"\",様式!E70)","v":""},{"$f":"IF(ISBLANK(様式!F70),\"\",様式!F70)","v":""},{"$f":"IF(ISBLANK(様式!G70),\"\",様式!G70)","v":""}]
[null,null,null,{"$f":"IF(ISBLANK(様式!B71),\"\",様式!B71)","v":""},{"$f":"IF(ISBLANK(様式!C71),\"\",様式!C71)","v":""},{"$f":"IF(ISBLANK(様式!D71),\"\",様式!D71)","v":""},{"$f":"IF(ISBLANK(様式!E71),\"\",様式!E71)","v":""},{"$f":"IF(ISBLANK(様式!F71),\"\",様式!F71)","v":""},{"$f":"IF(ISBLANK(様式!G71),\"\",様式!G71)","v":""}]
[null,null,null,{"$f":"IF(ISBLANK(様式!B72),\"\",様式!B72)","v":""},{"$f":"IF(ISBLANK(様式!C72),\"\",様式!C72)","v":""},{"$f":"IF(ISBLANK(様式!D72),\"\",様式!D72)","v":""},{"$f":"IF(ISBLANK(様式!E72),\"\",様式!E72)","v":""},{"$f":"IF(ISBLANK(様式!F72),\"\",様式!F72)","v":""},{"$f":"IF(ISBLANK(様式!G72),\"\",様式!G72)","v":""}]
[null,null,null,{"$f":"IF(ISBLANK(様式!B73),\"\",様式!B73)","v":""},{"$f":"IF(ISBLANK(様式!C73),\"\",様式!C73)","v":""},{"$f":"IF(ISBLANK(様式!D73),\"\",様式!D73)","v":""},{"$f":"IF(ISBLANK(様式!E73),\"\",様式!E73)","v":""},{"$f":"IF(ISBLANK(様式!F73),\"\",様式!F73)","v":""},{"$f":"IF(ISBLANK(様式!G73),\"\",様式!G73)","v":""}]
[null,null,null,{"$f":"IF(ISBLANK(様式!B74),\"\",様式!B74)","v":""},{"$f":"IF(ISBLANK(様式!C74),\"\",様式!C74)","v":""},{"$f":"IF(ISBLANK(様式!D74),\"\",様式!D74)","v":""},{"$f":"IF(ISBLANK(様式!E74),\"\",様式!E74)","v":""},{"$f":"IF(ISBLANK(様式!F74),\"\",様式!F74)","v":""},{"$f":"IF(ISBLANK(様式!G74),\"\",様式!G74)","v":""}]
[null,null,null,{"$f":"IF(ISBLANK(様式!B75),\"\",様式!B75)","v":""},{"$f":"IF(ISBLANK(様式!C75),\"\",様式!C75)","v":""},{"$f":"IF(ISBLANK(様式!D75),\"\",様式!D75)","v":""},{"$f":"IF(ISBLANK(様式!E75),\"\",様式!E75)","v":""},{"$f":"IF(ISBLANK(様式!F75),\"\",様式!F75)","v":""},{"$f":"IF(ISBLANK(様式!G75),\"\",様式!G75)","v":""}]
[null,null,null,{"$f":"IF(ISBLANK(様式!B76),\"\",様式!B76)","v":""},{"$f":"IF(ISBLANK(様式!C76),\"\",様式!C76)","v":""},{"$f":"IF(ISBLANK(様式!D76),\"\",様式!D76)","v":""},{"$f":"IF(ISBLANK(様式!E76),\"\",様式!E76)","v":""},{"$f":"IF(ISBLANK(様式!F76),\"\",様式!F76)","v":""},{"$f":"IF(ISBLANK(様式!G76),\"\",様式!G76)","v":""}]
[null,null,null,{"$f":"IF(ISBLANK(様式!B77),\"\",様式!B77)","v":""},{"$f":"IF(ISBLANK(様式!C77),\"\",様式!C77)","v":""},{"$f":"IF(ISBLANK(様式!D77),\"\",様式!D77)","v":""},{"$f":"IF(ISBLANK(様式!E77),\"\",様式!E77)","v":""},{"$f":"IF(ISBLANK(様式!F77),\"\",様式!F77)","v":""},{"$f":"IF(ISBLANK(様式!G77),\"\",様式!G77)","v":""}]
[null,null,null,{"$f":"IF(ISBLANK(様式!B78),\"\",様式!B78)","v":""},{"$f":"IF(ISBLANK(様式!C78),\"\",様式!C78)","v":""},{"$f":"IF(ISBLANK(様式!D78),\"\",様式!D78)","v":""},{"$f":"IF(ISBLANK(様式!E78),\"\",様式!E78)","v":""},{"$f":"IF(ISBLANK(様式!F78),\"\",様式!F78)","v":""},{"$f":"IF(ISBLANK(様式!G78),\"\",様式!G78)","v":""}]
[null,null,null,{"$f":"IF(ISBLANK(様式!B79),\"\",様式!B79)","v":""},{"$f":"IF(ISBLANK(様式!C79),\"\",様式!C79)","v":""},{"$f":"IF(ISBLANK(様式!D79),\"\",様式!D79)","v":""},{"$f":"IF(ISBLANK(様式!E79),\"\",様式!E79)","v":""},{"$f":"IF(ISBLANK(様式!F79),\"\",様式!F79)","v":""},{"$f":"IF(ISBLANK(様式!G79),\"\",様式!G79)","v":""}]
[null,null,null,{"$f":"IF(ISBLANK(様式!B80),\"\",様式!B80)","v":""},{"$f":"IF(ISBLANK(様式!C80),\"\",様式!C80)","v":""},{"$f":"IF(ISBLANK(様式!D80),\"\",様式!D80)","v":""},{"$f":"IF(ISBLANK(様式!E80),\"\",様式!E80)","v":""},{"$f":"IF(ISBLANK(様式!F80),\"\",様式!F80)","v":""},{"$f":"IF(ISBLANK(様式!G80),\"\",様式!G80)","v":""}]
[null,null,null,{"$f":"IF(ISBLANK(様式!B81),\"\",様式!B81)","v":""},{"$f":"IF(ISBLANK(様式!C81),\"\",様式!C81)","v":""},{"$f":"IF(ISBLANK(様式!D81),\"\",様式!D81)","v":""},{"$f":"IF(ISBLANK(様式!E81),\"\",様式!E81)","v":""},{"$f":"IF(ISBLANK(様式!F81),\"\",様式!F81)","v":""},{"$f":"IF(ISBLANK(様式!G81),\"\",様式!G81)","v":""}]
[null,null,null,{"$f":"IF(ISBLANK(様式!B82),\"\",様式!B82)","v":""},{"$f":"IF(ISBLANK(様式!C82),\"\",様式!C82)","v":""},{"$f":"IF(ISBLANK(様式!D82),\"\",様式!D82)","v":""},{"$f":"IF(ISBLANK(様式!E82),\"\",様式!E82)","v":""},{"$f":"IF(ISBLANK(様式!F82),\"\",様式!F82)","v":""},{"$f":"IF(ISBLANK(様式!G82),\"\",様式!G82)","v":""}]
[null,null,null,{"$f":"IF(ISBLANK(様式!B83),\"\",様式!B83)","v":""},{"$f":"IF(ISBLANK(様式!C83),\"\",様式!C83)","v":""},{"$f":"IF(ISBLANK(様式!D83),\"\",様式!D83)","v":""},{"$f":"IF(ISBLANK(様式!E83),\"\",様式!E83)","v":""},{"$f":"IF(ISBLANK(様式!F83),\"\",様式!F83)","v":""},{"$f":"IF(ISBLANK(様式!G83),\"\",様式!G83)","v":""}]
[null,null,null,{"$f":"IF(ISBLANK(様式!B84),\"\",様式!B84)","v":""},{"$f":"IF(ISBLANK(様式!C84),\"\",様式!C84)","v":""},{"$f":"IF(ISBLANK(様式!D84),\"\",様式!D84)","v":""},{"$f":"IF(ISBLANK(様式!E84),\"\",様式!E84)","v":""},{"$f":"IF(ISBLANK(様式!F84),\"\",様式!F84)","v":""},{"$f":"IF(ISBLANK(様式!G84),\"\",様式!G84)","v":""}]
[null,null,null,{"$f":"IF(ISBLANK(様式!B85),\"\",様式!B85)","v":""},{"$f":"IF(ISBLANK(様式!C85),\"\",様式!C85)","v":""},{"$f":"IF(ISBLANK(様式!D85),\"\",様式!D85)","v":""},{"$f":"IF(ISBLANK(様式!E85),\"\",様式!E85)","v":""},{"$f":"IF(ISBLANK(様式!F85),\"\",様式!F85)","v":""},{"$f":"IF(ISBLANK(様式!G85),\"\",様式!G85)","v":""}]
[null,null,null,{"$f":"IF(ISBLANK(様式!B86),\"\",様式!B86)","v":""},{"$f":"IF(ISBLANK(様式!C86),\"\",様式!C86)","v":""},{"$f":"IF(ISBLANK(様式!D86),\"\",様式!D86)","v":""},{"$f":"IF(ISBLANK(様式!E86),\"\",様式!E86)","v":""},{"$f":"IF(ISBLANK(様式!F86),\"\",様式!F86)","v":""},{"$f":"IF(ISBLANK(様式!G86),\"\",様式!G86)","v":""}]
[null,null,null,{"$f":"IF(ISBLANK(様式!B87),\"\",様式!B87)","v":""},{"$f":"IF(ISBLANK(様式!C87),\"\",様式!C87)","v":""},{"$f":"IF(ISBLANK(様式!D87),\"\",様式!D87)","v":""},{"$f":"IF(ISBLANK(様式!E87),\"\",様式!E87)","v":""},{"$f":"IF(ISBLANK(様式!F87),\"\",様式!F87)","v":""},{"$f":"IF(ISBLANK(様式!G87),\"\",様式!G87)","v":""}]
[null,null,null,{"$f":"IF(ISBLANK(様式!B88),\"\",様式!B88)","v":""},{"$f":"IF(ISBLANK(様式!C88),\"\",様式!C88)","v":""},{"$f":"IF(ISBLANK(様式!D88),\"\",様式!D88)","v":""},{"$f":"IF(ISBLANK(様式!E88),\"\",様式!E88)","v":""},{"$f":"IF(ISBLANK(様式!F88),\"\",様式!F88)","v":""},{"$f":"IF(ISBLANK(様式!G88),\"\",様式!G88)","v":""}]
[null,null,null,{"$f":"IF(ISBLANK(様式!B89),\"\",様式!B89)","v":""},{"$f":"IF(ISBLANK(様式!C89),\"\",様式!C89)","v":""},{"$f":"IF(ISBLANK(様式!D89),\"\",様式!D89)","v":""},{"$f":"IF(ISBLANK(様式!E89),\"\",様式!E89)","v":""},{"$f":"IF(ISBLANK(様式!F89),\"\",様式!F89)","v":""},{"$f":"IF(ISBLANK(様式!G89),\"\",様式!G89)","v":""}]
[null,null,null,{"$f":"IF(ISBLANK(様式!B90),\"\",様式!B90)","v":""},{"$f":"IF(ISBLANK(様式!C90),\"\",様式!C90)","v":""},{"$f":"IF(ISBLANK(様式!D90),\"\",様式!D90)","v":""},{"$f":"IF(ISBLANK(様式!E90),\"\",様式!E90)","v":""},{"$f":"IF(ISBLANK(様式!F90),\"\",様式!F90)","v":""},{"$f":"IF(ISBLANK(様式!G90),\"\",様式!G90)","v":""}]
[null,null,null,{"$f":"IF(ISBLANK(様式!B91),\"\",様式!B91)","v":""},{"$f":"IF(ISBLANK(様式!C91),\"\",様式!C91)","v":""},{"$f":"IF(ISBLANK(様式!D91),\"\",様式!D91)","v":""},{"$f":"IF(ISBLANK(様式!E91),\"\",様式!E91)","v":""},{"$f":"IF(ISBLANK(様式!F91),\"\",様式!F91)","v":""},{"$f":"IF(ISBLANK(様式!G91),\"\",様式!G91)","v":""}]
[null,null,null,{"$f":"IF(ISBLANK(様式!B98),\"\",様式!B98)","v":""},{"$f":"IF(ISBLANK(様式!C98),\"\",様式!C98)","v":""},{"$f":"IF(ISBLANK(様式!D98),\"\",様式!D98)","v":""},{"$f":"IF(ISBLANK(様式!E98),\"\",様式!E98)","v":""},{"$f":"IF(ISBLANK(様式!F98),\"\",様式!F98)","v":""},{"$f":"IF(ISBLANK(様式!G98),\"\",様式!G98)","v":""}]
[null,null,null,{"$f":"IF(ISBLANK(様式!B99),\"\",様式!B99)","v":""},{"$f":"IF(ISBLANK(様式!C99),\"\",様式!C99)","v":""},{"$f":"IF(ISBLANK(様式!D99),\"\",様式!D99)","v":""},{"$f":"IF(ISBLANK(様式!E99),\"\",様式!E99)","v":""},{"$f":"IF(ISBLANK(様式!F99),\"\",様式!F99)","v":""},{"$f":"IF(ISBLANK(様式!G99),\"\",様式!G99)","v":""}]
[null,null,null,{"$f":"IF(ISBLANK(様式!B100),\"\",様式!B100)","v":""},{"$f":"IF(ISBLANK(様式!C100),\"\",様式!C100)","v":""},{"$f":"IF(ISBLANK(様式!D100),\"\",様式!D100)","v":""},{"$f":"IF(ISBLANK(様式!E100),\"\",様式!E100)","v":""},{"$f":"IF(ISBLANK(様式!F100),\"\",様式!F100)","v":""},{"$f":"IF(ISBLANK(様式!G100),\"\",様式!G100)","v":""}]
[null,null,null,{"$f":"IF(ISBLANK(様式!B101),\"\",様式!B101)","v":""},{"$f":"IF(ISBLANK(様式!C101),\"\",様式!C101)","v":""},{"$f":"IF(ISBLANK(様式!D101),\"\",様式!D101)","v":""},{"$f":"IF(ISBLANK(様式!E101),\"\",様式!E101)","v":""},{"$f":"IF(ISBLANK(様式!F101),\"\",様式!F101)","v":""},{"$f":"IF(ISBLANK(様式!G101),\"\",様式!G101)","v":""}]
[null,null,null,{"$f":"IF(ISBLANK(様式!B102),\"\",様式!B102)","v":""},{"$f":"IF(ISBLANK(様式!C102),\"\",様式!C102)","v":""},{"$f":"IF(ISBLANK(様式!D102),\"\",様式!D102)","v":""},{"$f":"IF(ISBLANK(様式!E102),\"\",様式!E102)","v":""},{"$f":"IF(ISBLANK(様式!F102),\"\",様式!F102)","v":""},{"$f":"IF(ISBLANK(様式!G102),\"\",様式!G102)","v":""}]
[null,null,null,{"$f":"IF(ISBLANK(様式!B103),\"\",様式!B103)","v":""},{"$f":"IF(ISBLANK(様式!C103),\"\",様式!C103)","v":""},{"$f":"IF(ISBLANK(様式!D103),\"\",様式!D103)","v":""},{"$f":"IF(ISBLANK(様式!E103),\"\",様式!E103)","v":""},{"$f":"IF(ISBLANK(様式!F103),\"\",様式!F103)","v":""},{"$f":"IF(ISBLANK(様式!G103),\"\",様式!G103)","v":""}]
[null,null,null,{"$f":"IF(ISBLANK(様式!B104),\"\",様式!B104)","v":""},{"$f":"IF(ISBLANK(様式!C104),\"\",様式!C104)","v":""},{"$f":"IF(ISBLANK(様式!D104),\"\",様式!D104)","v":""},{"$f":"IF(ISBLANK(様式!E104),\"\",様式!E104)","v":""},{"$f":"IF(ISBLANK(様式!F104),\"\",様式!F104)","v":""},{"$f":"IF(ISBLANK(様式!G104),\"\",様式!G104)","v":""}]
[null,null,null,{"$f":"IF(ISBLANK(様式!B105),\"\",様式!B105)","v":""},{"$f":"IF(ISBLANK(様式!C105),\"\",様式!C105)","v":""},{"$f":"IF(ISBLANK(様式!D105),\"\",様式!D105)","v":""},{"$f":"IF(ISBLANK(様式!E105),\"\",様式!E105)","v":""},{"$f":"IF(ISBLANK(様式!F105),\"\",様式!F105)","v":""},{"$f":"IF(ISBLANK(様式!G105),\"\",様式!G105)","v":""}]
[null,null,null,{"$f":"IF(ISBLANK(様式!B106),\"\",様式!B106)","v":""},{"$f":"IF(ISBLANK(様式!C106),\"\",様式!C106)","v":""},{"$f":"IF(ISBLANK(様式!D106),\"\",様式!D106)","v":""},{"$f":"IF(ISBLANK(様式!E106),\"\",様式!E106)","v":""},{"$f":"IF(ISBLANK(様式!F106),\"\",様式!F106)","v":""},{"$f":"IF(ISBLANK(様式!G106),\"\",様式!G106)","v":""}]
[null,null,null,{"$f":"IF(ISBLANK(様式!B107),\"\",様式!B107)","v":""},{"$f":"IF(ISBLANK(様式!C107),\"\",様式!C107)","v":""},{"$f":"IF(ISBLANK(様式!D107),\"\",様式!D107)","v":""},{"$f":"IF(ISBLANK(様式!E107),\"\",様式!E107)","v":""},{"$f":"IF(ISBLANK(様式!F107),\"\",様式!F107)","v":""},{"$f":"IF(ISBLANK(様式!G107),\"\",様式!G107)","v":""}]
[null,null,null,{"$f":"IF(ISBLANK(様式!B108),\"\",様式!B108)","v":""},{"$f":"IF(ISBLANK(様式!C108),\"\",様式!C108)","v":""},{"$f":"IF(ISBLANK(様式!D108),\"\",様式!D108)","v":""},{"$f":"IF(ISBLANK(様式!E108),\"\",様式!E108)","v":""},{"$f":"IF(ISBLANK(様式!F108),\"\",様式!F108)","v":""},{"$f":"IF(ISBLANK(様式!G108),\"\",様式!G108)","v":""}]
[null,null,null,{"$f":"IF(ISBLANK(様式!B109),\"\",様式!B109)","v":""},{"$f":"IF(ISBLANK(様式!C109),\"\",様式!C109)","v":""},{"$f":"IF(ISBLANK(様式!D109),\"\",様式!D109)","v":""},{"$f":"IF(ISBLANK(様式!E109),\"\",様式!E109)","v":""},{"$f":"IF(ISBLANK(様式!F109),\"\",様式!F109)","v":""},{"$f":"IF(ISBLANK(様式!G109),\"\",様式!G109)","v":""}]
[null,null,null,{"$f":"IF(ISBLANK(様式!B110),\"\",様式!B110)","v":""},{"$f":"IF(ISBLANK(様式!C110),\"\",様式!C110)","v":""},{"$f":"IF(ISBLANK(様式!D110),\"\",様式!D110)","v":""},{"$f":"IF(ISBLANK(様式!E110),\"\",様式!E110)","v":""},{"$f":"IF(ISBLANK(様式!F110),\"\",様式!F110)","v":""},{"$f":"IF(ISBLANK(様式!G110),\"\",様式!G110)","v":""}]
[null,null,null,{"$f":"IF(ISBLANK(様式!B111),\"\",様式!B111)","v":""},{"$f":"IF(ISBLANK(様式!C111),\"\",様式!C111)","v":""},{"$f":"IF(ISBLANK(様式!D111),\"\",様式!D111)","v":""},{"$f":"IF(ISBLANK(様式!E111),\"\",様式!E111)","v":""},{"$f":"IF(ISBLANK(様式!F111),\"\",様式!F111)","v":""},{"$f":"IF(ISBLANK(様式!G111),\"\",様式!G111)","v":""}]
[null,null,null,{"$f":"IF(ISBLANK(様式!B112),\"\",様式!B112)","v":""},{"$f":"IF(ISBLANK(様式!C112),\"\",様式!C112)","v":""},{"$f":"IF(ISBLANK(様式!D112),\"\",様式!D112)","v":""},{"$f":"IF(ISBLANK(様式!E112),\"\",様式!E112)","v":""},{"$f":"IF(ISBLANK(様式!F112),\"\",様式!F112)","v":""},{"$f":"IF(ISBLANK(様式!G112),\"\",様式!G112)","v":""}]
[null,null,null,{"$f":"IF(ISBLANK(様式!B113),\"\",様式!B113)","v":""},{"$f":"IF(ISBLANK(様式!C113),\"\",様式!C113)","v":""},{"$f":"IF(ISBLANK(様式!D113),\"\",様式!D113)","v":""},{"$f":"IF(ISBLANK(様式!E113),\"\",様式!E113)","v":""},{"$f":"IF(ISBLANK(様式!F113),\"\",様式!F113)","v":""},{"$f":"IF(ISBLANK(様式!G113),\"\",様式!G113)","v":""}]
[null,null,null,{"$f":"IF(ISBLANK(様式!B114),\"\",様式!B114)","v":""},{"$f":"IF(ISBLANK(様式!C114),\"\",様式!C114)","v":""},{"$f":"IF(ISBLANK(様式!D114),\"\",様式!D114)","v":""},{"$f":"IF(ISBLANK(様式!E114),\"\",様式!E114)","v":""},{"$f":"IF(ISBLANK(様式!F114),\"\",様式!F114)","v":""},{"$f":"IF(ISBLANK(様式!G114),\"\",様式!G114)","v":""}]
[null,null,null,{"$f":"IF(ISBLANK(様式!B115),\"\",様式!B115)","v":""},{"$f":"IF(ISBLANK(様式!C115),\"\",様式!C115)","v":""},{"$f":"IF(ISBLANK(様式!D115),\"\",様式!D115)","v":""},{"$f":"IF(ISBLANK(様式!E115),\"\",様式!E115)","v":""},{"$f":"IF(ISBLANK(様式!F115),\"\",様式!F115)","v":""},{"$f":"IF(ISBLANK(様式!G115),\"\",様式!G115)","v":""}]
[null,null,null,{"$f":"IF(ISBLANK(様式!B116),\"\",様式!B116)","v":""},{"$f":"IF(ISBLANK(様式!C116),\"\",様式!C116)","v":""},{"$f":"IF(ISBLANK(様式!D116),\"\",様式!D116)","v":""},{"$f":"IF(ISBLANK(様式!E116),\"\",様式!E116)","v":""},{"$f":"IF(ISBLANK(様式!F116),\"\",様式!F116)","v":""},{"$f":"IF(ISBLANK(様式!G116),\"\",様式!G116)","v":""}]
[null,null,null,{"$f":"IF(ISBLANK(様式!B117),\"\",様式!B117)","v":""},{"$f":"IF(ISBLANK(様式!C117),\"\",様式!C117)","v":""},{"$f":"IF(ISBLANK(様式!D117),\"\",様式!D117)","v":""},{"$f":"IF(ISBLANK(様式!E117),\"\",様式!E117)","v":""},{"$f":"IF(ISBLANK(様式!F117),\"\",様式!F117)","v":""},{"$f":"IF(ISBLANK(様式!G117),\"\",様式!G117)","v":""}]
[null,null,null,{"$f":"IF(ISBLANK(様式!B118),\"\",様式!B118)","v":""},{"$f":"IF(ISBLANK(様式!C118),\"\",様式!C118)","v":""},{"$f":"IF(ISBLANK(様式!D118),\"\",様式!D118)","v":""},{"$f":"IF(ISBLANK(様式!E118),\"\",様式!E118)","v":""},{"$f":"IF(ISBLANK(様式!F118),\"\",様式!F118)","v":""},{"$f":"IF(ISBLANK(様式!G118),\"\",様式!G118)","v":""}]
[null,null,null,{"$f":"IF(ISBLANK(様式!B119),\"\",様式!B119)","v":""},{"$f":"IF(ISBLANK(様式!C119),\"\",様式!C119)","v":""},{"$f":"IF(ISBLANK(様式!D119),\"\",様式!D119)","v":""},{"$f":"IF(ISBLANK(様式!E119),\"\",様式!E119)","v":""},{"$f":"IF(ISBLANK(様式!F119),\"\",様式!F119)","v":""},{"$f":"IF(ISBLANK(様式!G119),\"\",様式!G119)","v":""}]
[null,null,null,{"$f":"IF(ISBLANK(様式!B120),\"\",様式!B120)","v":""},{"$f":"IF(ISBLANK(様式!C120),\"\",様式!C120)","v":""},{"$f":"IF(ISBLANK(様式!D120),\"\",様式!D120)","v":""},{"$f":"IF(ISBLANK(様式!E120),\"\",様式!E120)","v":""},{"$f":"IF(ISBLANK(様式!F120),\"\",様式!F120)","v":""},{"$f":"IF(ISBLANK(様式!G120),\"\",様式!G120)","v":""}]
[null,null,null,{"$f":"IF(ISBLANK(様式!B121),\"\",様式!B121)","v":""},{"$f":"IF(ISBLANK(様式!C121),\"\",様式!C121)","v":""},{"$f":"IF(ISBLANK(様式!D121),\"\",様式!D121)","v":""},{"$f":"IF(ISBLANK(様式!E121),\"\",様式!E121)","v":""},{"$f":"IF(ISBLANK(様式!F121),\"\",様式!F121)","v":""},{"$f":"IF(ISBLANK(様式!G121),\"\",様式!G121)","v":""}]
[null,null,null,{"$f":"IF(ISBLANK(様式!B122),\"\",様式!B122)","v":""},{"$f":"IF(ISBLANK(様式!C122),\"\",様式!C122)","v":""},{"$f":"IF(ISBLANK(様式!D122),\"\",様式!D122)","v":""},{"$f":"IF(ISBLANK(様式!E122),\"\",様式!E122)","v":""},{"$f":"IF(ISBLANK(様式!F122),\"\",様式!F122)","v":""},{"$f":"IF(ISBLANK(様式!G122),\"\",様式!G122)","v":""}]
[null,null,null,{"$f":"IF(ISBLANK(様式!B123),\"\",様式!B123)","v":""},{"$f":"IF(ISBLANK(様式!C123),\"\",様式!C123)","v":""},{"$f":"IF(ISBLANK(様式!D123),\"\",様式!D123)","v":""},{"$f":"IF(ISBLANK(様式!E123),\"\",様式!E123)","v":""},{"$f":"IF(ISBLANK(様式!F123),\"\",様式!F123)","v":""},{"$f":"IF(ISBLANK(様式!G123),\"\",様式!G123)","v":""}]
[null,null,null,{"$f":"IF(ISBLANK(様式!B124),\"\",様式!B124)","v":""},{"$f":"IF(ISBLANK(様式!C124),\"\",様式!C124)","v":""},{"$f":"IF(ISBLANK(様式!D124),\"\",様式!D124)","v":""},{"$f":"IF(ISBLANK(様式!E124),\"\",様式!E124)","v":""},{"$f":"IF(ISBLANK(様式!F124),\"\",様式!F124)","v":""},{"$f":"IF(ISBLANK(様式!G124),\"\",様式!G124)","v":""}]
[null,null,null,{"$f":"IF(ISBLANK(様式!B125),\"\",様式!B125)","v":""},{"$f":"IF(ISBLANK(様式!C125),\"\",様式!C125)","v":""},{"$f":"IF(ISBLANK(様式!D125),\"\",様式!D125)","v":""},{"$f":"IF(ISBLANK(様式!E125),\"\",様式!E125)","v":""},{"$f":"IF(ISBLANK(様式!F125),\"\",様式!F125)","v":""},{"$f":"IF(ISBLANK(様式!G125),\"\",様式!G125)","v":""}]
[null,null,null,{"$f":"IF(ISBLANK(様式!B126),\"\",様式!B126)","v":""},{"$f":"IF(ISBLANK(様式!C126),\"\",様式!C126)","v":""},{"$f":"IF(ISBLANK(様式!D126),\"\",様式!D126)","v":""},{"$f":"IF(ISBLANK(様式!E126),\"\",様式!E126)","v":""},{"$f":"IF(ISBLANK(様式!F126),\"\",様式!F126)","v":""},{"$f":"IF(ISBLANK(様式!G126),\"\",様式!G126)","v":""}]
[null,null,null,{"$f":"IF(ISBLANK(様式!B127),\"\",様式!B127)","v":""},{"$f":"IF(ISBLANK(様式!C127),\"\",様式!C127)","v":""},{"$f":"IF(ISBLANK(様式!D127),\"\",様式!D127)","v":""},{"$f":"IF(ISBLANK(様式!E127),\"\",様式!E127)","v":""},{"$f":"IF(ISBLANK(様式!F127),\"\",様式!F127)","v":""},{"$f":"IF(ISBLANK(様式!G127),\"\",様式!G127)","v":""}]
[null,null,null,{"$f":"IF(ISBLANK(様式!B128),\"\",様式!B128)","v":""},{"$f":"IF(ISBLANK(様式!C128),\"\",様式!C128)","v":""},{"$f":"IF(ISBLANK(様式!D128),\"\",様式!D128)","v":""},{"$f":"IF(ISBLANK(様式!E128),\"\",様式!E128)","v":""},{"$f":"IF(ISBLANK(様式!F128),\"\",様式!F128)","v":""},{"$f":"IF(ISBLANK(様式!G128),\"\",様式!G128)","v":""}]
[null,null,null,{"$f":"IF(ISBLANK(様式!B129),\"\",様式!B129)","v":""},{"$f":"IF(ISBLANK(様式!C129),\"\",様式!C129)","v":""},{"$f":"IF(ISBLANK(様式!D129),\"\",様式!D129)","v":""},{"$f":"IF(ISBLANK(様式!E129),\"\",様式!E129)","v":""},{"$f":"IF(ISBLANK(様式!F129),\"\",様式!F129)","v":""},{"$f":"IF(ISBLANK(様式!G129),\"\",様式!G129)","v":""}]
[null,null,null,{"$f":"IF(ISBLANK(様式!B130),\"\",様式!B130)","v":""},{"$f":"IF(ISBLANK(様式!C130),\"\",様式!C130)","v":""},{"$f":"IF(ISBLANK(様式!D130),\"\",様式!D130)","v":""},{"$f":"IF(ISBLANK(様式!E130),\"\",様式!E130)","v":""},{"$f":"IF(ISBLANK(様式!F130),\"\",様式!F130)","v":""},{"$f":"IF(ISBLANK(様式!G130),\"\",様式!G130)","v":""}]
[null,null,null,{"$f":"IF(ISBLANK(様式!B131),\"\",様式!B131)","v":""},{"$f":"IF(ISBLANK(様式!C131),\"\",様式!C131)","v":""},{"$f":"IF(ISBLANK(様式!D131),\"\",様式!D131)","v":""},{"$f":"IF(ISBLANK(様式!E131),\"\",様式!E131)","v":""},{"$f":"IF(ISBLANK(様式!F131),\"\",様式!F131)","v":""},{"$f":"IF(ISBLANK(様式!G131),\"\",様式!G131)","v":""}]
[null,null,null,{"$f":"IF(ISBLANK(様式!B132),\"\",様式!B132)","v":""},{"$f":"IF(ISBLANK(様式!C132),\"\",様式!C132)","v":""},{"$f":"IF(ISBLANK(様式!D132),\"\",様式!D132)","v":""},{"$f":"IF(ISBLANK(様式!E132),\"\",様式!E132)","v":""},{"$f":"IF(ISBLANK(様式!F132),\"\",様式!F132)","v":""},{"$f":"IF(ISBLANK(様式!G132),\"\",様式!G132)","v":""}]
[null,null,null,{"$f":"IF(ISBLANK(様式!B133),\"\",様式!B133)","v":""},{"$f":"IF(ISBLANK(様式!C133),\"\",様式!C133)","v":""},{"$f":"IF(ISBLANK(様式!D133),\"\",様式!D133)","v":""},{"$f":"IF(ISBLANK(様式!E133),\"\",様式!E133)","v":""},{"$f":"IF(ISBLANK(様式!F133),\"\",様式!F133)","v":""},{"$f":"IF(ISBLANK(様式!G133),\"\",様式!G133)","v":""}]
[null,null,null,{"$f":"IF(ISBLANK(様式!B134),\"\",様式!B134)","v":""},{"$f":"IF(ISBLANK(様式!C134),\"\",様式!C134)","v":""},{"$f":"IF(ISBLANK(様式!D134),\"\",様式!D134)","v":""},{"$f":"IF(ISBLANK(様式!E134),\"\",様式!E134)","v":""},{"$f":"IF(ISBLANK(様式!F134),\"\",様式!F134)","v":""},{"$f":"IF(ISBLANK(様式!G134),\"\",様式!G134)","v":""}]
[null,null,null,{"$f":"IF(ISBLANK(様式!B135),\"\",様式!B135)","v":""},{"$f":"IF(ISBLANK(様式!C135),\"\",様式!C135)","v":""},{"$f":"IF(ISBLANK(様式!D135),\"\",様式!D135)","v":""},{"$f":"IF(ISBLANK(様式!E135),\"\",様式!E135)","v":""},{"$f":"IF(ISBLANK(様式!F135),\"\",様式!F135)","v":""},{"$f":"IF(ISBLANK(様式!G135),\"\",様式!G135)","v":""}]
[null,null,null,{"$f":"IF(ISBLANK(様式!B136),\"\",様式!B136)","v":""},{"$f":"IF(ISBLANK(様式!C136),\"\",様式!C136)","v":""},{"$f":"IF(ISBLANK(様式!D136),\"\",様式!D136)","v":""},{"$f":"IF(ISBLANK(様式!E136),\"\",様式!E136)","v":""},{"$f":"IF(ISBLANK(様式!F136),\"\",様式!F136)","v":""},{"$f":"IF(ISBLANK(様式!G136),\"\",様式!G136)","v":""}]
[null,null,null,{"$f":"IF(ISBLANK(様式!B137),\"\",様式!B137)","v":""},{"$f":"IF(ISBLANK(様式!C137),\"\",様式!C137)","v":""},{"$f":"IF(ISBLANK(様式!D137),\"\",様式!D137)","v":""},{"$f":"IF(ISBLANK(様式!E137),\"\",様式!E137)","v":""},{"$f":"IF(ISBLANK(様式!F137),\"\",様式!F137)","v":""},{"$f":"IF(ISBLANK(様式!G137),\"\",様式!G137)","v":""}]
[null,null,null,{"$f":"IF(ISBLANK(様式!B144),\"\",様式!B144)","v":""},{"$f":"IF(ISBLANK(様式!C144),\"\",様式!C144)","v":""},{"$f":"IF(ISBLANK(様式!D144),\"\",様式!D144)","v":""},{"$f":"IF(ISBLANK(様式!E144),\"\",様式!E144)","v":""},{"$f":"IF(ISBLANK(様式!F144),\"\",様式!F144)","v":""},{"$f":"IF(ISBLANK(様式!G144),\"\",様式!G144)","v":""}]
[null,null,null,{"$f":"IF(ISBLANK(様式!B145),\"\",様式!B145)","v":""},{"$f":"IF(ISBLANK(様式!C145),\"\",様式!C145)","v":""},{"$f":"IF(ISBLANK(様式!D145),\"\",様式!D145)","v":""},{"$f":"IF(ISBLANK(様式!E145),\"\",様式!E145)","v":""},{"$f":"IF(ISBLANK(様式!F145),\"\",様式!F145)","v":""},{"$f":"IF(ISBLANK(様式!G145),\"\",様式!G145)","v":""}]
[null,null,null,{"$f":"IF(ISBLANK(様式!B146),\"\",様式!B146)","v":""},{"$f":"IF(ISBLANK(様式!C146),\"\",様式!C146)","v":""},{"$f":"IF(ISBLANK(様式!D146),\"\",様式!D146)","v":""},{"$f":"IF(ISBLANK(様式!E146),\"\",様式!E146)","v":""},{"$f":"IF(ISBLANK(様式!F146),\"\",様式!F146)","v":""},{"$f":"IF(ISBLANK(様式!G146),\"\",様式!G146)","v":""}]
[null,null,null,{"$f":"IF(ISBLANK(様式!B147),\"\",様式!B147)","v":""},{"$f":"IF(ISBLANK(様式!C147),\"\",様式!C147)","v":""},{"$f":"IF(ISBLANK(様式!D147),\"\",様式!D147)","v":""},{"$f":"IF(ISBLANK(様式!E147),\"\",様式!E147)","v":""},{"$f":"IF(ISBLANK(様式!F147),\"\",様式!F147)","v":""},{"$f":"IF(ISBLANK(様式!G147),\"\",様式!G147)","v":""}]
[null,null,null,{"$f":"IF(ISBLANK(様式!B148),\"\",様式!B148)","v":""},{"$f":"IF(ISBLANK(様式!C148),\"\",様式!C148)","v":""},{"$f":"IF(ISBLANK(様式!D148),\"\",様式!D148)","v":""},{"$f":"IF(ISBLANK(様式!E148),\"\",様式!E148)","v":""},{"$f":"IF(ISBLANK(様式!F148),\"\",様式!F148)","v":""},{"$f":"IF(ISBLANK(様式!G148),\"\",様式!G148)","v":""}]
[null,null,null,{"$f":"IF(ISBLANK(様式!B149),\"\",様式!B149)","v":""},{"$f":"IF(ISBLANK(様式!C149),\"\",様式!C149)","v":""},{"$f":"IF(ISBLANK(様式!D149),\"\",様式!D149)","v":""},{"$f":"IF(ISBLANK(様式!E149),\"\",様式!E149)","v":""},{"$f":"IF(ISBLANK(様式!F149),\"\",様式!F149)","v":""},{"$f":"IF(ISBLANK(様式!G149),\"\",様式!G149)","v":""}]
[null,null,null,{"$f":"IF(ISBLANK(様式!B150),\"\",様式!B150)","v":""},{"$f":"IF(ISBLANK(様式!C150),\"\",様式!C150)","v":""},{"$f":"IF(ISBLANK(様式!D150),\"\",様式!D150)","v":""},{"$f":"IF(ISBLANK(様式!E150),\"\",様式!E150)","v":""},{"$f":"IF(ISBLANK(様式!F150),\"\",様式!F150)","v":""},{"$f":"IF(ISBLANK(様式!G150),\"\",様式!G150)","v":""}]
[null,null,null,{"$f":"IF(ISBLANK(様式!B151),\"\",様式!B151)","v":""},{"$f":"IF(ISBLANK(様式!C151),\"\",様式!C151)","v":""},{"$f":"IF(ISBLANK(様式!D151),\"\",様式!D151)","v":""},{"$f":"IF(ISBLANK(様式!E151),\"\",様式!E151)","v":""},{"$f":"IF(ISBLANK(様式!F151),\"\",様式!F151)","v":""},{"$f":"IF(ISBLANK(様式!G151),\"\",様式!G151)","v":""}]
[null,null,null,{"$f":"IF(ISBLANK(様式!B152),\"\",様式!B152)","v":""},{"$f":"IF(ISBLANK(様式!C152),\"\",様式!C152)","v":""},{"$f":"IF(ISBLANK(様式!D152),\"\",様式!D152)","v":""},{"$f":"IF(ISBLANK(様式!E152),\"\",様式!E152)","v":""},{"$f":"IF(ISBLANK(様式!F152),\"\",様式!F152)","v":""},{"$f":"IF(ISBLANK(様式!G152),\"\",様式!G152)","v":""}]
[null,null,null,{"$f":"IF(ISBLANK(様式!B153),\"\",様式!B153)","v":""},{"$f":"IF(ISBLANK(様式!C153),\"\",様式!C153)","v":""},{"$f":"IF(ISBLANK(様式!D153),\"\",様式!D153)","v":""},{"$f":"IF(ISBLANK(様式!E153),\"\",様式!E153)","v":""},{"$f":"IF(ISBLANK(様式!F153),\"\",様式!F153)","v":""},{"$f":"IF(ISBLANK(様式!G153),\"\",様式!G153)","v":""}]
[null,null,null,{"$f":"IF(ISBLANK(様式!B154),\"\",様式!B154)","v":""},{"$f":"IF(ISBLANK(様式!C154),\"\",様式!C154)","v":""},{"$f":"IF(ISBLANK(様式!D154),\"\",様式!D154)","v":""},{"$f":"IF(ISBLANK(様式!E154),\"\",様式!E154)","v":""},{"$f":"IF(ISBLANK(様式!F154),\"\",様式!F154)","v":""},{"$f":"IF(ISBLANK(様式!G154),\"\",様式!G154)","v":""}]
[null,null,null,{"$f":"IF(ISBLANK(様式!B155),\"\",様式!B155)","v":""},{"$f":"IF(ISBLANK(様式!C155),\"\",様式!C155)","v":""},{"$f":"IF(ISBLANK(様式!D155),\"\",様式!D155)","v":""},{"$f":"IF(ISBLANK(様式!E155),\"\",様式!E155)","v":""},{"$f":"IF(ISBLANK(様式!F155),\"\",様式!F155)","v":""},{"$f":"IF(ISBLANK(様式!G155),\"\",様式!G155)","v":""}]
[null,null,null,{"$f":"IF(ISBLANK(様式!B156),\"\",様式!B156)","v":""},{"$f":"IF(ISBLANK(様式!C156),\"\",様式!C156)","v":""},{"$f":"IF(ISBLANK(様式!D156),\"\",様式!D156)","v":""},{"$f":"IF(ISBLANK(様式!E156),\"\",様式!E156)","v":""},{"$f":"IF(ISBLANK(様式!F156),\"\",様式!F156)","v":""},{"$f":"IF(ISBLANK(様式!G156),\"\",様式!G156)","v":""}]
[null,null,null,{"$f":"IF(ISBLANK(様式!B157),\"\",様式!B157)","v":""},{"$f":"IF(ISBLANK(様式!C157),\"\",様式!C157)","v":""},{"$f":"IF(ISBLANK(様式!D157),\"\",様式!D157)","v":""},{"$f":"IF(ISBLANK(様式!E157),\"\",様式!E157)","v":""},{"$f":"IF(ISBLANK(様式!F157),\"\",様式!F157)","v":""},{"$f":"IF(ISBLANK(様式!G157),\"\",様式!G157)","v":""}]
[null,null,null,{"$f":"IF(ISBLANK(様式!B158),\"\",様式!B158)","v":""},{"$f":"IF(ISBLANK(様式!C158),\"\",様式!C158)","v":""},{"$f":"IF(ISBLANK(様式!D158),\"\",様式!D158)","v":""},{"$f":"IF(ISBLANK(様式!E158),\"\",様式!E158)","v":""},{"$f":"IF(ISBLANK(様式!F158),\"\",様式!F158)","v":""},{"$f":"IF(ISBLANK(様式!G158),\"\",様式!G158)","v":""}]
[null,null,null,{"$f":"IF(ISBLANK(様式!B159),\"\",様式!B159)","v":""},{"$f":"IF(ISBLANK(様式!C159),\"\",様式!C159)","v":""},{"$f":"IF(ISBLANK(様式!D159),\"\",様式!D159)","v":""},{"$f":"IF(ISBLANK(様式!E159),\"\",様式!E159)","v":""},{"$f":"IF(ISBLANK(様式!F159),\"\",様式!F159)","v":""},{"$f":"IF(ISBLANK(様式!G159),\"\",様式!G159)","v":""}]
[null,null,null,{"$f":"IF(ISBLANK(様式!B160),\"\",様式!B160)","v":""},{"$f":"IF(ISBLANK(様式!C160),\"\",様式!C160)","v":""},{"$f":"IF(ISBLANK(様式!D160),\"\",様式!D160)","v":""},{"$f":"IF(ISBLANK(様式!E160),\"\",様式!E160)","v":""},{"$f":"IF(ISBLANK(様式!F160),\"\",様式!F160)","v":""},{"$f":"IF(ISBLANK(様式!G160),\"\",様式!G160)","v":""}]
[null,null,null,{"$f":"IF(ISBLANK(様式!B161),\"\",様式!B161)","v":""},{"$f":"IF(ISBLANK(様式!C161),\"\",様式!C161)","v":""},{"$f":"IF(ISBLANK(様式!D161),\"\",様式!D161)","v":""},{"$f":"IF(ISBLANK(様式!E161),\"\",様式!E161)","v":""},{"$f":"IF(ISBLANK(様式!F161),\"\",様式!F161)","v":""},{"$f":"IF(ISBLANK(様式!G161),\"\",様式!G161)","v":""}]
[null,null,null,{"$f":"IF(ISBLANK(様式!B162),\"\",様式!B162)","v":""},{"$f":"IF(ISBLANK(様式!C162),\"\",様式!C162)","v":""},{"$f":"IF(ISBLANK(様式!D162),\"\",様式!D162)","v":""},{"$f":"IF(ISBLANK(様式!E162),\"\",様式!E162)","v":""},{"$f":"IF(ISBLANK(様式!F162),\"\",様式!F162)","v":""},{"$f":"IF(ISBLANK(様式!G162),\"\",様式!G162)","v":""}]
[null,null,null,{"$f":"IF(ISBLANK(様式!B163),\"\",様式!B163)","v":""},{"$f":"IF(ISBLANK(様式!C163),\"\",様式!C163)","v":""},{"$f":"IF(ISBLANK(様式!D163),\"\",様式!D163)","v":""},{"$f":"IF(ISBLANK(様式!E163),\"\",様式!E163)","v":""},{"$f":"IF(ISBLANK(様式!F163),\"\",様式!F163)","v":""},{"$f":"IF(ISBLANK(様式!G163),\"\",様式!G163)","v":""}]
[null,null,null,{"$f":"IF(ISBLANK(様式!B164),\"\",様式!B164)","v":""},{"$f":"IF(ISBLANK(様式!C164),\"\",様式!C164)","v":""},{"$f":"IF(ISBLANK(様式!D164),\"\",様式!D164)","v":""},{"$f":"IF(ISBLANK(様式!E164),\"\",様式!E164)","v":""},{"$f":"IF(ISBLANK(様式!F164),\"\",様式!F164)","v":""},{"$f":"IF(ISBLANK(様式!G164),\"\",様式!G164)","v":""}]
[null,null,null,{"$f":"IF(ISBLANK(様式!B165),\"\",様式!B165)","v":""},{"$f":"IF(ISBLANK(様式!C165),\"\",様式!C165)","v":""},{"$f":"IF(ISBLANK(様式!D165),\"\",様式!D165)","v":""},{"$f":"IF(ISBLANK(様式!E165),\"\",様式!E165)","v":""},{"$f":"IF(ISBLANK(様式!F165),\"\",様式!F165)","v":""},{"$f":"IF(ISBLANK(様式!G165),\"\",様式!G165)","v":""}]
[null,null,null,{"$f":"IF(ISBLANK(様式!B166),\"\",様式!B166)","v":""},{"$f":"IF(ISBLANK(様式!C166),\"\",様式!C166)","v":""},{"$f":"IF(ISBLANK(様式!D166),\"\",様式!D166)","v":""},{"$f":"IF(ISBLANK(様式!E166),\"\",様式!E166)","v":""},{"$f":"IF(ISBLANK(様式!F166),\"\",様式!F166)","v":""},{"$f":"IF(ISBLANK(様式!G166),\"\",様式!G166)","v":""}]
[null,null,null,{"$f":"IF(ISBLANK(様式!B167),\"\",様式!B167)","v":""},{"$f":"IF(ISBLANK(様式!C167),\"\",様式!C167)","v":""},{"$f":"IF(ISBLANK(様式!D167),\"\",様式!D167)","v":""},{"$f":"IF(ISBLANK(様式!E167),\"\",様式!E167)","v":""},{"$f":"IF(ISBLANK(様式!F167),\"\",様式!F167)","v":""},{"$f":"IF(ISBLANK(様式!G167),\"\",様式!G167)","v":""}]
[null,null,null,{"$f":"IF(ISBLANK(様式!B168),\"\",様式!B168)","v":""},{"$f":"IF(ISBLANK(様式!C168),\"\",様式!C168)","v":""},{"$f":"IF(ISBLANK(様式!D168),\"\",様式!D168)","v":""},{"$f":"IF(ISBLANK(様式!E168),\"\",様式!E168)","v":""},{"$f":"IF(ISBLANK(様式!F168),\"\",様式!F168)","v":""},{"$f":"IF(ISBLANK(様式!G168),\"\",様式!G168)","v":""}]
[null,null,null,{"$f":"IF(ISBLANK(様式!B169),\"\",様式!B169)","v":""},{"$f":"IF(ISBLANK(様式!C169),\"\",様式!C169)","v":""},{"$f":"IF(ISBLANK(様式!D169),\"\",様式!D169)","v":""},{"$f":"IF(ISBLANK(様式!E169),\"\",様式!E169)","v":""},{"$f":"IF(ISBLANK(様式!F169),\"\",様式!F169)","v":""},{"$f":"IF(ISBLANK(様式!G169),\"\",様式!G169)","v":""}]
[null,null,null,{"$f":"IF(ISBLANK(様式!B170),\"\",様式!B170)","v":""},{"$f":"IF(ISBLANK(様式!C170),\"\",様式!C170)","v":""},{"$f":"IF(ISBLANK(様式!D170),\"\",様式!D170)","v":""},{"$f":"IF(ISBLANK(様式!E170),\"\",様式!E170)","v":""},{"$f":"IF(ISBLANK(様式!F170),\"\",様式!F170)","v":""},{"$f":"IF(ISBLANK(様式!G170),\"\",様式!G170)","v":""}]
[null,null,null,{"$f":"IF(ISBLANK(様式!B171),\"\",様式!B171)","v":""},{"$f":"IF(ISBLANK(様式!C171),\"\",様式!C171)","v":""},{"$f":"IF(ISBLANK(様式!D171),\"\",様式!D171)","v":""},{"$f":"IF(ISBLANK(様式!E171),\"\",様式!E171)","v":""},{"$f":"IF(ISBLANK(様式!F171),\"\",様式!F171)","v":""},{"$f":"IF(ISBLANK(様式!G171),\"\",様式!G171)","v":""}]
[null,null,null,{"$f":"IF(ISBLANK(様式!B172),\"\",様式!B172)","v":""},{"$f":"IF(ISBLANK(様式!C172),\"\",様式!C172)","v":""},{"$f":"IF(ISBLANK(様式!D172),\"\",様式!D172)","v":""},{"$f":"IF(ISBLANK(様式!E172),\"\",様式!E172)","v":""},{"$f":"IF(ISBLANK(様式!F172),\"\",様式!F172)","v":""},{"$f":"IF(ISBLANK(様式!G172),\"\",様式!G172)","v":""}]
[null,null,null,{"$f":"IF(ISBLANK(様式!B173),\"\",様式!B173)","v":""},{"$f":"IF(ISBLANK(様式!C173),\"\",様式!C173)","v":""},{"$f":"IF(ISBLANK(様式!D173),\"\",様式!D173)","v":""},{"$f":"IF(ISBLANK(様式!E173),\"\",様式!E173)","v":""},{"$f":"IF(ISBLANK(様式!F173),\"\",様式!F173)","v":""},{"$f":"IF(ISBLANK(様式!G173),\"\",様式!G173)","v":""}]
[null,null,null,{"$f":"IF(ISBLANK(様式!B174),\"\",様式!B174)","v":""},{"$f":"IF(ISBLANK(様式!C174),\"\",様式!C174)","v":""},{"$f":"IF(ISBLANK(様式!D174),\"\",様式!D174)","v":""},{"$f":"IF(ISBLANK(様式!E174),\"\",様式!E174)","v":""},{"$f":"IF(ISBLANK(様式!F174),\"\",様式!F174)","v":""},{"$f":"IF(ISBLANK(様式!G174),\"\",様式!G174)","v":""}]
[null,null,null,{"$f":"IF(ISBLANK(様式!B175),\"\",様式!B175)","v":""},{"$f":"IF(ISBLANK(様式!C175),\"\",様式!C175)","v":""},{"$f":"IF(ISBLANK(様式!D175),\"\",様式!D175)","v":""},{"$f":"IF(ISBLANK(様式!E175),\"\",様式!E175)","v":""},{"$f":"IF(ISBLANK(様式!F175),\"\",様式!F175)","v":""},{"$f":"IF(ISBLANK(様式!G175),\"\",様式!G175)","v":""}]
[null,null,null,{"$f":"IF(ISBLANK(様式!B176),\"\",様式!B176)","v":""},{"$f":"IF(ISBLANK(様式!C176),\"\",様式!C176)","v":""},{"$f":"IF(ISBLANK(様式!D176),\"\",様式!D176)","v":""},{"$f":"IF(ISBLANK(様式!E176),\"\",様式!E176)","v":""},{"$f":"IF(ISBLANK(様式!F176),\"\",様式!F176)","v":""},{"$f":"IF(ISBLANK(様式!G176),\"\",様式!G176)","v":""}]
[null,null,null,{"$f":"IF(ISBLANK(様式!B177),\"\",様式!B177)","v":""},{"$f":"IF(ISBLANK(様式!C177),\"\",様式!C177)","v":""},{"$f":"IF(ISBLANK(様式!D177),\"\",様式!D177)","v":""},{"$f":"IF(ISBLANK(様式!E177),\"\",様式!E177)","v":""},{"$f":"IF(ISBLANK(様式!F177),\"\",様式!F177)","v":""},{"$f":"IF(ISBLANK(様式!G177),\"\",様式!G177)","v":""}]
[null,null,null,{"$f":"IF(ISBLANK(様式!B178),\"\",様式!B178)","v":""},{"$f":"IF(ISBLANK(様式!C178),\"\",様式!C178)","v":""},{"$f":"IF(ISBLANK(様式!D178),\"\",様式!D178)","v":""},{"$f":"IF(ISBLANK(様式!E178),\"\",様式!E178)","v":""},{"$f":"IF(ISBLANK(様式!F178),\"\",様式!F178)","v":""},{"$f":"IF(ISBLANK(様式!G178),\"\",様式!G178)","v":""}]
[null,null,null,{"$f":"IF(ISBLANK(様式!B179),\"\",様式!B179)","v":""},{"$f":"IF(ISBLANK(様式!C179),\"\",様式!C179)","v":""},{"$f":"IF(ISBLANK(様式!D179),\"\",様式!D179)","v":""},{"$f":"IF(ISBLANK(様式!E179),\"\",様式!E179)","v":""},{"$f":"IF(ISBLANK(様式!F179),\"\",様式!F179)","v":""},{"$f":"IF(ISBLANK(様式!G179),\"\",様式!G179)","v":""}]
[null,null,null,{"$f":"IF(ISBLANK(様式!B180),\"\",様式!B180)","v":""},{"$f":"IF(ISBLANK(様式!C180),\"\",様式!C180)","v":""},{"$f":"IF(ISBLANK(様式!D180),\"\",様式!D180)","v":""},{"$f":"IF(ISBLANK(様式!E180),\"\",様式!E180)","v":""},{"$f":"IF(ISBLANK(様式!F180),\"\",様式!F180)","v":""},{"$f":"IF(ISBLANK(様式!G180),\"\",様式!G180)","v":""}]
[null,null,null,{"$f":"IF(ISBLANK(様式!B181),\"\",様式!B181)","v":""},{"$f":"IF(ISBLANK(様式!C181),\"\",様式!C181)","v":""},{"$f":"IF(ISBLANK(様式!D181),\"\",様式!D181)","v":""},{"$f":"IF(ISBLANK(様式!E181),\"\",様式!E181)","v":""},{"$f":"IF(ISBLANK(様式!F181),\"\",様式!F181)","v":""},{"$f":"IF(ISBLANK(様式!G181),\"\",様式!G181)","v":""}]
[null,null,null,{"$f":"IF(ISBLANK(様式!B182),\"\",様式!B182)","v":""},{"$f":"IF(ISBLANK(様式!C182),\"\",様式!C182)","v":""},{"$f":"IF(ISBLANK(様式!D182),\"\",様式!D182)","v":""},{"$f":"IF(ISBLANK(様式!E182),\"\",様式!E182)","v":""},{"$f":"IF(ISBLANK(様式!F182),\"\",様式!F182)","v":""},{"$f":"IF(ISBLANK(様式!G182),\"\",様式!G182)","v":""}]
[null,null,null,{"$f":"IF(ISBLANK(様式!B183),\"\",様式!B183)","v":""},{"$f":"IF(ISBLANK(様式!C183),\"\",様式!C183)","v":""},{"$f":"IF(ISBLANK(様式!D183),\"\",様式!D183)","v":""},{"$f":"IF(ISBLANK(様式!E183),\"\",様式!E183)","v":""},{"$f":"IF(ISBLANK(様式!F183),\"\",様式!F183)","v":""},{"$f":"IF(ISBLANK(様式!G183),\"\",様式!G183)","v":""}]
[null,null,null,{"$f":"IF(ISBLANK(様式!B190),\"\",様式!B190)","v":""},{"$f":"IF(ISBLANK(様式!C190),\"\",様式!C190)","v":""},{"$f":"IF(ISBLANK(様式!D190),\"\",様式!D190)","v":""},{"$f":"IF(ISBLANK(様式!E190),\"\",様式!E190)","v":""},{"$f":"IF(ISBLANK(様式!F190),\"\",様式!F190)","v":""},{"$f":"IF(ISBLANK(様式!G190),\"\",様式!G190)","v":""}]
[null,null,null,{"$f":"IF(ISBLANK(様式!B191),\"\",様式!B191)","v":""},{"$f":"IF(ISBLANK(様式!C191),\"\",様式!C191)","v":""},{"$f":"IF(ISBLANK(様式!D191),\"\",様式!D191)","v":""},{"$f":"IF(ISBLANK(様式!E191),\"\",様式!E191)","v":""},{"$f":"IF(ISBLANK(様式!F191),\"\",様式!F191)","v":""},{"$f":"IF(ISBLANK(様式!G191),\"\",様式!G191)","v":""}]
[null,null,null,{"$f":"IF(ISBLANK(様式!B192),\"\",様式!B192)","v":""},{"$f":"IF(ISBLANK(様式!C192),\"\",様式!C192)","v":""},{"$f":"IF(ISBLANK(様式!D192),\"\",様式!D192)","v":""},{"$f":"IF(ISBLANK(様式!E192),\"\",様式!E192)","v":""},{"$f":"IF(ISBLANK(様式!F192),\"\",様式!F192)","v":""},{"$f":"IF(ISBLANK(様式!G192),\"\",様式!G192)","v":""}]
[null,null,null,{"$f":"IF(ISBLANK(様式!B193),\"\",様式!B193)","v":""},{"$f":"IF(ISBLANK(様式!C193),\"\",様式!C193)","v":""},{"$f":"IF(ISBLANK(様式!D193),\"\",様式!D193)","v":""},{"$f":"IF(ISBLANK(様式!E193),\"\",様式!E193)","v":""},{"$f":"IF(ISBLANK(様式!F193),\"\",様式!F193)","v":""},{"$f":"IF(ISBLANK(様式!G193),\"\",様式!G193)","v":""}]
[null,null,null,{"$f":"IF(ISBLANK(様式!B194),\"\",様式!B194)","v":""},{"$f":"IF(ISBLANK(様式!C194),\"\",様式!C194)","v":""},{"$f":"IF(ISBLANK(様式!D194),\"\",様式!D194)","v":""},{"$f":"IF(ISBLANK(様式!E194),\"\",様式!E194)","v":""},{"$f":"IF(ISBLANK(様式!F194),\"\",様式!F194)","v":""},{"$f":"IF(ISBLANK(様式!G194),\"\",様式!G194)","v":""}]
[null,null,null,{"$f":"IF(ISBLANK(様式!B195),\"\",様式!B195)","v":""},{"$f":"IF(ISBLANK(様式!C195),\"\",様式!C195)","v":""},{"$f":"IF(ISBLANK(様式!D195),\"\",様式!D195)","v":""},{"$f":"IF(ISBLANK(様式!E195),\"\",様式!E195)","v":""},{"$f":"IF(ISBLANK(様式!F195),\"\",様式!F195)","v":""},{"$f":"IF(ISBLANK(様式!G195),\"\",様式!G195)","v":""}]
[null,null,null,{"$f":"IF(ISBLANK(様式!B196),\"\",様式!B196)","v":""},{"$f":"IF(ISBLANK(様式!C196),\"\",様式!C196)","v":""},{"$f":"IF(ISBLANK(様式!D196),\"\",様式!D196)","v":""},{"$f":"IF(ISBLANK(様式!E196),\"\",様式!E196)","v":""},{"$f":"IF(ISBLANK(様式!F196),\"\",様式!F196)","v":""},{"$f":"IF(ISBLANK(様式!G196),\"\",様式!G196)","v":""}]
[null,null,null,{"$f":"IF(ISBLANK(様式!B197),\"\",様式!B197)","v":""},{"$f":"IF(ISBLANK(様式!C197),\"\",様式!C197)","v":""},{"$f":"IF(ISBLANK(様式!D197),\"\",様式!D197)","v":""},{"$f":"IF(ISBLANK(様式!E197),\"\",様式!E197)","v":""},{"$f":"IF(ISBLANK(様式!F197),\"\",様式!F197)","v":""},{"$f":"IF(ISBLANK(様式!G197),\"\",様式!G197)","v":""}]
[null,null,null,{"$f":"IF(ISBLANK(様式!B198),\"\",様式!B198)","v":""},{"$f":"IF(ISBLANK(様式!C198),\"\",様式!C198)","v":""},{"$f":"IF(ISBLANK(様式!D198),\"\",様式!D198)","v":""},{"$f":"IF(ISBLANK(様式!E198),\"\",様式!E198)","v":""},{"$f":"IF(ISBLANK(様式!F198),\"\",様式!F198)","v":""},{"$f":"IF(ISBLANK(様式!G198),\"\",様式!G198)","v":""}]
[null,null,null,{"$f":"IF(ISBLANK(様式!B199),\"\",様式!B199)","v":""},{"$f":"IF(ISBLANK(様式!C199),\"\",様式!C199)","v":""},{"$f":"IF(ISBLANK(様式!D199),\"\",様式!D199)","v":""},{"$f":"IF(ISBLANK(様式!E199),\"\",様式!E199)","v":""},{"$f":"IF(ISBLANK(様式!F199),\"\",様式!F199)","v":""},{"$f":"IF(ISBLANK(様式!G199),\"\",様式!G199)","v":""}]
[null,null,null,{"$f":"IF(ISBLANK(様式!B200),\"\",様式!B200)","v":""},{"$f":"IF(ISBLANK(様式!C200),\"\",様式!C200)","v":""},{"$f":"IF(ISBLANK(様式!D200),\"\",様式!D200)","v":""},{"$f":"IF(ISBLANK(様式!E200),\"\",様式!E200)","v":""},{"$f":"IF(ISBLANK(様式!F200),\"\",様式!F200)","v":""},{"$f":"IF(ISBLANK(様式!G200),\"\",様式!G200)","v":""}]
[null,null,null,{"$f":"IF(ISBLANK(様式!B201),\"\",様式!B201)","v":""},{"$f":"IF(ISBLANK(様式!C201),\"\",様式!C201)","v":""},{"$f":"IF(ISBLANK(様式!D201),\"\",様式!D201)","v":""},{"$f":"IF(ISBLANK(様式!E201),\"\",様式!E201)","v":""},{"$f":"IF(ISBLANK(様式!F201),\"\",様式!F201)","v":""},{"$f":"IF(ISBLANK(様式!G201),\"\",様式!G201)","v":""}]
[null,null,null,{"$f":"IF(ISBLANK(様式!B202),\"\",様式!B202)","v":""},{"$f":"IF(ISBLANK(様式!C202),\"\",様式!C202)","v":""},{"$f":"IF(ISBLANK(様式!D202),\"\",様式!D202)","v":""},{"$f":"IF(ISBLANK(様式!E202),\"\",様式!E202)","v":""},{"$f":"IF(ISBLANK(様式!F202),\"\",様式!F202)","v":""},{"$f":"IF(ISBLANK(様式!G202),\"\",様式!G202)","v":""}]
[null,null,null,{"$f":"IF(ISBLANK(様式!B203),\"\",様式!B203)","v":""},{"$f":"IF(ISBLANK(様式!C203),\"\",様式!C203)","v":""},{"$f":"IF(ISBLANK(様式!D203),\"\",様式!D203)","v":""},{"$f":"IF(ISBLANK(様式!E203),\"\",様式!E203)","v":""},{"$f":"IF(ISBLANK(様式!F203),\"\",様式!F203)","v":""},{"$f":"IF(ISBLANK(様式!G203),\"\",様式!G203)","v":""}]
[null,null,null,{"$f":"IF(ISBLANK(様式!B204),\"\",様式!B204)","v":""},{"$f":"IF(ISBLANK(様式!C204),\"\",様式!C204)","v":""},{"$f":"IF(ISBLANK(様式!D204),\"\",様式!D204)","v":""},{"$f":"IF(ISBLANK(様式!E204),\"\",様式!E204)","v":""},{"$f":"IF(ISBLANK(様式!F204),\"\",様式!F204)","v":""},{"$f":"IF(ISBLANK(様式!G204),\"\",様式!G204)","v":""}]
[null,null,null,{"$f":"IF(ISBLANK(様式!B205),\"\",様式!B205)","v":""},{"$f":"IF(ISBLANK(様式!C205),\"\",様式!C205)","v":""},{"$f":"IF(ISBLANK(様式!D205),\"\",様式!D205)","v":""},{"$f":"IF(ISBLANK(様式!E205),\"\",様式!E205)","v":""},{"$f":"IF(ISBLANK(様式!F205),\"\",様式!F205)","v":""},{"$f":"IF(ISBLANK(様式!G205),\"\",様式!G205)","v":""}]
[null,null,null,{"$f":"IF(ISBLANK(様式!B206),\"\",様式!B206)","v":""},{"$f":"IF(ISBLANK(様式!C206),\"\",様式!C206)","v":""},{"$f":"IF(ISBLANK(様式!D206),\"\",様式!D206)","v":""},{"$f":"IF(ISBLANK(様式!E206),\"\",様式!E206)","v":""},{"$f":"IF(ISBLANK(様式!F206),\"\",様式!F206)","v":""},{"$f":"IF(ISBLANK(様式!G206),\"\",様式!G206)","v":""}]
[null,null,null,{"$f":"IF(ISBLANK(様式!B207),\"\",様式!B207)","v":""},{"$f":"IF(ISBLANK(様式!C207),\"\",様式!C207)","v":""},{"$f":"IF(ISBLANK(様式!D207),\"\",様式!D207)","v":""},{"$f":"IF(ISBLANK(様式!E207),\"\",様式!E207)","v":""},{"$f":"IF(ISBLANK(様式!F207),\"\",様式!F207)","v":""},{"$f":"IF(ISBLANK(様式!G207),\"\",様式!G207)","v":""}]
[null,null,null,{"$f":"IF(ISBLANK(様式!B208),\"\",様式!B208)","v":""},{"$f":"IF(ISBLANK(様式!C208),\"\",様式!C208)","v":""},{"$f":"IF(ISBLANK(様式!D208),\"\",様式!D208)","v":""},{"$f":"IF(ISBLANK(様式!E208),\"\",様式!E208)","v":""},{"$f":"IF(ISBLANK(様式!F208),\"\",様式!F208)","v":""},{"$f":"IF(ISBLANK(様式!G208),\"\",様式!G208)","v":""}]
[null,null,null,{"$f":"IF(ISBLANK(様式!B209),\"\",様式!B209)","v":""},{"$f":"IF(ISBLANK(様式!C209),\"\",様式!C209)","v":""},{"$f":"IF(ISBLANK(様式!D209),\"\",様式!D209)","v":""},{"$f":"IF(ISBLANK(様式!E209),\"\",様式!E209)","v":""},{"$f":"IF(ISBLANK(様式!F209),\"\",様式!F209)","v":""},{"$f":"IF(ISBLANK(様式!G209),\"\",様式!G209)","v":""}]
[null,null,null,{"$f":"IF(ISBLANK(様式!B210),\"\",様式!B210)","v":""},{"$f":"IF(ISBLANK(様式!C210),\"\",様式!C210)","v":""},{"$f":"IF(ISBLANK(様式!D210),\"\",様式!D210)","v":""},{"$f":"IF(ISBLANK(様式!E210),\"\",様式!E210)","v":""},{"$f":"IF(ISBLANK(様式!F210),\"\",様式!F210)","v":""},{"$f":"IF(ISBLANK(様式!G210),\"\",様式!G210)","v":""}]
[null,null,null,{"$f":"IF(ISBLANK(様式!B211),\"\",様式!B211)","v":""},{"$f":"IF(ISBLANK(様式!C211),\"\",様式!C211)","v":""},{"$f":"IF(ISBLANK(様式!D211),\"\",様式!D211)","v":""},{"$f":"IF(ISBLANK(様式!E211),\"\",様式!E211)","v":""},{"$f":"IF(ISBLANK(様式!F211),\"\",様式!F211)","v":""},{"$f":"IF(ISBLANK(様式!G211),\"\",様式!G211)","v":""}]
[null,null,null,{"$f":"IF(ISBLANK(様式!B212),\"\",様式!B212)","v":""},{"$f":"IF(ISBLANK(様式!C212),\"\",様式!C212)","v":""},{"$f":"IF(ISBLANK(様式!D212),\"\",様式!D212)","v":""},{"$f":"IF(ISBLANK(様式!E212),\"\",様式!E212)","v":""},{"$f":"IF(ISBLANK(様式!F212),\"\",様式!F212)","v":""},{"$f":"IF(ISBLANK(様式!G212),\"\",様式!G212)","v":""}]
[null,null,null,{"$f":"IF(ISBLANK(様式!B213),\"\",様式!B213)","v":""},{"$f":"IF(ISBLANK(様式!C213),\"\",様式!C213)","v":""},{"$f":"IF(ISBLANK(様式!D213),\"\",様式!D213)","v":""},{"$f":"IF(ISBLANK(様式!E213),\"\",様式!E213)","v":""},{"$f":"IF(ISBLANK(様式!F213),\"\",様式!F213)","v":""},{"$f":"IF(ISBLANK(様式!G213),\"\",様式!G213)","v":""}]
[null,null,null,{"$f":"IF(ISBLANK(様式!B214),\"\",様式!B214)","v":""},{"$f":"IF(ISBLANK(様式!C214),\"\",様式!C214)","v":""},{"$f":"IF(ISBLANK(様式!D214),\"\",様式!D214)","v":""},{"$f":"IF(ISBLANK(様式!E214),\"\",様式!E214)","v":""},{"$f":"IF(ISBLANK(様式!F214),\"\",様式!F214)","v":""},{"$f":"IF(ISBLANK(様式!G214),\"\",様式!G214)","v":""}]
[null,null,null,{"$f":"IF(ISBLANK(様式!B215),\"\",様式!B215)","v":""},{"$f":"IF(ISBLANK(様式!C215),\"\",様式!C215)","v":""},{"$f":"IF(ISBLANK(様式!D215),\"\",様式!D215)","v":""},{"$f":"IF(ISBLANK(様式!E215),\"\",様式!E215)","v":""},{"$f":"IF(ISBLANK(様式!F215),\"\",様式!F215)","v":""},{"$f":"IF(ISBLANK(様式!G215),\"\",様式!G215)","v":""}]
[null,null,null,{"$f":"IF(ISBLANK(様式!B216),\"\",様式!B216)","v":""},{"$f":"IF(ISBLANK(様式!C216),\"\",様式!C216)","v":""},{"$f":"IF(ISBLANK(様式!D216),\"\",様式!D216)","v":""},{"$f":"IF(ISBLANK(様式!E216),\"\",様式!E216)","v":""},{"$f":"IF(ISBLANK(様式!F216),\"\",様式!F216)","v":""},{"$f":"IF(ISBLANK(様式!G216),\"\",様式!G216)","v":""}]
[null,null,null,{"$f":"IF(ISBLANK(様式!B217),\"\",様式!B217)","v":""},{"$f":"IF(ISBLANK(様式!C217),\"\",様式!C217)","v":""},{"$f":"IF(ISBLANK(様式!D217),\"\",様式!D217)","v":""},{"$f":"IF(ISBLANK(様式!E217),\"\",様式!E217)","v":""},{"$f":"IF(ISBLANK(様式!F217),\"\",様式!F217)","v":""},{"$f":"IF(ISBLANK(様式!G217),\"\",様式!G217)","v":""}]
[null,null,null,{"$f":"IF(ISBLANK(様式!B218),\"\",様式!B218)","v":""},{"$f":"IF(ISBLANK(様式!C218),\"\",様式!C218)","v":""},{"$f":"IF(ISBLANK(様式!D218),\"\",様式!D218)","v":""},{"$f":"IF(ISBLANK(様式!E218),\"\",様式!E218)","v":""},{"$f":"IF(ISBLANK(様式!F218),\"\",様式!F218)","v":""},{"$f":"IF(ISBLANK(様式!G218),\"\",様式!G218)","v":""}]
[null,null,null,{"$f":"IF(ISBLANK(様式!B219),\"\",様式!B219)","v":""},{"$f":"IF(ISBLANK(様式!C219),\"\",様式!C219)","v":""},{"$f":"IF(ISBLANK(様式!D219),\"\",様式!D219)","v":""},{"$f":"IF(ISBLANK(様式!E219),\"\",様式!E219)","v":""},{"$f":"IF(ISBLANK(様式!F219),\"\",様式!F219)","v":""},{"$f":"IF(ISBLANK(様式!G219),\"\",様式!G219)","v":""}]
[null,null,null,{"$f":"IF(ISBLANK(様式!B220),\"\",様式!B220)","v":""},{"$f":"IF(ISBLANK(様式!C220),\"\",様式!C220)","v":""},{"$f":"IF(ISBLANK(様式!D220),\"\",様式!D220)","v":""},{"$f":"IF(ISBLANK(様式!E220),\"\",様式!E220)","v":""},{"$f":"IF(ISBLANK(様式!F220),\"\",様式!F220)","v":""},{"$f":"IF(ISBLANK(様式!G220),\"\",様式!G220)","v":""}]
[null,null,null,{"$f":"IF(ISBLANK(様式!B221),\"\",様式!B221)","v":""},{"$f":"IF(ISBLANK(様式!C221),\"\",様式!C221)","v":""},{"$f":"IF(ISBLANK(様式!D221),\"\",様式!D221)","v":""},{"$f":"IF(ISBLANK(様式!E221),\"\",様式!E221)","v":""},{"$f":"IF(ISBLANK(様式!F221),\"\",様式!F221)","v":""},{"$f":"IF(ISBLANK(様式!G221),\"\",様式!G221)","v":""}]
[null,null,null,{"$f":"IF(ISBLANK(様式!B222),\"\",様式!B222)","v":""},{"$f":"IF(ISBLANK(様式!C222),\"\",様式!C222)","v":""},{"$f":"IF(ISBLANK(様式!D222),\"\",様式!D222)","v":""},{"$f":"IF(ISBLANK(様式!E222),\"\",様式!E222)","v":""},{"$f":"IF(ISBLANK(様式!F222),\"\",様式!F222)","v":""},{"$f":"IF(ISBLANK(様式!G222),\"\",様式!G222)","v":""}]
[null,null,null,{"$f":"IF(ISBLANK(様式!B223),\"\",様式!B223)","v":""},{"$f":"IF(ISBLANK(様式!C223),\"\",様式!C223)","v":""},{"$f":"IF(ISBLANK(様式!D223),\"\",様式!D223)","v":""},{"$f":"IF(ISBLANK(様式!E223),\"\",様式!E223)","v":""},{"$f":"IF(ISBLANK(様式!F223),\"\",様式!F223)","v":""},{"$f":"IF(ISBLANK(様式!G223),\"\",様式!G223)","v":""}]
[null,null,null,{"$f":"IF(ISBLANK(様式!B224),\"\",様式!B224)","v":""},{"$f":"IF(ISBLANK(様式!C224),\"\",様式!C224)","v":""},{"$f":"IF(ISBLANK(様式!D224),\"\",様式!D224)","v":""},{"$f":"IF(ISBLANK(様式!E224),\"\",様式!E224)","v":""},{"$f":"IF(ISBLANK(様式!F224),\"\",様式!F224)","v":""},{"$f":"IF(ISBLANK(様式!G224),\"\",様式!G224)","v":""}]
[null,null,null,{"$f":"IF(ISBLANK(様式!B225),\"\",様式!B225)","v":""},{"$f":"IF(ISBLANK(様式!C225),\"\",様式!C225)","v":""},{"$f":"IF(ISBLANK(様式!D225),\"\",様式!D225)","v":""},{"$f":"IF(ISBLANK(様式!E225),\"\",様式!E225)","v":""},{"$f":"IF(ISBLANK(様式!F225),\"\",様式!F225)","v":""},{"$f":"IF(ISBLANK(様式!G225),\"\",様式!G225)","v":""}]
[null,null,null,{"$f":"IF(ISBLANK(様式!B226),\"\",様式!B226)","v":""},{"$f":"IF(ISBLANK(様式!C226),\"\",様式!C226)","v":""},{"$f":"IF(ISBLANK(様式!D226),\"\",様式!D226)","v":""},{"$f":"IF(ISBLANK(様式!E226),\"\",様式!E226)","v":""},{"$f":"IF(ISBLANK(様式!F226),\"\",様式!F226)","v":""},{"$f":"IF(ISBLANK(様式!G226),\"\",様式!G226)","v":""}]
[null,null,null,{"$f":"IF(ISBLANK(様式!B227),\"\",様式!B227)","v":""},{"$f":"IF(ISBLANK(様式!C227),\"\",様式!C227)","v":""},{"$f":"IF(ISBLANK(様式!D227),\"\",様式!D227)","v":""},{"$f":"IF(ISBLANK(様式!E227),\"\",様式!E227)","v":""},{"$f":"IF(ISBLANK(様式!F227),\"\",様式!F227)","v":""},{"$f":"IF(ISBLANK(様式!G227),\"\",様式!G227)","v":""}]
[null,null,null,{"$f":"IF(ISBLANK(様式!B228),\"\",様式!B228)","v":""},{"$f":"IF(ISBLANK(様式!C228),\"\",様式!C228)","v":""},{"$f":"IF(ISBLANK(様式!D228),\"\",様式!D228)","v":""},{"$f":"IF(ISBLANK(様式!E228),\"\",様式!E228)","v":""},{"$f":"IF(ISBLANK(様式!F228),\"\",様式!F228)","v":""},{"$f":"IF(ISBLANK(様式!G228),\"\",様式!G228)","v":""}]
[null,null,null,{"$f":"IF(ISBLANK(様式!B229),\"\",様式!B229)","v":""},{"$f":"IF(ISBLANK(様式!C229),\"\",様式!C229)","v":""},{"$f":"IF(ISBLANK(様式!D229),\"\",様式!D229)","v":""},{"$f":"IF(ISBLANK(様式!E229),\"\",様式!E229)","v":""},{"$f":"IF(ISBLANK(様式!F229),\"\",様式!F229)","v":""},{"$f":"IF(ISBLANK(様式!G229),\"\",様式!G229)","v":""}]
[null,null,null,{"$f":"IF(ISBLANK(様式!B236),\"\",様式!B236)","v":""},{"$f":"IF(ISBLANK(様式!C236),\"\",様式!C236)","v":""},{"$f":"IF(ISBLANK(様式!D236),\"\",様式!D236)","v":""},{"$f":"IF(ISBLANK(様式!E236),\"\",様式!E236)","v":""},{"$f":"IF(ISBLANK(様式!F236),\"\",様式!F236)","v":""},{"$f":"IF(ISBLANK(様式!G236),\"\",様式!G236)","v":""}]
[null,null,null,{"$f":"IF(ISBLANK(様式!B237),\"\",様式!B237)","v":""},{"$f":"IF(ISBLANK(様式!C237),\"\",様式!C237)","v":""},{"$f":"IF(ISBLANK(様式!D237),\"\",様式!D237)","v":""},{"$f":"IF(ISBLANK(様式!E237),\"\",様式!E237)","v":""},{"$f":"IF(ISBLANK(様式!F237),\"\",様式!F237)","v":""},{"$f":"IF(ISBLANK(様式!G237),\"\",様式!G237)","v":""}]
[null,null,null,{"$f":"IF(ISBLANK(様式!B238),\"\",様式!B238)","v":""},{"$f":"IF(ISBLANK(様式!C238),\"\",様式!C238)","v":""},{"$f":"IF(ISBLANK(様式!D238),\"\",様式!D238)","v":""},{"$f":"IF(ISBLANK(様式!E238),\"\",様式!E238)","v":""},{"$f":"IF(ISBLANK(様式!F238),\"\",様式!F238)","v":""},{"$f":"IF(ISBLANK(様式!G238),\"\",様式!G238)","v":""}]
[null,null,null,{"$f":"IF(ISBLANK(様式!B239),\"\",様式!B239)","v":""},{"$f":"IF(ISBLANK(様式!C239),\"\",様式!C239)","v":""},{"$f":"IF(ISBLANK(様式!D239),\"\",様式!D239)","v":""},{"$f":"IF(ISBLANK(様式!E239),\"\",様式!E239)","v":""},{"$f":"IF(ISBLANK(様式!F239),\"\",様式!F239)","v":""},{"$f":"IF(ISBLANK(様式!G239),\"\",様式!G239)","v":""}]
[null,null,null,{"$f":"IF(ISBLANK(様式!B240),\"\",様式!B240)","v":""},{"$f":"IF(ISBLANK(様式!C240),\"\",様式!C240)","v":""},{"$f":"IF(ISBLANK(様式!D240),\"\",様式!D240)","v":""},{"$f":"IF(ISBLANK(様式!E240),\"\",様式!E240)","v":""},{"$f":"IF(ISBLANK(様式!F240),\"\",様式!F240)","v":""},{"$f":"IF(ISBLANK(様式!G240),\"\",様式!G240)","v":""}]
[null,null,null,{"$f":"IF(ISBLANK(様式!B241),\"\",様式!B241)","v":""},{"$f":"IF(ISBLANK(様式!C241),\"\",様式!C241)","v":""},{"$f":"IF(ISBLANK(様式!D241),\"\",様式!D241)","v":""},{"$f":"IF(ISBLANK(様式!E241),\"\",様式!E241)","v":""},{"$f":"IF(ISBLANK(様式!F241),\"\",様式!F241)","v":""},{"$f":"IF(ISBLANK(様式!G241),\"\",様式!G241)","v":""}]
[null,null,null,{"$f":"IF(ISBLANK(様式!B242),\"\",様式!B242)","v":""},{"$f":"IF(ISBLANK(様式!C242),\"\",様式!C242)","v":""},{"$f":"IF(ISBLANK(様式!D242),\"\",様式!D242)","v":""},{"$f":"IF(ISBLANK(様式!E242),\"\",様式!E242)","v":""},{"$f":"IF(ISBLANK(様式!F242),\"\",様式!F242)","v":""},{"$f":"IF(ISBLANK(様式!G242),\"\",様式!G242)","v":""}]
[null,null,null,{"$f":"IF(ISBLANK(様式!B243),\"\",様式!B243)","v":""},{"$f":"IF(ISBLANK(様式!C243),\"\",様式!C243)","v":""},{"$f":"IF(ISBLANK(様式!D243),\"\",様式!D243)","v":""},{"$f":"IF(ISBLANK(様式!E243),\"\",様式!E243)","v":""},{"$f":"IF(ISBLANK(様式!F243),\"\",様式!F243)","v":""},{"$f":"IF(ISBLANK(様式!G243),\"\",様式!G243)","v":""}]
[null,null,null,{"$f":"IF(ISBLANK(様式!B244),\"\",様式!B244)","v":""},{"$f":"IF(ISBLANK(様式!C244),\"\",様式!C244)","v":""},{"$f":"IF(ISBLANK(様式!D244),\"\",様式!D244)","v":""},{"$f":"IF(ISBLANK(様式!E244),\"\",様式!E244)","v":""},{"$f":"IF(ISBLANK(様式!F244),\"\",様式!F244)","v":""},{"$f":"IF(ISBLANK(様式!G244),\"\",様式!G244)","v":""}]
[null,null,null,{"$f":"IF(ISBLANK(様式!B245),\"\",様式!B245)","v":""},{"$f":"IF(ISBLANK(様式!C245),\"\",様式!C245)","v":""},{"$f":"IF(ISBLANK(様式!D245),\"\",様式!D245)","v":""},{"$f":"IF(ISBLANK(様式!E245),\"\",様式!E245)","v":""},{"$f":"IF(ISBLANK(様式!F245),\"\",様式!F245)","v":""},{"$f":"IF(ISBLANK(様式!G245),\"\",様式!G245)","v":""}]
[null,null,null,{"$f":"IF(ISBLANK(様式!B246),\"\",様式!B246)","v":""},{"$f":"IF(ISBLANK(様式!C246),\"\",様式!C246)","v":""},{"$f":"IF(ISBLANK(様式!D246),\"\",様式!D246)","v":""},{"$f":"IF(ISBLANK(様式!E246),\"\",様式!E246)","v":""},{"$f":"IF(ISBLANK(様式!F246),\"\",様式!F246)","v":""},{"$f":"IF(ISBLANK(様式!G246),\"\",様式!G246)","v":""}]
[null,null,null,{"$f":"IF(ISBLANK(様式!B247),\"\",様式!B247)","v":""},{"$f":"IF(ISBLANK(様式!C247),\"\",様式!C247)","v":""},{"$f":"IF(ISBLANK(様式!D247),\"\",様式!D247)","v":""},{"$f":"IF(ISBLANK(様式!E247),\"\",様式!E247)","v":""},{"$f":"IF(ISBLANK(様式!F247),\"\",様式!F247)","v":""},{"$f":"IF(ISBLANK(様式!G247),\"\",様式!G247)","v":""}]
[null,null,null,{"$f":"IF(ISBLANK(様式!B248),\"\",様式!B248)","v":""},{"$f":"IF(ISBLANK(様式!C248),\"\",様式!C248)","v":""},{"$f":"IF(ISBLANK(様式!D248),\"\",様式!D248)","v":""},{"$f":"IF(ISBLANK(様式!E248),\"\",様式!E248)","v":""},{"$f":"IF(ISBLANK(様式!F248),\"\",様式!F248)","v":""},{"$f":"IF(ISBLANK(様式!G248),\"\",様式!G248)","v":""}]
[null,null,null,{"$f":"IF(ISBLANK(様式!B249),\"\",様式!B249)","v":""},{"$f":"IF(ISBLANK(様式!C249),\"\",様式!C249)","v":""},{"$f":"IF(ISBLANK(様式!D249),\"\",様式!D249)","v":""},{"$f":"IF(ISBLANK(様式!E249),\"\",様式!E249)","v":""},{"$f":"IF(ISBLANK(様式!F249),\"\",様式!F249)","v":""},{"$f":"IF(ISBLANK(様式!G249),\"\",様式!G249)","v":""}]
[null,null,null,{"$f":"IF(ISBLANK(様式!B250),\"\",様式!B250)","v":""},{"$f":"IF(ISBLANK(様式!C250),\"\",様式!C250)","v":""},{"$f":"IF(ISBLANK(様式!D250),\"\",様式!D250)","v":""},{"$f":"IF(ISBLANK(様式!E250),\"\",様式!E250)","v":""},{"$f":"IF(ISBLANK(様式!F250),\"\",様式!F250)","v":""},{"$f":"IF(ISBLANK(様式!G250),\"\",様式!G250)","v":""}]
[null,null,null,{"$f":"IF(ISBLANK(様式!B251),\"\",様式!B251)","v":""},{"$f":"IF(ISBLANK(様式!C251),\"\",様式!C251)","v":""},{"$f":"IF(ISBLANK(様式!D251),\"\",様式!D251)","v":""},{"$f":"IF(ISBLANK(様式!E251),\"\",様式!E251)","v":""},{"$f":"IF(ISBLANK(様式!F251),\"\",様式!F251)","v":""},{"$f":"IF(ISBLANK(様式!G251),\"\",様式!G251)","v":""}]
[null,null,null,{"$f":"IF(ISBLANK(様式!B252),\"\",様式!B252)","v":""},{"$f":"IF(ISBLANK(様式!C252),\"\",様式!C252)","v":""},{"$f":"IF(ISBLANK(様式!D252),\"\",様式!D252)","v":""},{"$f":"IF(ISBLANK(様式!E252),\"\",様式!E252)","v":""},{"$f":"IF(ISBLANK(様式!F252),\"\",様式!F252)","v":""},{"$f":"IF(ISBLANK(様式!G252),\"\",様式!G252)","v":""}]
[null,null,null,{"$f":"IF(ISBLANK(様式!B253),\"\",様式!B253)","v":""},{"$f":"IF(ISBLANK(様式!C253),\"\",様式!C253)","v":""},{"$f":"IF(ISBLANK(様式!D253),\"\",様式!D253)","v":""},{"$f":"IF(ISBLANK(様式!E253),\"\",様式!E253)","v":""},{"$f":"IF(ISBLANK(様式!F253),\"\",様式!F253)","v":""},{"$f":"IF(ISBLANK(様式!G253),\"\",様式!G253)","v":""}]
[null,null,null,{"$f":"IF(ISBLANK(様式!B254),\"\",様式!B254)","v":""},{"$f":"IF(ISBLANK(様式!C254),\"\",様式!C254)","v":""},{"$f":"IF(ISBLANK(様式!D254),\"\",様式!D254)","v":""},{"$f":"IF(ISBLANK(様式!E254),\"\",様式!E254)","v":""},{"$f":"IF(ISBLANK(様式!F254),\"\",様式!F254)","v":""},{"$f":"IF(ISBLANK(様式!G254),\"\",様式!G254)","v":""}]
[null,null,null,{"$f":"IF(ISBLANK(様式!B255),\"\",様式!B255)","v":""},{"$f":"IF(ISBLANK(様式!C255),\"\",様式!C255)","v":""},{"$f":"IF(ISBLANK(様式!D255),\"\",様式!D255)","v":""},{"$f":"IF(ISBLANK(様式!E255),\"\",様式!E255)","v":""},{"$f":"IF(ISBLANK(様式!F255),\"\",様式!F255)","v":""},{"$f":"IF(ISBLANK(様式!G255),\"\",様式!G255)","v":""}]
[null,null,null,{"$f":"IF(ISBLANK(様式!B256),\"\",様式!B256)","v":""},{"$f":"IF(ISBLANK(様式!C256),\"\",様式!C256)","v":""},{"$f":"IF(ISBLANK(様式!D256),\"\",様式!D256)","v":""},{"$f":"IF(ISBLANK(様式!E256),\"\",様式!E256)","v":""},{"$f":"IF(ISBLANK(様式!F256),\"\",様式!F256)","v":""},{"$f":"IF(ISBLANK(様式!G256),\"\",様式!G256)","v":""}]
[null,null,null,{"$f":"IF(ISBLANK(様式!B257),\"\",様式!B257)","v":""},{"$f":"IF(ISBLANK(様式!C257),\"\",様式!C257)","v":""},{"$f":"IF(ISBLANK(様式!D257),\"\",様式!D257)","v":""},{"$f":"IF(ISBLANK(様式!E257),\"\",様式!E257)","v":""},{"$f":"IF(ISBLANK(様式!F257),\"\",様式!F257)","v":""},{"$f":"IF(ISBLANK(様式!G257),\"\",様式!G257)","v":""}]
[null,null,null,{"$f":"IF(ISBLANK(様式!B258),\"\",様式!B258)","v":""},{"$f":"IF(ISBLANK(様式!C258),\"\",様式!C258)","v":""},{"$f":"IF(ISBLANK(様式!D258),\"\",様式!D258)","v":""},{"$f":"IF(ISBLANK(様式!E258),\"\",様式!E258)","v":""},{"$f":"IF(ISBLANK(様式!F258),\"\",様式!F258)","v":""},{"$f":"IF(ISBLANK(様式!G258),\"\",様式!G258)","v":""}]
[null,null,null,{"$f":"IF(ISBLANK(様式!B259),\"\",様式!B259)","v":""},{"$f":"IF(ISBLANK(様式!C259),\"\",様式!C259)","v":""},{"$f":"IF(ISBLANK(様式!D259),\"\",様式!D259)","v":""},{"$f":"IF(ISBLANK(様式!E259),\"\",様式!E259)","v":""},{"$f":"IF(ISBLANK(様式!F259),\"\",様式!F259)","v":""},{"$f":"IF(ISBLANK(様式!G259),\"\",様式!G259)","v":""}]
[null,null,null,{"$f":"IF(ISBLANK(様式!B260),\"\",様式!B260)","v":""},{"$f":"IF(ISBLANK(様式!C260),\"\",様式!C260)","v":""},{"$f":"IF(ISBLANK(様式!D260),\"\",様式!D260)","v":""},{"$f":"IF(ISBLANK(様式!E260),\"\",様式!E260)","v":""},{"$f":"IF(ISBLANK(様式!F260),\"\",様式!F260)","v":""},{"$f":"IF(ISBLANK(様式!G260),\"\",様式!G260)","v":""}]
[null,null,null,{"$f":"IF(ISBLANK(様式!B261),\"\",様式!B261)","v":""},{"$f":"IF(ISBLANK(様式!C261),\"\",様式!C261)","v":""},{"$f":"IF(ISBLANK(様式!D261),\"\",様式!D261)","v":""},{"$f":"IF(ISBLANK(様式!E261),\"\",様式!E261)","v":""},{"$f":"IF(ISBLANK(様式!F261),\"\",様式!F261)","v":""},{"$f":"IF(ISBLANK(様式!G261),\"\",様式!G261)","v":""}]
[null,null,null,{"$f":"IF(ISBLANK(様式!B262),\"\",様式!B262)","v":""},{"$f":"IF(ISBLANK(様式!C262),\"\",様式!C262)","v":""},{"$f":"IF(ISBLANK(様式!D262),\"\",様式!D262)","v":""},{"$f":"IF(ISBLANK(様式!E262),\"\",様式!E262)","v":""},{"$f":"IF(ISBLANK(様式!F262),\"\",様式!F262)","v":""},{"$f":"IF(ISBLANK(様式!G262),\"\",様式!G262)","v":""}]
[null,null,null,{"$f":"IF(ISBLANK(様式!B263),\"\",様式!B263)","v":""},{"$f":"IF(ISBLANK(様式!C263),\"\",様式!C263)","v":""},{"$f":"IF(ISBLANK(様式!D263),\"\",様式!D263)","v":""},{"$f":"IF(ISBLANK(様式!E263),\"\",様式!E263)","v":""},{"$f":"IF(ISBLANK(様式!F263),\"\",様式!F263)","v":""},{"$f":"IF(ISBLANK(様式!G263),\"\",様式!G263)","v":""}]
[null,null,null,{"$f":"IF(ISBLANK(様式!B264),\"\",様式!B264)","v":""},{"$f":"IF(ISBLANK(様式!C264),\"\",様式!C264)","v":""},{"$f":"IF(ISBLANK(様式!D264),\"\",様式!D264)","v":""},{"$f":"IF(ISBLANK(様式!E264),\"\",様式!E264)","v":""},{"$f":"IF(ISBLANK(様式!F264),\"\",様式!F264)","v":""},{"$f":"IF(ISBLANK(様式!G264),\"\",様式!G264)","v":""}]
[null,null,null,{"$f":"IF(ISBLANK(様式!B265),\"\",様式!B265)","v":""},{"$f":"IF(ISBLANK(様式!C265),\"\",様式!C265)","v":""},{"$f":"IF(ISBLANK(様式!D265),\"\",様式!D265)","v":""},{"$f":"IF(ISBLANK(様式!E265),\"\",様式!E265)","v":""},{"$f":"IF(ISBLANK(様式!F265),\"\",様式!F265)","v":""},{"$f":"IF(ISBLANK(様式!G265),\"\",様式!G265)","v":""}]
[null,null,null,{"$f":"IF(ISBLANK(様式!B266),\"\",様式!B266)","v":""},{"$f":"IF(ISBLANK(様式!C266),\"\",様式!C266)","v":""},{"$f":"IF(ISBLANK(様式!D266),\"\",様式!D266)","v":""},{"$f":"IF(ISBLANK(様式!E266),\"\",様式!E266)","v":""},{"$f":"IF(ISBLANK(様式!F266),\"\",様式!F266)","v":""},{"$f":"IF(ISBLANK(様式!G266),\"\",様式!G266)","v":""}]
[null,null,null,{"$f":"IF(ISBLANK(様式!B267),\"\",様式!B267)","v":""},{"$f":"IF(ISBLANK(様式!C267),\"\",様式!C267)","v":""},{"$f":"IF(ISBLANK(様式!D267),\"\",様式!D267)","v":""},{"$f":"IF(ISBLANK(様式!E267),\"\",様式!E267)","v":""},{"$f":"IF(ISBLANK(様式!F267),\"\",様式!F267)","v":""},{"$f":"IF(ISBLANK(様式!G267),\"\",様式!G267)","v":""}]
[null,null,null,{"$f":"IF(ISBLANK(様式!B268),\"\",様式!B268)","v":""},{"$f":"IF(ISBLANK(様式!C268),\"\",様式!C268)","v":""},{"$f":"IF(ISBLANK(様式!D268),\"\",様式!D268)","v":""},{"$f":"IF(ISBLANK(様式!E268),\"\",様式!E268)","v":""},{"$f":"IF(ISBLANK(様式!F268),\"\",様式!F268)","v":""},{"$f":"IF(ISBLANK(様式!G268),\"\",様式!G268)","v":""}]
[null,null,null,{"$f":"IF(ISBLANK(様式!B269),\"\",様式!B269)","v":""},{"$f":"IF(ISBLANK(様式!C269),\"\",様式!C269)","v":""},{"$f":"IF(ISBLANK(様式!D269),\"\",様式!D269)","v":""},{"$f":"IF(ISBLANK(様式!E269),\"\",様式!E269)","v":""},{"$f":"IF(ISBLANK(様式!F269),\"\",様式!F269)","v":""},{"$f":"IF(ISBLANK(様式!G269),\"\",様式!G269)","v":""}]
[null,null,null,{"$f":"IF(ISBLANK(様式!B270),\"\",様式!B270)","v":""},{"$f":"IF(ISBLANK(様式!C270),\"\",様式!C270)","v":""},{"$f":"IF(ISBLANK(様式!D270),\"\",様式!D270)","v":""},{"$f":"IF(ISBLANK(様式!E270),\"\",様式!E270)","v":""},{"$f":"IF(ISBLANK(様式!F270),\"\",様式!F270)","v":""},{"$f":"IF(ISBLANK(様式!G270),\"\",様式!G270)","v":""}]
[null,null,null,{"$f":"IF(ISBLANK(様式!B271),\"\",様式!B271)","v":""},{"$f":"IF(ISBLANK(様式!C271),\"\",様式!C271)","v":""},{"$f":"IF(ISBLANK(様式!D271),\"\",様式!D271)","v":""},{"$f":"IF(ISBLANK(様式!E271),\"\",様式!E271)","v":""},{"$f":"IF(ISBLANK(様式!F271),\"\",様式!F271)","v":""},{"$f":"IF(ISBLANK(様式!G271),\"\",様式!G271)","v":""}]
[null,null,null,{"$f":"IF(ISBLANK(様式!B272),\"\",様式!B272)","v":""},{"$f":"IF(ISBLANK(様式!C272),\"\",様式!C272)","v":""},{"$f":"IF(ISBLANK(様式!D272),\"\",様式!D272)","v":""},{"$f":"IF(ISBLANK(様式!E272),\"\",様式!E272)","v":""},{"$f":"IF(ISBLANK(様式!F272),\"\",様式!F272)","v":""},{"$f":"IF(ISBLANK(様式!G272),\"\",様式!G272)","v":""}]
[null,null,null,{"$f":"IF(ISBLANK(様式!B273),\"\",様式!B273)","v":""},{"$f":"IF(ISBLANK(様式!C273),\"\",様式!C273)","v":""},{"$f":"IF(ISBLANK(様式!D273),\"\",様式!D273)","v":""},{"$f":"IF(ISBLANK(様式!E273),\"\",様式!E273)","v":""},{"$f":"IF(ISBLANK(様式!F273),\"\",様式!F273)","v":""},{"$f":"IF(ISBLANK(様式!G273),\"\",様式!G273)","v":""}]
[null,null,null,{"$f":"IF(ISBLANK(様式!B274),\"\",様式!B274)","v":""},{"$f":"IF(ISBLANK(様式!C274),\"\",様式!C274)","v":""},{"$f":"IF(ISBLANK(様式!D274),\"\",様式!D274)","v":""},{"$f":"IF(ISBLANK(様式!E274),\"\",様式!E274)","v":""},{"$f":"IF(ISBLANK(様式!F274),\"\",様式!F274)","v":""},{"$f":"IF(ISBLANK(様式!G274),\"\",様式!G274)","v":""}]
[null,null,null,{"$f":"IF(ISBLANK(様式!B275),\"\",様式!B275)","v":""},{"$f":"IF(ISBLANK(様式!C275),\"\",様式!C275)","v":""},{"$f":"IF(ISBLANK(様式!D275),\"\",様式!D275)","v":""},{"$f":"IF(ISBLANK(様式!E275),\"\",様式!E275)","v":""},{"$f":"IF(ISBLANK(様式!F275),\"\",様式!F275)","v":""},{"$f":"IF(ISBLANK(様式!G275),\"\",様式!G275)","v":""}]
[null,null,null,{"$f":"IF(ISBLANK(様式!B282),\"\",様式!B282)","v":""},{"$f":"IF(ISBLANK(様式!C282),\"\",様式!C282)","v":""},{"$f":"IF(ISBLANK(様式!D282),\"\",様式!D282)","v":""},{"$f":"IF(ISBLANK(様式!E282),\"\",様式!E282)","v":""},{"$f":"IF(ISBLANK(様式!F282),\"\",様式!F282)","v":""},{"$f":"IF(ISBLANK(様式!G282),\"\",様式!G282)","v":""}]
[null,null,null,{"$f":"IF(ISBLANK(様式!B283),\"\",様式!B283)","v":""},{"$f":"IF(ISBLANK(様式!C283),\"\",様式!C283)","v":""},{"$f":"IF(ISBLANK(様式!D283),\"\",様式!D283)","v":""},{"$f":"IF(ISBLANK(様式!E283),\"\",様式!E283)","v":""},{"$f":"IF(ISBLANK(様式!F283),\"\",様式!F283)","v":""},{"$f":"IF(ISBLANK(様式!G283),\"\",様式!G283)","v":""}]
[null,null,null,{"$f":"IF(ISBLANK(様式!B284),\"\",様式!B284)","v":""},{"$f":"IF(ISBLANK(様式!C284),\"\",様式!C284)","v":""},{"$f":"IF(ISBLANK(様式!D284),\"\",様式!D284)","v":""},{"$f":"IF(ISBLANK(様式!E284),\"\",様式!E284)","v":""},{"$f":"IF(ISBLANK(様式!F284),\"\",様式!F284)","v":""},{"$f":"IF(ISBLANK(様式!G284),\"\",様式!G284)","v":""}]
[null,null,null,{"$f":"IF(ISBLANK(様式!B285),\"\",様式!B285)","v":""},{"$f":"IF(ISBLANK(様式!C285),\"\",様式!C285)","v":""},{"$f":"IF(ISBLANK(様式!D285),\"\",様式!D285)","v":""},{"$f":"IF(ISBLANK(様式!E285),\"\",様式!E285)","v":""},{"$f":"IF(ISBLANK(様式!F285),\"\",様式!F285)","v":""},{"$f":"IF(ISBLANK(様式!G285),\"\",様式!G285)","v":""}]
[null,null,null,{"$f":"IF(ISBLANK(様式!B286),\"\",様式!B286)","v":""},{"$f":"IF(ISBLANK(様式!C286),\"\",様式!C286)","v":""},{"$f":"IF(ISBLANK(様式!D286),\"\",様式!D286)","v":""},{"$f":"IF(ISBLANK(様式!E286),\"\",様式!E286)","v":""},{"$f":"IF(ISBLANK(様式!F286),\"\",様式!F286)","v":""},{"$f":"IF(ISBLANK(様式!G286),\"\",様式!G286)","v":""}]
[null,null,null,{"$f":"IF(ISBLANK(様式!B287),\"\",様式!B287)","v":""},{"$f":"IF(ISBLANK(様式!C287),\"\",様式!C287)","v":""},{"$f":"IF(ISBLANK(様式!D287),\"\",様式!D287)","v":""},{"$f":"IF(ISBLANK(様式!E287),\"\",様式!E287)","v":""},{"$f":"IF(ISBLANK(様式!F287),\"\",様式!F287)","v":""},{"$f":"IF(ISBLANK(様式!G287),\"\",様式!G287)","v":""}]
[null,null,null,{"$f":"IF(ISBLANK(様式!B288),\"\",様式!B288)","v":""},{"$f":"IF(ISBLANK(様式!C288),\"\",様式!C288)","v":""},{"$f":"IF(ISBLANK(様式!D288),\"\",様式!D288)","v":""},{"$f":"IF(ISBLANK(様式!E288),\"\",様式!E288)","v":""},{"$f":"IF(ISBLANK(様式!F288),\"\",様式!F288)","v":""},{"$f":"IF(ISBLANK(様式!G288),\"\",様式!G288)","v":""}]
[null,null,null,{"$f":"IF(ISBLANK(様式!B289),\"\",様式!B289)","v":""},{"$f":"IF(ISBLANK(様式!C289),\"\",様式!C289)","v":""},{"$f":"IF(ISBLANK(様式!D289),\"\",様式!D289)","v":""},{"$f":"IF(ISBLANK(様式!E289),\"\",様式!E289)","v":""},{"$f":"IF(ISBLANK(様式!F289),\"\",様式!F289)","v":""},{"$f":"IF(ISBLANK(様式!G289),\"\",様式!G289)","v":""}]
[null,null,null,{"$f":"IF(ISBLANK(様式!B290),\"\",様式!B290)","v":""},{"$f":"IF(ISBLANK(様式!C290),\"\",様式!C290)","v":""},{"$f":"IF(ISBLANK(様式!D290),\"\",様式!D290)","v":""},{"$f":"IF(ISBLANK(様式!E290),\"\",様式!E290)","v":""},{"$f":"IF(ISBLANK(様式!F290),\"\",様式!F290)","v":""},{"$f":"IF(ISBLANK(様式!G290),\"\",様式!G290)","v":""}]
[null,null,null,{"$f":"IF(ISBLANK(様式!B291),\"\",様式!B291)","v":""},{"$f":"IF(ISBLANK(様式!C291),\"\",様式!C291)","v":""},{"$f":"IF(ISBLANK(様式!D291),\"\",様式!D291)","v":""},{"$f":"IF(ISBLANK(様式!E291),\"\",様式!E291)","v":""},{"$f":"IF(ISBLANK(様式!F291),\"\",様式!F291)","v":""},{"$f":"IF(ISBLANK(様式!G291),\"\",様式!G291)","v":""}]
[null,null,null,{"$f":"IF(ISBLANK(様式!B292),\"\",様式!B292)","v":""},{"$f":"IF(ISBLANK(様式!C292),\"\",様式!C292)","v":""},{"$f":"IF(ISBLANK(様式!D292),\"\",様式!D292)","v":""},{"$f":"IF(ISBLANK(様式!E292),\"\",様式!E292)","v":""},{"$f":"IF(ISBLANK(様式!F292),\"\",様式!F292)","v":""},{"$f":"IF(ISBLANK(様式!G292),\"\",様式!G292)","v":""}]
[null,null,null,{"$f":"IF(ISBLANK(様式!B293),\"\",様式!B293)","v":""},{"$f":"IF(ISBLANK(様式!C293),\"\",様式!C293)","v":""},{"$f":"IF(ISBLANK(様式!D293),\"\",様式!D293)","v":""},{"$f":"IF(ISBLANK(様式!E293),\"\",様式!E293)","v":""},{"$f":"IF(ISBLANK(様式!F293),\"\",様式!F293)","v":""},{"$f":"IF(ISBLANK(様式!G293),\"\",様式!G293)","v":""}]
[null,null,null,{"$f":"IF(ISBLANK(様式!B294),\"\",様式!B294)","v":""},{"$f":"IF(ISBLANK(様式!C294),\"\",様式!C294)","v":""},{"$f":"IF(ISBLANK(様式!D294),\"\",様式!D294)","v":""},{"$f":"IF(ISBLANK(様式!E294),\"\",様式!E294)","v":""},{"$f":"IF(ISBLANK(様式!F294),\"\",様式!F294)","v":""},{"$f":"IF(ISBLANK(様式!G294),\"\",様式!G294)","v":""}]
[null,null,null,{"$f":"IF(ISBLANK(様式!B295),\"\",様式!B295)","v":""},{"$f":"IF(ISBLANK(様式!C295),\"\",様式!C295)","v":""},{"$f":"IF(ISBLANK(様式!D295),\"\",様式!D295)","v":""},{"$f":"IF(ISBLANK(様式!E295),\"\",様式!E295)","v":""},{"$f":"IF(ISBLANK(様式!F295),\"\",様式!F295)","v":""},{"$f":"IF(ISBLANK(様式!G295),\"\",様式!G295)","v":""}]
[null,null,null,{"$f":"IF(ISBLANK(様式!B296),\"\",様式!B296)","v":""},{"$f":"IF(ISBLANK(様式!C296),\"\",様式!C296)","v":""},{"$f":"IF(ISBLANK(様式!D296),\"\",様式!D296)","v":""},{"$f":"IF(ISBLANK(様式!E296),\"\",様式!E296)","v":""},{"$f":"IF(ISBLANK(様式!F296),\"\",様式!F296)","v":""},{"$f":"IF(ISBLANK(様式!G296),\"\",様式!G296)","v":""}]
[null,null,null,{"$f":"IF(ISBLANK(様式!B297),\"\",様式!B297)","v":""},{"$f":"IF(ISBLANK(様式!C297),\"\",様式!C297)","v":""},{"$f":"IF(ISBLANK(様式!D297),\"\",様式!D297)","v":""},{"$f":"IF(ISBLANK(様式!E297),\"\",様式!E297)","v":""},{"$f":"IF(ISBLANK(様式!F297),\"\",様式!F297)","v":""},{"$f":"IF(ISBLANK(様式!G297),\"\",様式!G297)","v":""}]
[null,null,null,{"$f":"IF(ISBLANK(様式!B298),\"\",様式!B298)","v":""},{"$f":"IF(ISBLANK(様式!C298),\"\",様式!C298)","v":""},{"$f":"IF(ISBLANK(様式!D298),\"\",様式!D298)","v":""},{"$f":"IF(ISBLANK(様式!E298),\"\",様式!E298)","v":""},{"$f":"IF(ISBLANK(様式!F298),\"\",様式!F298)","v":""},{"$f":"IF(ISBLANK(様式!G298),\"\",様式!G298)","v":""}]
[null,null,null,{"$f":"IF(ISBLANK(様式!B299),\"\",様式!B299)","v":""},{"$f":"IF(ISBLANK(様式!C299),\"\",様式!C299)","v":""},{"$f":"IF(ISBLANK(様式!D299),\"\",様式!D299)","v":""},{"$f":"IF(ISBLANK(様式!E299),\"\",様式!E299)","v":""},{"$f":"IF(ISBLANK(様式!F299),\"\",様式!F299)","v":""},{"$f":"IF(ISBLANK(様式!G299),\"\",様式!G299)","v":""}]
[null,null,null,{"$f":"IF(ISBLANK(様式!B300),\"\",様式!B300)","v":""},{"$f":"IF(ISBLANK(様式!C300),\"\",様式!C300)","v":""},{"$f":"IF(ISBLANK(様式!D300),\"\",様式!D300)","v":""},{"$f":"IF(ISBLANK(様式!E300),\"\",様式!E300)","v":""},{"$f":"IF(ISBLANK(様式!F300),\"\",様式!F300)","v":""},{"$f":"IF(ISBLANK(様式!G300),\"\",様式!G300)","v":""}]
[null,null,null,{"$f":"IF(ISBLANK(様式!B301),\"\",様式!B301)","v":""},{"$f":"IF(ISBLANK(様式!C301),\"\",様式!C301)","v":""},{"$f":"IF(ISBLANK(様式!D301),\"\",様式!D301)","v":""},{"$f":"IF(ISBLANK(様式!E301),\"\",様式!E301)","v":""},{"$f":"IF(ISBLANK(様式!F301),\"\",様式!F301)","v":""},{"$f":"IF(ISBLANK(様式!G301),\"\",様式!G301)","v":""}]
[null,null,null,{"$f":"IF(ISBLANK(様式!B302),\"\",様式!B302)","v":""},{"$f":"IF(ISBLANK(様式!C302),\"\",様式!C302)","v":""},{"$f":"IF(ISBLANK(様式!D302),\"\",様式!D302)","v":""},{"$f":"IF(ISBLANK(様式!E302),\"\",様式!E302)","v":""},{"$f":"IF(ISBLANK(様式!F302),\"\",様式!F302)","v":""},{"$f":"IF(ISBLANK(様式!G302),\"\",様式!G302)","v":""}]
[null,null,null,{"$f":"IF(ISBLANK(様式!B303),\"\",様式!B303)","v":""},{"$f":"IF(ISBLANK(様式!C303),\"\",様式!C303)","v":""},{"$f":"IF(ISBLANK(様式!D303),\"\",様式!D303)","v":""},{"$f":"IF(ISBLANK(様式!E303),\"\",様式!E303)","v":""},{"$f":"IF(ISBLANK(様式!F303),\"\",様式!F303)","v":""},{"$f":"IF(ISBLANK(様式!G303),\"\",様式!G303)","v":""}]
[null,null,null,{"$f":"IF(ISBLANK(様式!B304),\"\",様式!B304)","v":""},{"$f":"IF(ISBLANK(様式!C304),\"\",様式!C304)","v":""},{"$f":"IF(ISBLANK(様式!D304),\"\",様式!D304)","v":""},{"$f":"IF(ISBLANK(様式!E304),\"\",様式!E304)","v":""},{"$f":"IF(ISBLANK(様式!F304),\"\",様式!F304)","v":""},{"$f":"IF(ISBLANK(様式!G304),\"\",様式!G304)","v":""}]
[null,null,null,{"$f":"IF(ISBLANK(様式!B305),\"\",様式!B305)","v":""},{"$f":"IF(ISBLANK(様式!C305),\"\",様式!C305)","v":""},{"$f":"IF(ISBLANK(様式!D305),\"\",様式!D305)","v":""},{"$f":"IF(ISBLANK(様式!E305),\"\",様式!E305)","v":""},{"$f":"IF(ISBLANK(様式!F305),\"\",様式!F305)","v":""},{"$f":"IF(ISBLANK(様式!G305),\"\",様式!G305)","v":""}]
[null,null,null,{"$f":"IF(ISBLANK(様式!B306),\"\",様式!B306)","v":""},{"$f":"IF(ISBLANK(様式!C306),\"\",様式!C306)","v":""},{"$f":"IF(ISBLANK(様式!D306),\"\",様式!D306)","v":""},{"$f":"IF(ISBLANK(様式!E306),\"\",様式!E306)","v":""},{"$f":"IF(ISBLANK(様式!F306),\"\",様式!F306)","v":""},{"$f":"IF(ISBLANK(様式!G306),\"\",様式!G306)","v":""}]
[null,null,null,{"$f":"IF(ISBLANK(様式!B307),\"\",様式!B307)","v":""},{"$f":"IF(ISBLANK(様式!C307),\"\",様式!C307)","v":""},{"$f":"IF(ISBLANK(様式!D307),\"\",様式!D307)","v":""},{"$f":"IF(ISBLANK(様式!E307),\"\",様式!E307)","v":""},{"$f":"IF(ISBLANK(様式!F307),\"\",様式!F307)","v":""},{"$f":"IF(ISBLANK(様式!G307),\"\",様式!G307)","v":""}]
[null,null,null,{"$f":"IF(ISBLANK(様式!B308),\"\",様式!B308)","v":""},{"$f":"IF(ISBLANK(様式!C308),\"\",様式!C308)","v":""},{"$f":"IF(ISBLANK(様式!D308),\"\",様式!D308)","v":""},{"$f":"IF(ISBLANK(様式!E308),\"\",様式!E308)","v":""},{"$f":"IF(ISBLANK(様式!F308),\"\",様式!F308)","v":""},{"$f":"IF(ISBLANK(様式!G308),\"\",様式!G308)","v":""}]
[null,null,null,{"$f":"IF(ISBLANK(様式!B309),\"\",様式!B309)","v":""},{"$f":"IF(ISBLANK(様式!C309),\"\",様式!C309)","v":""},{"$f":"IF(ISBLANK(様式!D309),\"\",様式!D309)","v":""},{"$f":"IF(ISBLANK(様式!E309),\"\",様式!E309)","v":""},{"$f":"IF(ISBLANK(様式!F309),\"\",様式!F309)","v":""},{"$f":"IF(ISBLANK(様式!G309),\"\",様式!G309)","v":""}]
[null,null,null,{"$f":"IF(ISBLANK(様式!B310),\"\",様式!B310)","v":""},{"$f":"IF(ISBLANK(様式!C310),\"\",様式!C310)","v":""},{"$f":"IF(ISBLANK(様式!D310),\"\",様式!D310)","v":""},{"$f":"IF(ISBLANK(様式!E310),\"\",様式!E310)","v":""},{"$f":"IF(ISBLANK(様式!F310),\"\",様式!F310)","v":""},{"$f":"IF(ISBLANK(様式!G310),\"\",様式!G310)","v":""}]
[null,null,null,{"$f":"IF(ISBLANK(様式!B311),\"\",様式!B311)","v":""},{"$f":"IF(ISBLANK(様式!C311),\"\",様式!C311)","v":""},{"$f":"IF(ISBLANK(様式!D311),\"\",様式!D311)","v":""},{"$f":"IF(ISBLANK(様式!E311),\"\",様式!E311)","v":""},{"$f":"IF(ISBLANK(様式!F311),\"\",様式!F311)","v":""},{"$f":"IF(ISBLANK(様式!G311),\"\",様式!G311)","v":""}]
[null,null,null,{"$f":"IF(ISBLANK(様式!B312),\"\",様式!B312)","v":""},{"$f":"IF(ISBLANK(様式!C312),\"\",様式!C312)","v":""},{"$f":"IF(ISBLANK(様式!D312),\"\",様式!D312)","v":""},{"$f":"IF(ISBLANK(様式!E312),\"\",様式!E312)","v":""},{"$f":"IF(ISBLANK(様式!F312),\"\",様式!F312)","v":""},{"$f":"IF(ISBLANK(様式!G312),\"\",様式!G312)","v":""}]
[null,null,null,{"$f":"IF(ISBLANK(様式!B313),\"\",様式!B313)","v":""},{"$f":"IF(ISBLANK(様式!C313),\"\",様式!C313)","v":""},{"$f":"IF(ISBLANK(様式!D313),\"\",様式!D313)","v":""},{"$f":"IF(ISBLANK(様式!E313),\"\",様式!E313)","v":""},{"$f":"IF(ISBLANK(様式!F313),\"\",様式!F313)","v":""},{"$f":"IF(ISBLANK(様式!G313),\"\",様式!G313)","v":""}]
[null,null,null,{"$f":"IF(ISBLANK(様式!B314),\"\",様式!B314)","v":""},{"$f":"IF(ISBLANK(様式!C314),\"\",様式!C314)","v":""},{"$f":"IF(ISBLANK(様式!D314),\"\",様式!D314)","v":""},{"$f":"IF(ISBLANK(様式!E314),\"\",様式!E314)","v":""},{"$f":"IF(ISBLANK(様式!F314),\"\",様式!F314)","v":""},{"$f":"IF(ISBLANK(様式!G314),\"\",様式!G314)","v":""}]
[null,null,null,{"$f":"IF(ISBLANK(様式!B315),\"\",様式!B315)","v":""},{"$f":"IF(ISBLANK(様式!C315),\"\",様式!C315)","v":""},{"$f":"IF(ISBLANK(様式!D315),\"\",様式!D315)","v":""},{"$f":"IF(ISBLANK(様式!E315),\"\",様式!E315)","v":""},{"$f":"IF(ISBLANK(様式!F315),\"\",様式!F315)","v":""},{"$f":"IF(ISBLANK(様式!G315),\"\",様式!G315)","v":""}]
[null,null,null,{"$f":"IF(ISBLANK(様式!B316),\"\",様式!B316)","v":""},{"$f":"IF(ISBLANK(様式!C316),\"\",様式!C316)","v":""},{"$f":"IF(ISBLANK(様式!D316),\"\",様式!D316)","v":""},{"$f":"IF(ISBLANK(様式!E316),\"\",様式!E316)","v":""},{"$f":"IF(ISBLANK(様式!F316),\"\",様式!F316)","v":""},{"$f":"IF(ISBLANK(様式!G316),\"\",様式!G316)","v":""}]
[null,null,null,{"$f":"IF(ISBLANK(様式!B317),\"\",様式!B317)","v":""},{"$f":"IF(ISBLANK(様式!C317),\"\",様式!C317)","v":""},{"$f":"IF(ISBLANK(様式!D317),\"\",様式!D317)","v":""},{"$f":"IF(ISBLANK(様式!E317),\"\",様式!E317)","v":""},{"$f":"IF(ISBLANK(様式!F317),\"\",様式!F317)","v":""},{"$f":"IF(ISBLANK(様式!G317),\"\",様式!G317)","v":""}]
[null,null,null,{"$f":"IF(ISBLANK(様式!B318),\"\",様式!B318)","v":""},{"$f":"IF(ISBLANK(様式!C318),\"\",様式!C318)","v":""},{"$f":"IF(ISBLANK(様式!D318),\"\",様式!D318)","v":""},{"$f":"IF(ISBLANK(様式!E318),\"\",様式!E318)","v":""},{"$f":"IF(ISBLANK(様式!F318),\"\",様式!F318)","v":""},{"$f":"IF(ISBLANK(様式!G318),\"\",様式!G318)","v":""}]
[null,null,null,{"$f":"IF(ISBLANK(様式!B319),\"\",様式!B319)","v":""},{"$f":"IF(ISBLANK(様式!C319),\"\",様式!C319)","v":""},{"$f":"IF(ISBLANK(様式!D319),\"\",様式!D319)","v":""},{"$f":"IF(ISBLANK(様式!E319),\"\",様式!E319)","v":""},{"$f":"IF(ISBLANK(様式!F319),\"\",様式!F319)","v":""},{"$f":"IF(ISBLANK(様式!G319),\"\",様式!G319)","v":""}]
[null,null,null,{"$f":"IF(ISBLANK(様式!B320),\"\",様式!B320)","v":""},{"$f":"IF(ISBLANK(様式!C320),\"\",様式!C320)","v":""},{"$f":"IF(ISBLANK(様式!D320),\"\",様式!D320)","v":""},{"$f":"IF(ISBLANK(様式!E320),\"\",様式!E320)","v":""},{"$f":"IF(ISBLANK(様式!F320),\"\",様式!F320)","v":""},{"$f":"IF(ISBLANK(様式!G320),\"\",様式!G320)","v":""}]
[null,null,null,{"$f":"IF(ISBLANK(様式!B321),\"\",様式!B321)","v":""},{"$f":"IF(ISBLANK(様式!C321),\"\",様式!C321)","v":""},{"$f":"IF(ISBLANK(様式!D321),\"\",様式!D321)","v":""},{"$f":"IF(ISBLANK(様式!E321),\"\",様式!E321)","v":""},{"$f":"IF(ISBLANK(様式!F321),\"\",様式!F321)","v":""},{"$f":"IF(ISBLANK(様式!G321),\"\",様式!G321)","v":""}]
[null,null,null,{"$f":"IF(ISBLANK(様式!B328),\"\",様式!B328)","v":""},{"$f":"IF(ISBLANK(様式!C328),\"\",様式!C328)","v":""},{"$f":"IF(ISBLANK(様式!D328),\"\",様式!D328)","v":""},{"$f":"IF(ISBLANK(様式!E328),\"\",様式!E328)","v":""},{"$f":"IF(ISBLANK(様式!F328),\"\",様式!F328)","v":""},{"$f":"IF(ISBLANK(様式!G328),\"\",様式!G328)","v":""}]
[null,null,null,{"$f":"IF(ISBLANK(様式!B329),\"\",様式!B329)","v":""},{"$f":"IF(ISBLANK(様式!C329),\"\",様式!C329)","v":""},{"$f":"IF(ISBLANK(様式!D329),\"\",様式!D329)","v":""},{"$f":"IF(ISBLANK(様式!E329),\"\",様式!E329)","v":""},{"$f":"IF(ISBLANK(様式!F329),\"\",様式!F329)","v":""},{"$f":"IF(ISBLANK(様式!G329),\"\",様式!G329)","v":""}]
[null,null,null,{"$f":"IF(ISBLANK(様式!B330),\"\",様式!B330)","v":""},{"$f":"IF(ISBLANK(様式!C330),\"\",様式!C330)","v":""},{"$f":"IF(ISBLANK(様式!D330),\"\",様式!D330)","v":""},{"$f":"IF(ISBLANK(様式!E330),\"\",様式!E330)","v":""},{"$f":"IF(ISBLANK(様式!F330),\"\",様式!F330)","v":""},{"$f":"IF(ISBLANK(様式!G330),\"\",様式!G330)","v":""}]
[null,null,null,{"$f":"IF(ISBLANK(様式!B331),\"\",様式!B331)","v":""},{"$f":"IF(ISBLANK(様式!C331),\"\",様式!C331)","v":""},{"$f":"IF(ISBLANK(様式!D331),\"\",様式!D331)","v":""},{"$f":"IF(ISBLANK(様式!E331),\"\",様式!E331)","v":""},{"$f":"IF(ISBLANK(様式!F331),\"\",様式!F331)","v":""},{"$f":"IF(ISBLANK(様式!G331),\"\",様式!G331)","v":""}]
[null,null,null,{"$f":"IF(ISBLANK(様式!B332),\"\",様式!B332)","v":""},{"$f":"IF(ISBLANK(様式!C332),\"\",様式!C332)","v":""},{"$f":"IF(ISBLANK(様式!D332),\"\",様式!D332)","v":""},{"$f":"IF(ISBLANK(様式!E332),\"\",様式!E332)","v":""},{"$f":"IF(ISBLANK(様式!F332),\"\",様式!F332)","v":""},{"$f":"IF(ISBLANK(様式!G332),\"\",様式!G332)","v":""}]
[null,null,null,{"$f":"IF(ISBLANK(様式!B333),\"\",様式!B333)","v":""},{"$f":"IF(ISBLANK(様式!C333),\"\",様式!C333)","v":""},{"$f":"IF(ISBLANK(様式!D333),\"\",様式!D333)","v":""},{"$f":"IF(ISBLANK(様式!E333),\"\",様式!E333)","v":""},{"$f":"IF(ISBLANK(様式!F333),\"\",様式!F333)","v":""},{"$f":"IF(ISBLANK(様式!G333),\"\",様式!G333)","v":""}]
[null,null,null,{"$f":"IF(ISBLANK(様式!B334),\"\",様式!B334)","v":""},{"$f":"IF(ISBLANK(様式!C334),\"\",様式!C334)","v":""},{"$f":"IF(ISBLANK(様式!D334),\"\",様式!D334)","v":""},{"$f":"IF(ISBLANK(様式!E334),\"\",様式!E334)","v":""},{"$f":"IF(ISBLANK(様式!F334),\"\",様式!F334)","v":""},{"$f":"IF(ISBLANK(様式!G334),\"\",様式!G334)","v":""}]
[null,null,null,{"$f":"IF(ISBLANK(様式!B335),\"\",様式!B335)","v":""},{"$f":"IF(ISBLANK(様式!C335),\"\",様式!C335)","v":""},{"$f":"IF(ISBLANK(様式!D335),\"\",様式!D335)","v":""},{"$f":"IF(ISBLANK(様式!E335),\"\",様式!E335)","v":""},{"$f":"IF(ISBLANK(様式!F335),\"\",様式!F335)","v":""},{"$f":"IF(ISBLANK(様式!G335),\"\",様式!G335)","v":""}]
[null,null,null,{"$f":"IF(ISBLANK(様式!B336),\"\",様式!B336)","v":""},{"$f":"IF(ISBLANK(様式!C336),\"\",様式!C336)","v":""},{"$f":"IF(ISBLANK(様式!D336),\"\",様式!D336)","v":""},{"$f":"IF(ISBLANK(様式!E336),\"\",様式!E336)","v":""},{"$f":"IF(ISBLANK(様式!F336),\"\",様式!F336)","v":""},{"$f":"IF(ISBLANK(様式!G336),\"\",様式!G336)","v":""}]
[null,null,null,{"$f":"IF(ISBLANK(様式!B337),\"\",様式!B337)","v":""},{"$f":"IF(ISBLANK(様式!C337),\"\",様式!C337)","v":""},{"$f":"IF(ISBLANK(様式!D337),\"\",様式!D337)","v":""},{"$f":"IF(ISBLANK(様式!E337),\"\",様式!E337)","v":""},{"$f":"IF(ISBLANK(様式!F337),\"\",様式!F337)","v":""},{"$f":"IF(ISBLANK(様式!G337),\"\",様式!G337)","v":""}]
[null,null,null,{"$f":"IF(ISBLANK(様式!B338),\"\",様式!B338)","v":""},{"$f":"IF(ISBLANK(様式!C338),\"\",様式!C338)","v":""},{"$f":"IF(ISBLANK(様式!D338),\"\",様式!D338)","v":""},{"$f":"IF(ISBLANK(様式!E338),\"\",様式!E338)","v":""},{"$f":"IF(ISBLANK(様式!F338),\"\",様式!F338)","v":""},{"$f":"IF(ISBLANK(様式!G338),\"\",様式!G338)","v":""}]
[null,null,null,{"$f":"IF(ISBLANK(様式!B339),\"\",様式!B339)","v":""},{"$f":"IF(ISBLANK(様式!C339),\"\",様式!C339)","v":""},{"$f":"IF(ISBLANK(様式!D339),\"\",様式!D339)","v":""},{"$f":"IF(ISBLANK(様式!E339),\"\",様式!E339)","v":""},{"$f":"IF(ISBLANK(様式!F339),\"\",様式!F339)","v":""},{"$f":"IF(ISBLANK(様式!G339),\"\",様式!G339)","v":""}]
[null,null,null,{"$f":"IF(ISBLANK(様式!B340),\"\",様式!B340)","v":""},{"$f":"IF(ISBLANK(様式!C340),\"\",様式!C340)","v":""},{"$f":"IF(ISBLANK(様式!D340),\"\",様式!D340)","v":""},{"$f":"IF(ISBLANK(様式!E340),\"\",様式!E340)","v":""},{"$f":"IF(ISBLANK(様式!F340),\"\",様式!F340)","v":""},{"$f":"IF(ISBLANK(様式!G340),\"\",様式!G340)","v":""}]
[null,null,null,{"$f":"IF(ISBLANK(様式!B341),\"\",様式!B341)","v":""},{"$f":"IF(ISBLANK(様式!C341),\"\",様式!C341)","v":""},{"$f":"IF(ISBLANK(様式!D341),\"\",様式!D341)","v":""},{"$f":"IF(ISBLANK(様式!E341),\"\",様式!E341)","v":""},{"$f":"IF(ISBLANK(様式!F341),\"\",様式!F341)","v":""},{"$f":"IF(ISBLANK(様式!G341),\"\",様式!G341)","v":""}]
[null,null,null,{"$f":"IF(ISBLANK(様式!B342),\"\",様式!B342)","v":""},{"$f":"IF(ISBLANK(様式!C342),\"\",様式!C342)","v":""},{"$f":"IF(ISBLANK(様式!D342),\"\",様式!D342)","v":""},{"$f":"IF(ISBLANK(様式!E342),\"\",様式!E342)","v":""},{"$f":"IF(ISBLANK(様式!F342),\"\",様式!F342)","v":""},{"$f":"IF(ISBLANK(様式!G342),\"\",様式!G342)","v":""}]
[null,null,null,{"$f":"IF(ISBLANK(様式!B343),\"\",様式!B343)","v":""},{"$f":"IF(ISBLANK(様式!C343),\"\",様式!C343)","v":""},{"$f":"IF(ISBLANK(様式!D343),\"\",様式!D343)","v":""},{"$f":"IF(ISBLANK(様式!E343),\"\",様式!E343)","v":""},{"$f":"IF(ISBLANK(様式!F343),\"\",様式!F343)","v":""},{"$f":"IF(ISBLANK(様式!G343),\"\",様式!G343)","v":""}]
[null,null,null,{"$f":"IF(ISBLANK(様式!B344),\"\",様式!B344)","v":""},{"$f":"IF(ISBLANK(様式!C344),\"\",様式!C344)","v":""},{"$f":"IF(ISBLANK(様式!D344),\"\",様式!D344)","v":""},{"$f":"IF(ISBLANK(様式!E344),\"\",様式!E344)","v":""},{"$f":"IF(ISBLANK(様式!F344),\"\",様式!F344)","v":""},{"$f":"IF(ISBLANK(様式!G344),\"\",様式!G344)","v":""}]
[null,null,null,{"$f":"IF(ISBLANK(様式!B345),\"\",様式!B345)","v":""},{"$f":"IF(ISBLANK(様式!C345),\"\",様式!C345)","v":""},{"$f":"IF(ISBLANK(様式!D345),\"\",様式!D345)","v":""},{"$f":"IF(ISBLANK(様式!E345),\"\",様式!E345)","v":""},{"$f":"IF(ISBLANK(様式!F345),\"\",様式!F345)","v":""},{"$f":"IF(ISBLANK(様式!G345),\"\",様式!G345)","v":""}]
[null,null,null,{"$f":"IF(ISBLANK(様式!B346),\"\",様式!B346)","v":""},{"$f":"IF(ISBLANK(様式!C346),\"\",様式!C346)","v":""},{"$f":"IF(ISBLANK(様式!D346),\"\",様式!D346)","v":""},{"$f":"IF(ISBLANK(様式!E346),\"\",様式!E346)","v":""},{"$f":"IF(ISBLANK(様式!F346),\"\",様式!F346)","v":""},{"$f":"IF(ISBLANK(様式!G346),\"\",様式!G346)","v":""}]
[null,null,null,{"$f":"IF(ISBLANK(様式!B347),\"\",様式!B347)","v":""},{"$f":"IF(ISBLANK(様式!C347),\"\",様式!C347)","v":""},{"$f":"IF(ISBLANK(様式!D347),\"\",様式!D347)","v":""},{"$f":"IF(ISBLANK(様式!E347),\"\",様式!E347)","v":""},{"$f":"IF(ISBLANK(様式!F347),\"\",様式!F347)","v":""},{"$f":"IF(ISBLANK(様式!G347),\"\",様式!G347)","v":""}]
[null,null,null,{"$f":"IF(ISBLANK(様式!B348),\"\",様式!B348)","v":""},{"$f":"IF(ISBLANK(様式!C348),\"\",様式!C348)","v":""},{"$f":"IF(ISBLANK(様式!D348),\"\",様式!D348)","v":""},{"$f":"IF(ISBLANK(様式!E348),\"\",様式!E348)","v":""},{"$f":"IF(ISBLANK(様式!F348),\"\",様式!F348)","v":""},{"$f":"IF(ISBLANK(様式!G348),\"\",様式!G348)","v":""}]
[null,null,null,{"$f":"IF(ISBLANK(様式!B349),\"\",様式!B349)","v":""},{"$f":"IF(ISBLANK(様式!C349),\"\",様式!C349)","v":""},{"$f":"IF(ISBLANK(様式!D349),\"\",様式!D349)","v":""},{"$f":"IF(ISBLANK(様式!E349),\"\",様式!E349)","v":""},{"$f":"IF(ISBLANK(様式!F349),\"\",様式!F349)","v":""},{"$f":"IF(ISBLANK(様式!G349),\"\",様式!G349)","v":""}]
[null,null,null,{"$f":"IF(ISBLANK(様式!B350),\"\",様式!B350)","v":""},{"$f":"IF(ISBLANK(様式!C350),\"\",様式!C350)","v":""},{"$f":"IF(ISBLANK(様式!D350),\"\",様式!D350)","v":""},{"$f":"IF(ISBLANK(様式!E350),\"\",様式!E350)","v":""},{"$f":"IF(ISBLANK(様式!F350),\"\",様式!F350)","v":""},{"$f":"IF(ISBLANK(様式!G350),\"\",様式!G350)","v":""}]
[null,null,null,{"$f":"IF(ISBLANK(様式!B351),\"\",様式!B351)","v":""},{"$f":"IF(ISBLANK(様式!C351),\"\",様式!C351)","v":""},{"$f":"IF(ISBLANK(様式!D351),\"\",様式!D351)","v":""},{"$f":"IF(ISBLANK(様式!E351),\"\",様式!E351)","v":""},{"$f":"IF(ISBLANK(様式!F351),\"\",様式!F351)","v":""},{"$f":"IF(ISBLANK(様式!G351),\"\",様式!G351)","v":""}]
[null,null,null,{"$f":"IF(ISBLANK(様式!B352),\"\",様式!B352)","v":""},{"$f":"IF(ISBLANK(様式!C352),\"\",様式!C352)","v":""},{"$f":"IF(ISBLANK(様式!D352),\"\",様式!D352)","v":""},{"$f":"IF(ISBLANK(様式!E352),\"\",様式!E352)","v":""},{"$f":"IF(ISBLANK(様式!F352),\"\",様式!F352)","v":""},{"$f":"IF(ISBLANK(様式!G352),\"\",様式!G352)","v":""}]
[null,null,null,{"$f":"IF(ISBLANK(様式!B353),\"\",様式!B353)","v":""},{"$f":"IF(ISBLANK(様式!C353),\"\",様式!C353)","v":""},{"$f":"IF(ISBLANK(様式!D353),\"\",様式!D353)","v":""},{"$f":"IF(ISBLANK(様式!E353),\"\",様式!E353)","v":""},{"$f":"IF(ISBLANK(様式!F353),\"\",様式!F353)","v":""},{"$f":"IF(ISBLANK(様式!G353),\"\",様式!G353)","v":""}]
[null,null,null,{"$f":"IF(ISBLANK(様式!B354),\"\",様式!B354)","v":""},{"$f":"IF(ISBLANK(様式!C354),\"\",様式!C354)","v":""},{"$f":"IF(ISBLANK(様式!D354),\"\",様式!D354)","v":""},{"$f":"IF(ISBLANK(様式!E354),\"\",様式!E354)","v":""},{"$f":"IF(ISBLANK(様式!F354),\"\",様式!F354)","v":""},{"$f":"IF(ISBLANK(様式!G354),\"\",様式!G354)","v":""}]
[null,null,null,{"$f":"IF(ISBLANK(様式!B355),\"\",様式!B355)","v":""},{"$f":"IF(ISBLANK(様式!C355),\"\",様式!C355)","v":""},{"$f":"IF(ISBLANK(様式!D355),\"\",様式!D355)","v":""},{"$f":"IF(ISBLANK(様式!E355),\"\",様式!E355)","v":""},{"$f":"IF(ISBLANK(様式!F355),\"\",様式!F355)","v":""},{"$f":"IF(ISBLANK(様式!G355),\"\",様式!G355)","v":""}]
[null,null,null,{"$f":"IF(ISBLANK(様式!B356),\"\",様式!B356)","v":""},{"$f":"IF(ISBLANK(様式!C356),\"\",様式!C356)","v":""},{"$f":"IF(ISBLANK(様式!D356),\"\",様式!D356)","v":""},{"$f":"IF(ISBLANK(様式!E356),\"\",様式!E356)","v":""},{"$f":"IF(ISBLANK(様式!F356),\"\",様式!F356)","v":""},{"$f":"IF(ISBLANK(様式!G356),\"\",様式!G356)","v":""}]
[null,null,null,{"$f":"IF(ISBLANK(様式!B357),\"\",様式!B357)","v":""},{"$f":"IF(ISBLANK(様式!C357),\"\",様式!C357)","v":""},{"$f":"IF(ISBLANK(様式!D357),\"\",様式!D357)","v":""},{"$f":"IF(ISBLANK(様式!E357),\"\",様式!E357)","v":""},{"$f":"IF(ISBLANK(様式!F357),\"\",様式!F357)","v":""},{"$f":"IF(ISBLANK(様式!G357),\"\",様式!G357)","v":""}]
[null,null,null,{"$f":"IF(ISBLANK(様式!B358),\"\",様式!B358)","v":""},{"$f":"IF(ISBLANK(様式!C358),\"\",様式!C358)","v":""},{"$f":"IF(ISBLANK(様式!D358),\"\",様式!D358)","v":""},{"$f":"IF(ISBLANK(様式!E358),\"\",様式!E358)","v":""},{"$f":"IF(ISBLANK(様式!F358),\"\",様式!F358)","v":""},{"$f":"IF(ISBLANK(様式!G358),\"\",様式!G358)","v":""}]
[null,null,null,{"$f":"IF(ISBLANK(様式!B359),\"\",様式!B359)","v":""},{"$f":"IF(ISBLANK(様式!C359),\"\",様式!C359)","v":""},{"$f":"IF(ISBLANK(様式!D359),\"\",様式!D359)","v":""},{"$f":"IF(ISBLANK(様式!E359),\"\",様式!E359)","v":""},{"$f":"IF(ISBLANK(様式!F359),\"\",様式!F359)","v":""},{"$f":"IF(ISBLANK(様式!G359),\"\",様式!G359)","v":""}]
[null,null,null,{"$f":"IF(ISBLANK(様式!B360),\"\",様式!B360)","v":""},{"$f":"IF(ISBLANK(様式!C360),\"\",様式!C360)","v":""},{"$f":"IF(ISBLANK(様式!D360),\"\",様式!D360)","v":""},{"$f":"IF(ISBLANK(様式!E360),\"\",様式!E360)","v":""},{"$f":"IF(ISBLANK(様式!F360),\"\",様式!F360)","v":""},{"$f":"IF(ISBLANK(様式!G360),\"\",様式!G360)","v":""}]
[null,null,null,{"$f":"IF(ISBLANK(様式!B361),\"\",様式!B361)","v":""},{"$f":"IF(ISBLANK(様式!C361),\"\",様式!C361)","v":""},{"$f":"IF(ISBLANK(様式!D361),\"\",様式!D361)","v":""},{"$f":"IF(ISBLANK(様式!E361),\"\",様式!E361)","v":""},{"$f":"IF(ISBLANK(様式!F361),\"\",様式!F361)","v":""},{"$f":"IF(ISBLANK(様式!G361),\"\",様式!G361)","v":""}]
[null,null,null,{"$f":"IF(ISBLANK(様式!B362),\"\",様式!B362)","v":""},{"$f":"IF(ISBLANK(様式!C362),\"\",様式!C362)","v":""},{"$f":"IF(ISBLANK(様式!D362),\"\",様式!D362)","v":""},{"$f":"IF(ISBLANK(様式!E362),\"\",様式!E362)","v":""},{"$f":"IF(ISBLANK(様式!F362),\"\",様式!F362)","v":""},{"$f":"IF(ISBLANK(様式!G362),\"\",様式!G362)","v":""}]
[null,null,null,{"$f":"IF(ISBLANK(様式!B363),\"\",様式!B363)","v":""},{"$f":"IF(ISBLANK(様式!C363),\"\",様式!C363)","v":""},{"$f":"IF(ISBLANK(様式!D363),\"\",様式!D363)","v":""},{"$f":"IF(ISBLANK(様式!E363),\"\",様式!E363)","v":""},{"$f":"IF(ISBLANK(様式!F363),\"\",様式!F363)","v":""},{"$f":"IF(ISBLANK(様式!G363),\"\",様式!G363)","v":""}]
[null,null,null,{"$f":"IF(ISBLANK(様式!B364),\"\",様式!B364)","v":""},{"$f":"IF(ISBLANK(様式!C364),\"\",様式!C364)","v":""},{"$f":"IF(ISBLANK(様式!D364),\"\",様式!D364)","v":""},{"$f":"IF(ISBLANK(様式!E364),\"\",様式!E364)","v":""},{"$f":"IF(ISBLANK(様式!F364),\"\",様式!F364)","v":""},{"$f":"IF(ISBLANK(様式!G364),\"\",様式!G364)","v":""}]
[null,null,null,{"$f":"IF(ISBLANK(様式!B365),\"\",様式!B365)","v":""},{"$f":"IF(ISBLANK(様式!C365),\"\",様式!C365)","v":""},{"$f":"IF(ISBLANK(様式!D365),\"\",様式!D365)","v":""},{"$f":"IF(ISBLANK(様式!E365),\"\",様式!E365)","v":""},{"$f":"IF(ISBLANK(様式!F365),\"\",様式!F365)","v":""},{"$f":"IF(ISBLANK(様式!G365),\"\",様式!G365)","v":""}]
[null,null,null,{"$f":"IF(ISBLANK(様式!B366),\"\",様式!B366)","v":""},{"$f":"IF(ISBLANK(様式!C366),\"\",様式!C366)","v":""},{"$f":"IF(ISBLANK(様式!D366),\"\",様式!D366)","v":""},{"$f":"IF(ISBLANK(様式!E366),\"\",様式!E366)","v":""},{"$f":"IF(ISBLANK(様式!F366),\"\",様式!F366)","v":""},{"$f":"IF(ISBLANK(様式!G366),\"\",様式!G366)","v":""}]
[null,null,null,{"$f":"IF(ISBLANK(様式!B367),\"\",様式!B367)","v":""},{"$f":"IF(ISBLANK(様式!C367),\"\",様式!C367)","v":""},{"$f":"IF(ISBLANK(様式!D367),\"\",様式!D367)","v":""},{"$f":"IF(ISBLANK(様式!E367),\"\",様式!E367)","v":""},{"$f":"IF(ISBLANK(様式!F367),\"\",様式!F367)","v":""},{"$f":"IF(ISBLANK(様式!G367),\"\",様式!G367)","v":""}]
[null,null,null,{"$f":"IF(ISBLANK(様式!B374),\"\",様式!B374)","v":""},{"$f":"IF(ISBLANK(様式!C374),\"\",様式!C374)","v":""},{"$f":"IF(ISBLANK(様式!D374),\"\",様式!D374)","v":""},{"$f":"IF(ISBLANK(様式!E374),\"\",様式!E374)","v":""},{"$f":"IF(ISBLANK(様式!F374),\"\",様式!F374)","v":""},{"$f":"IF(ISBLANK(様式!G374),\"\",様式!G374)","v":""}]
[null,null,null,{"$f":"IF(ISBLANK(様式!B375),\"\",様式!B375)","v":""},{"$f":"IF(ISBLANK(様式!C375),\"\",様式!C375)","v":""},{"$f":"IF(ISBLANK(様式!D375),\"\",様式!D375)","v":""},{"$f":"IF(ISBLANK(様式!E375),\"\",様式!E375)","v":""},{"$f":"IF(ISBLANK(様式!F375),\"\",様式!F375)","v":""},{"$f":"IF(ISBLANK(様式!G375),\"\",様式!G375)","v":""}]
[null,null,null,{"$f":"IF(ISBLANK(様式!B376),\"\",様式!B376)","v":""},{"$f":"IF(ISBLANK(様式!C376),\"\",様式!C376)","v":""},{"$f":"IF(ISBLANK(様式!D376),\"\",様式!D376)","v":""},{"$f":"IF(ISBLANK(様式!E376),\"\",様式!E376)","v":""},{"$f":"IF(ISBLANK(様式!F376),\"\",様式!F376)","v":""},{"$f":"IF(ISBLANK(様式!G376),\"\",様式!G376)","v":""}]
[null,null,null,{"$f":"IF(ISBLANK(様式!B377),\"\",様式!B377)","v":""},{"$f":"IF(ISBLANK(様式!C377),\"\",様式!C377)","v":""},{"$f":"IF(ISBLANK(様式!D377),\"\",様式!D377)","v":""},{"$f":"IF(ISBLANK(様式!E377),\"\",様式!E377)","v":""},{"$f":"IF(ISBLANK(様式!F377),\"\",様式!F377)","v":""},{"$f":"IF(ISBLANK(様式!G377),\"\",様式!G377)","v":""}]
[null,null,null,{"$f":"IF(ISBLANK(様式!B378),\"\",様式!B378)","v":""},{"$f":"IF(ISBLANK(様式!C378),\"\",様式!C378)","v":""},{"$f":"IF(ISBLANK(様式!D378),\"\",様式!D378)","v":""},{"$f":"IF(ISBLANK(様式!E378),\"\",様式!E378)","v":""},{"$f":"IF(ISBLANK(様式!F378),\"\",様式!F378)","v":""},{"$f":"IF(ISBLANK(様式!G378),\"\",様式!G378)","v":""}]
[null,null,null,{"$f":"IF(ISBLANK(様式!B379),\"\",様式!B379)","v":""},{"$f":"IF(ISBLANK(様式!C379),\"\",様式!C379)","v":""},{"$f":"IF(ISBLANK(様式!D379),\"\",様式!D379)","v":""},{"$f":"IF(ISBLANK(様式!E379),\"\",様式!E379)","v":""},{"$f":"IF(ISBLANK(様式!F379),\"\",様式!F379)","v":""},{"$f":"IF(ISBLANK(様式!G379),\"\",様式!G379)","v":""}]
[null,null,null,{"$f":"IF(ISBLANK(様式!B380),\"\",様式!B380)","v":""},{"$f":"IF(ISBLANK(様式!C380),\"\",様式!C380)","v":""},{"$f":"IF(ISBLANK(様式!D380),\"\",様式!D380)","v":""},{"$f":"IF(ISBLANK(様式!E380),\"\",様式!E380)","v":""},{"$f":"IF(ISBLANK(様式!F380),\"\",様式!F380)","v":""},{"$f":"IF(ISBLANK(様式!G380),\"\",様式!G380)","v":""}]
[null,null,null,{"$f":"IF(ISBLANK(様式!B381),\"\",様式!B381)","v":""},{"$f":"IF(ISBLANK(様式!C381),\"\",様式!C381)","v":""},{"$f":"IF(ISBLANK(様式!D381),\"\",様式!D381)","v":""},{"$f":"IF(ISBLANK(様式!E381),\"\",様式!E381)","v":""},{"$f":"IF(ISBLANK(様式!F381),\"\",様式!F381)","v":""},{"$f":"IF(ISBLANK(様式!G381),\"\",様式!G381)","v":""}]
[null,null,null,{"$f":"IF(ISBLANK(様式!B382),\"\",様式!B382)","v":""},{"$f":"IF(ISBLANK(様式!C382),\"\",様式!C382)","v":""},{"$f":"IF(ISBLANK(様式!D382),\"\",様式!D382)","v":""},{"$f":"IF(ISBLANK(様式!E382),\"\",様式!E382)","v":""},{"$f":"IF(ISBLANK(様式!F382),\"\",様式!F382)","v":""},{"$f":"IF(ISBLANK(様式!G382),\"\",様式!G382)","v":""}]
[null,null,null,{"$f":"IF(ISBLANK(様式!B383),\"\",様式!B383)","v":""},{"$f":"IF(ISBLANK(様式!C383),\"\",様式!C383)","v":""},{"$f":"IF(ISBLANK(様式!D383),\"\",様式!D383)","v":""},{"$f":"IF(ISBLANK(様式!E383),\"\",様式!E383)","v":""},{"$f":"IF(ISBLANK(様式!F383),\"\",様式!F383)","v":""},{"$f":"IF(ISBLANK(様式!G383),\"\",様式!G383)","v":""}]
[null,null,null,{"$f":"IF(ISBLANK(様式!B384),\"\",様式!B384)","v":""},{"$f":"IF(ISBLANK(様式!C384),\"\",様式!C384)","v":""},{"$f":"IF(ISBLANK(様式!D384),\"\",様式!D384)","v":""},{"$f":"IF(ISBLANK(様式!E384),\"\",様式!E384)","v":""},{"$f":"IF(ISBLANK(様式!F384),\"\",様式!F384)","v":""},{"$f":"IF(ISBLANK(様式!G384),\"\",様式!G384)","v":""}]
[null,null,null,{"$f":"IF(ISBLANK(様式!B385),\"\",様式!B385)","v":""},{"$f":"IF(ISBLANK(様式!C385),\"\",様式!C385)","v":""},{"$f":"IF(ISBLANK(様式!D385),\"\",様式!D385)","v":""},{"$f":"IF(ISBLANK(様式!E385),\"\",様式!E385)","v":""},{"$f":"IF(ISBLANK(様式!F385),\"\",様式!F385)","v":""},{"$f":"IF(ISBLANK(様式!G385),\"\",様式!G385)","v":""}]
[null,null,null,{"$f":"IF(ISBLANK(様式!B386),\"\",様式!B386)","v":""},{"$f":"IF(ISBLANK(様式!C386),\"\",様式!C386)","v":""},{"$f":"IF(ISBLANK(様式!D386),\"\",様式!D386)","v":""},{"$f":"IF(ISBLANK(様式!E386),\"\",様式!E386)","v":""},{"$f":"IF(ISBLANK(様式!F386),\"\",様式!F386)","v":""},{"$f":"IF(ISBLANK(様式!G386),\"\",様式!G386)","v":""}]
[null,null,null,{"$f":"IF(ISBLANK(様式!B387),\"\",様式!B387)","v":""},{"$f":"IF(ISBLANK(様式!C387),\"\",様式!C387)","v":""},{"$f":"IF(ISBLANK(様式!D387),\"\",様式!D387)","v":""},{"$f":"IF(ISBLANK(様式!E387),\"\",様式!E387)","v":""},{"$f":"IF(ISBLANK(様式!F387),\"\",様式!F387)","v":""},{"$f":"IF(ISBLANK(様式!G387),\"\",様式!G387)","v":""}]
[null,null,null,{"$f":"IF(ISBLANK(様式!B388),\"\",様式!B388)","v":""},{"$f":"IF(ISBLANK(様式!C388),\"\",様式!C388)","v":""},{"$f":"IF(ISBLANK(様式!D388),\"\",様式!D388)","v":""},{"$f":"IF(ISBLANK(様式!E388),\"\",様式!E388)","v":""},{"$f":"IF(ISBLANK(様式!F388),\"\",様式!F388)","v":""},{"$f":"IF(ISBLANK(様式!G388),\"\",様式!G388)","v":""}]
[null,null,null,{"$f":"IF(ISBLANK(様式!B389),\"\",様式!B389)","v":""},{"$f":"IF(ISBLANK(様式!C389),\"\",様式!C389)","v":""},{"$f":"IF(ISBLANK(様式!D389),\"\",様式!D389)","v":""},{"$f":"IF(ISBLANK(様式!E389),\"\",様式!E389)","v":""},{"$f":"IF(ISBLANK(様式!F389),\"\",様式!F389)","v":""},{"$f":"IF(ISBLANK(様式!G389),\"\",様式!G389)","v":""}]
[null,null,null,{"$f":"IF(ISBLANK(様式!B390),\"\",様式!B390)","v":""},{"$f":"IF(ISBLANK(様式!C390),\"\",様式!C390)","v":""},{"$f":"IF(ISBLANK(様式!D390),\"\",様式!D390)","v":""},{"$f":"IF(ISBLANK(様式!E390),\"\",様式!E390)","v":""},{"$f":"IF(ISBLANK(様式!F390),\"\",様式!F390)","v":""},{"$f":"IF(ISBLANK(様式!G390),\"\",様式!G390)","v":""}]
[null,null,null,{"$f":"IF(ISBLANK(様式!B391),\"\",様式!B391)","v":""},{"$f":"IF(ISBLANK(様式!C391),\"\",様式!C391)","v":""},{"$f":"IF(ISBLANK(様式!D391),\"\",様式!D391)","v":""},{"$f":"IF(ISBLANK(様式!E391),\"\",様式!E391)","v":""},{"$f":"IF(ISBLANK(様式!F391),\"\",様式!F391)","v":""},{"$f":"IF(ISBLANK(様式!G391),\"\",様式!G391)","v":""}]
[null,null,null,{"$f":"IF(ISBLANK(様式!B392),\"\",様式!B392)","v":""},{"$f":"IF(ISBLANK(様式!C392),\"\",様式!C392)","v":""},{"$f":"IF(ISBLANK(様式!D392),\"\",様式!D392)","v":""},{"$f":"IF(ISBLANK(様式!E392),\"\",様式!E392)","v":""},{"$f":"IF(ISBLANK(様式!F392),\"\",様式!F392)","v":""},{"$f":"IF(ISBLANK(様式!G392),\"\",様式!G392)","v":""}]
[null,null,null,{"$f":"IF(ISBLANK(様式!B393),\"\",様式!B393)","v":""},{"$f":"IF(ISBLANK(様式!C393),\"\",様式!C393)","v":""},{"$f":"IF(ISBLANK(様式!D393),\"\",様式!D393)","v":""},{"$f":"IF(ISBLANK(様式!E393),\"\",様式!E393)","v":""},{"$f":"IF(ISBLANK(様式!F393),\"\",様式!F393)","v":""},{"$f":"IF(ISBLANK(様式!G393),\"\",様式!G393)","v":""}]
[null,null,null,{"$f":"IF(ISBLANK(様式!B394),\"\",様式!B394)","v":""},{"$f":"IF(ISBLANK(様式!C394),\"\",様式!C394)","v":""},{"$f":"IF(ISBLANK(様式!D394),\"\",様式!D394)","v":""},{"$f":"IF(ISBLANK(様式!E394),\"\",様式!E394)","v":""},{"$f":"IF(ISBLANK(様式!F394),\"\",様式!F394)","v":""},{"$f":"IF(ISBLANK(様式!G394),\"\",様式!G394)","v":""}]
[null,null,null,{"$f":"IF(ISBLANK(様式!B395),\"\",様式!B395)","v":""},{"$f":"IF(ISBLANK(様式!C395),\"\",様式!C395)","v":""},{"$f":"IF(ISBLANK(様式!D395),\"\",様式!D395)","v":""},{"$f":"IF(ISBLANK(様式!E395),\"\",様式!E395)","v":""},{"$f":"IF(ISBLANK(様式!F395),\"\",様式!F395)","v":""},{"$f":"IF(ISBLANK(様式!G395),\"\",様式!G395)","v":""}]
[null,null,null,{"$f":"IF(ISBLANK(様式!B396),\"\",様式!B396)","v":""},{"$f":"IF(ISBLANK(様式!C396),\"\",様式!C396)","v":""},{"$f":"IF(ISBLANK(様式!D396),\"\",様式!D396)","v":""},{"$f":"IF(ISBLANK(様式!E396),\"\",様式!E396)","v":""},{"$f":"IF(ISBLANK(様式!F396),\"\",様式!F396)","v":""},{"$f":"IF(ISBLANK(様式!G396),\"\",様式!G396)","v":""}]
[null,null,null,{"$f":"IF(ISBLANK(様式!B397),\"\",様式!B397)","v":""},{"$f":"IF(ISBLANK(様式!C397),\"\",様式!C397)","v":""},{"$f":"IF(ISBLANK(様式!D397),\"\",様式!D397)","v":""},{"$f":"IF(ISBLANK(様式!E397),\"\",様式!E397)","v":""},{"$f":"IF(ISBLANK(様式!F397),\"\",様式!F397)","v":""},{"$f":"IF(ISBLANK(様式!G397),\"\",様式!G397)","v":""}]
[null,null,null,{"$f":"IF(ISBLANK(様式!B398),\"\",様式!B398)","v":""},{"$f":"IF(ISBLANK(様式!C398),\"\",様式!C398)","v":""},{"$f":"IF(ISBLANK(様式!D398),\"\",様式!D398)","v":""},{"$f":"IF(ISBLANK(様式!E398),\"\",様式!E398)","v":""},{"$f":"IF(ISBLANK(様式!F398),\"\",様式!F398)","v":""},{"$f":"IF(ISBLANK(様式!G398),\"\",様式!G398)","v":""}]
[null,null,null,{"$f":"IF(ISBLANK(様式!B399),\"\",様式!B399)","v":""},{"$f":"IF(ISBLANK(様式!C399),\"\",様式!C399)","v":""},{"$f":"IF(ISBLANK(様式!D399),\"\",様式!D399)","v":""},{"$f":"IF(ISBLANK(様式!E399),\"\",様式!E399)","v":""},{"$f":"IF(ISBLANK(様式!F399),\"\",様式!F399)","v":""},{"$f":"IF(ISBLANK(様式!G399),\"\",様式!G399)","v":""}]
[null,null,null,{"$f":"IF(ISBLANK(様式!B400),\"\",様式!B400)","v":""},{"$f":"IF(ISBLANK(様式!C400),\"\",様式!C400)","v":""},{"$f":"IF(ISBLANK(様式!D400),\"\",様式!D400)","v":""},{"$f":"IF(ISBLANK(様式!E400),\"\",様式!E400)","v":""},{"$f":"IF(ISBLANK(様式!F400),\"\",様式!F400)","v":""},{"$f":"IF(ISBLANK(様式!G400),\"\",様式!G400)","v":""}]
[null,null,null,{"$f":"IF(ISBLANK(様式!B401),\"\",様式!B401)","v":""},{"$f":"IF(ISBLANK(様式!C401),\"\",様式!C401)","v":""},{"$f":"IF(ISBLANK(様式!D401),\"\",様式!D401)","v":""},{"$f":"IF(ISBLANK(様式!E401),\"\",様式!E401)","v":""},{"$f":"IF(ISBLANK(様式!F401),\"\",様式!F401)","v":""},{"$f":"IF(ISBLANK(様式!G401),\"\",様式!G401)","v":""}]
[null,null,null,{"$f":"IF(ISBLANK(様式!B402),\"\",様式!B402)","v":""},{"$f":"IF(ISBLANK(様式!C402),\"\",様式!C402)","v":""},{"$f":"IF(ISBLANK(様式!D402),\"\",様式!D402)","v":""},{"$f":"IF(ISBLANK(様式!E402),\"\",様式!E402)","v":""},{"$f":"IF(ISBLANK(様式!F402),\"\",様式!F402)","v":""},{"$f":"IF(ISBLANK(様式!G402),\"\",様式!G402)","v":""}]
[null,null,null,{"$f":"IF(ISBLANK(様式!B403),\"\",様式!B403)","v":""},{"$f":"IF(ISBLANK(様式!C403),\"\",様式!C403)","v":""},{"$f":"IF(ISBLANK(様式!D403),\"\",様式!D403)","v":""},{"$f":"IF(ISBLANK(様式!E403),\"\",様式!E403)","v":""},{"$f":"IF(ISBLANK(様式!F403),\"\",様式!F403)","v":""},{"$f":"IF(ISBLANK(様式!G403),\"\",様式!G403)","v":""}]
[null,null,null,{"$f":"IF(ISBLANK(様式!B404),\"\",様式!B404)","v":""},{"$f":"IF(ISBLANK(様式!C404),\"\",様式!C404)","v":""},{"$f":"IF(ISBLANK(様式!D404),\"\",様式!D404)","v":""},{"$f":"IF(ISBLANK(様式!E404),\"\",様式!E404)","v":""},{"$f":"IF(ISBLANK(様式!F404),\"\",様式!F404)","v":""},{"$f":"IF(ISBLANK(様式!G404),\"\",様式!G404)","v":""}]
[null,null,null,{"$f":"IF(ISBLANK(様式!B405),\"\",様式!B405)","v":""},{"$f":"IF(ISBLANK(様式!C405),\"\",様式!C405)","v":""},{"$f":"IF(ISBLANK(様式!D405),\"\",様式!D405)","v":""},{"$f":"IF(ISBLANK(様式!E405),\"\",様式!E405)","v":""},{"$f":"IF(ISBLANK(様式!F405),\"\",様式!F405)","v":""},{"$f":"IF(ISBLANK(様式!G405),\"\",様式!G405)","v":""}]
[null,null,null,{"$f":"IF(ISBLANK(様式!B406),\"\",様式!B406)","v":""},{"$f":"IF(ISBLANK(様式!C406),\"\",様式!C406)","v":""},{"$f":"IF(ISBLANK(様式!D406),\"\",様式!D406)","v":""},{"$f":"IF(ISBLANK(様式!E406),\"\",様式!E406)","v":""},{"$f":"IF(ISBLANK(様式!F406),\"\",様式!F406)","v":""},{"$f":"IF(ISBLANK(様式!G406),\"\",様式!G406)","v":""}]
[null,null,null,{"$f":"IF(ISBLANK(様式!B407),\"\",様式!B407)","v":""},{"$f":"IF(ISBLANK(様式!C407),\"\",様式!C407)","v":""},{"$f":"IF(ISBLANK(様式!D407),\"\",様式!D407)","v":""},{"$f":"IF(ISBLANK(様式!E407),\"\",様式!E407)","v":""},{"$f":"IF(ISBLANK(様式!F407),\"\",様式!F407)","v":""},{"$f":"IF(ISBLANK(様式!G407),\"\",様式!G407)","v":""}]
[null,null,null,{"$f":"IF(ISBLANK(様式!B408),\"\",様式!B408)","v":""},{"$f":"IF(ISBLANK(様式!C408),\"\",様式!C408)","v":""},{"$f":"IF(ISBLANK(様式!D408),\"\",様式!D408)","v":""},{"$f":"IF(ISBLANK(様式!E408),\"\",様式!E408)","v":""},{"$f":"IF(ISBLANK(様式!F408),\"\",様式!F408)","v":""},{"$f":"IF(ISBLANK(様式!G408),\"\",様式!G408)","v":""}]
[null,null,null,{"$f":"IF(ISBLANK(様式!B409),\"\",様式!B409)","v":""},{"$f":"IF(ISBLANK(様式!C409),\"\",様式!C409)","v":""},{"$f":"IF(ISBLANK(様式!D409),\"\",様式!D409)","v":""},{"$f":"IF(ISBLANK(様式!E409),\"\",様式!E409)","v":""},{"$f":"IF(ISBLANK(様式!F409),\"\",様式!F409)","v":""},{"$f":"IF(ISBLANK(様式!G409),\"\",様式!G409)","v":""}]
[null,null,null,{"$f":"IF(ISBLANK(様式!B410),\"\",様式!B410)","v":""},{"$f":"IF(ISBLANK(様式!C410),\"\",様式!C410)","v":""},{"$f":"IF(ISBLANK(様式!D410),\"\",様式!D410)","v":""},{"$f":"IF(ISBLANK(様式!E410),\"\",様式!E410)","v":""},{"$f":"IF(ISBLANK(様式!F410),\"\",様式!F410)","v":""},{"$f":"IF(ISBLANK(様式!G410),\"\",様式!G410)","v":""}]
[null,null,null,{"$f":"IF(ISBLANK(様式!B411),\"\",様式!B411)","v":""},{"$f":"IF(ISBLANK(様式!C411),\"\",様式!C411)","v":""},{"$f":"IF(ISBLANK(様式!D411),\"\",様式!D411)","v":""},{"$f":"IF(ISBLANK(様式!E411),\"\",様式!E411)","v":""},{"$f":"IF(ISBLANK(様式!F411),\"\",様式!F411)","v":""},{"$f":"IF(ISBLANK(様式!G411),\"\",様式!G411)","v":""}]
[null,null,null,{"$f":"IF(ISBLANK(様式!B412),\"\",様式!B412)","v":""},{"$f":"IF(ISBLANK(様式!C412),\"\",様式!C412)","v":""},{"$f":"IF(ISBLANK(様式!D412),\"\",様式!D412)","v":""},{"$f":"IF(ISBLANK(様式!E412),\"\",様式!E412)","v":""},{"$f":"IF(ISBLANK(様式!F412),\"\",様式!F412)","v":""},{"$f":"IF(ISBLANK(様式!G412),\"\",様式!G412)","v":""}]
[null,null,null,{"$f":"IF(ISBLANK(様式!B413),\"\",様式!B413)","v":""},{"$f":"IF(ISBLANK(様式!C413),\"\",様式!C413)","v":""},{"$f":"IF(ISBLANK(様式!D413),\"\",様式!D413)","v":""},{"$f":"IF(ISBLANK(様式!E413),\"\",様式!E413)","v":""},{"$f":"IF(ISBLANK(様式!F413),\"\",様式!F413)","v":""},{"$f":"IF(ISBLANK(様式!G413),\"\",様式!G413)","v":""}]
[null,null,null,{"$f":"IF(ISBLANK(様式!B420),\"\",様式!B420)","v":""},{"$f":"IF(ISBLANK(様式!C420),\"\",様式!C420)","v":""},{"$f":"IF(ISBLANK(様式!D420),\"\",様式!D420)","v":""},{"$f":"IF(ISBLANK(様式!E420),\"\",様式!E420)","v":""},{"$f":"IF(ISBLANK(様式!F420),\"\",様式!F420)","v":""},{"$f":"IF(ISBLANK(様式!G420),\"\",様式!G420)","v":""}]
[null,null,null,{"$f":"IF(ISBLANK(様式!B421),\"\",様式!B421)","v":""},{"$f":"IF(ISBLANK(様式!C421),\"\",様式!C421)","v":""},{"$f":"IF(ISBLANK(様式!D421),\"\",様式!D421)","v":""},{"$f":"IF(ISBLANK(様式!E421),\"\",様式!E421)","v":""},{"$f":"IF(ISBLANK(様式!F421),\"\",様式!F421)","v":""},{"$f":"IF(ISBLANK(様式!G421),\"\",様式!G421)","v":""}]
[null,null,null,{"$f":"IF(ISBLANK(様式!B422),\"\",様式!B422)","v":""},{"$f":"IF(ISBLANK(様式!C422),\"\",様式!C422)","v":""},{"$f":"IF(ISBLANK(様式!D422),\"\",様式!D422)","v":""},{"$f":"IF(ISBLANK(様式!E422),\"\",様式!E422)","v":""},{"$f":"IF(ISBLANK(様式!F422),\"\",様式!F422)","v":""},{"$f":"IF(ISBLANK(様式!G422),\"\",様式!G422)","v":""}]
[null,null,null,{"$f":"IF(ISBLANK(様式!B423),\"\",様式!B423)","v":""},{"$f":"IF(ISBLANK(様式!C423),\"\",様式!C423)","v":""},{"$f":"IF(ISBLANK(様式!D423),\"\",様式!D423)","v":""},{"$f":"IF(ISBLANK(様式!E423),\"\",様式!E423)","v":""},{"$f":"IF(ISBLANK(様式!F423),\"\",様式!F423)","v":""},{"$f":"IF(ISBLANK(様式!G423),\"\",様式!G423)","v":""}]
[null,null,null,{"$f":"IF(ISBLANK(様式!B424),\"\",様式!B424)","v":""},{"$f":"IF(ISBLANK(様式!C424),\"\",様式!C424)","v":""},{"$f":"IF(ISBLANK(様式!D424),\"\",様式!D424)","v":""},{"$f":"IF(ISBLANK(様式!E424),\"\",様式!E424)","v":""},{"$f":"IF(ISBLANK(様式!F424),\"\",様式!F424)","v":""},{"$f":"IF(ISBLANK(様式!G424),\"\",様式!G424)","v":""}]
[null,null,null,{"$f":"IF(ISBLANK(様式!B425),\"\",様式!B425)","v":""},{"$f":"IF(ISBLANK(様式!C425),\"\",様式!C425)","v":""},{"$f":"IF(ISBLANK(様式!D425),\"\",様式!D425)","v":""},{"$f":"IF(ISBLANK(様式!E425),\"\",様式!E425)","v":""},{"$f":"IF(ISBLANK(様式!F425),\"\",様式!F425)","v":""},{"$f":"IF(ISBLANK(様式!G425),\"\",様式!G425)","v":""}]
[null,null,null,{"$f":"IF(ISBLANK(様式!B426),\"\",様式!B426)","v":""},{"$f":"IF(ISBLANK(様式!C426),\"\",様式!C426)","v":""},{"$f":"IF(ISBLANK(様式!D426),\"\",様式!D426)","v":""},{"$f":"IF(ISBLANK(様式!E426),\"\",様式!E426)","v":""},{"$f":"IF(ISBLANK(様式!F426),\"\",様式!F426)","v":""},{"$f":"IF(ISBLANK(様式!G426),\"\",様式!G426)","v":""}]
[null,null,null,{"$f":"IF(ISBLANK(様式!B427),\"\",様式!B427)","v":""},{"$f":"IF(ISBLANK(様式!C427),\"\",様式!C427)","v":""},{"$f":"IF(ISBLANK(様式!D427),\"\",様式!D427)","v":""},{"$f":"IF(ISBLANK(様式!E427),\"\",様式!E427)","v":""},{"$f":"IF(ISBLANK(様式!F427),\"\",様式!F427)","v":""},{"$f":"IF(ISBLANK(様式!G427),\"\",様式!G427)","v":""}]
[null,null,null,{"$f":"IF(ISBLANK(様式!B428),\"\",様式!B428)","v":""},{"$f":"IF(ISBLANK(様式!C428),\"\",様式!C428)","v":""},{"$f":"IF(ISBLANK(様式!D428),\"\",様式!D428)","v":""},{"$f":"IF(ISBLANK(様式!E428),\"\",様式!E428)","v":""},{"$f":"IF(ISBLANK(様式!F428),\"\",様式!F428)","v":""},{"$f":"IF(ISBLANK(様式!G428),\"\",様式!G428)","v":""}]
[null,null,null,{"$f":"IF(ISBLANK(様式!B429),\"\",様式!B429)","v":""},{"$f":"IF(ISBLANK(様式!C429),\"\",様式!C429)","v":""},{"$f":"IF(ISBLANK(様式!D429),\"\",様式!D429)","v":""},{"$f":"IF(ISBLANK(様式!E429),\"\",様式!E429)","v":""},{"$f":"IF(ISBLANK(様式!F429),\"\",様式!F429)","v":""},{"$f":"IF(ISBLANK(様式!G429),\"\",様式!G429)","v":""}]
[null,null,null,{"$f":"IF(ISBLANK(様式!B430),\"\",様式!B430)","v":""},{"$f":"IF(ISBLANK(様式!C430),\"\",様式!C430)","v":""},{"$f":"IF(ISBLANK(様式!D430),\"\",様式!D430)","v":""},{"$f":"IF(ISBLANK(様式!E430),\"\",様式!E430)","v":""},{"$f":"IF(ISBLANK(様式!F430),\"\",様式!F430)","v":""},{"$f":"IF(ISBLANK(様式!G430),\"\",様式!G430)","v":""}]
[null,null,null,{"$f":"IF(ISBLANK(様式!B431),\"\",様式!B431)","v":""},{"$f":"IF(ISBLANK(様式!C431),\"\",様式!C431)","v":""},{"$f":"IF(ISBLANK(様式!D431),\"\",様式!D431)","v":""},{"$f":"IF(ISBLANK(様式!E431),\"\",様式!E431)","v":""},{"$f":"IF(ISBLANK(様式!F431),\"\",様式!F431)","v":""},{"$f":"IF(ISBLANK(様式!G431),\"\",様式!G431)","v":""}]
[null,null,null,{"$f":"IF(ISBLANK(様式!B432),\"\",様式!B432)","v":""},{"$f":"IF(ISBLANK(様式!C432),\"\",様式!C432)","v":""},{"$f":"IF(ISBLANK(様式!D432),\"\",様式!D432)","v":""},{"$f":"IF(ISBLANK(様式!E432),\"\",様式!E432)","v":""},{"$f":"IF(ISBLANK(様式!F432),\"\",様式!F432)","v":""},{"$f":"IF(ISBLANK(様式!G432),\"\",様式!G432)","v":""}]
[null,null,null,{"$f":"IF(ISBLANK(様式!B433),\"\",様式!B433)","v":""},{"$f":"IF(ISBLANK(様式!C433),\"\",様式!C433)","v":""},{"$f":"IF(ISBLANK(様式!D433),\"\",様式!D433)","v":""},{"$f":"IF(ISBLANK(様式!E433),\"\",様式!E433)","v":""},{"$f":"IF(ISBLANK(様式!F433),\"\",様式!F433)","v":""},{"$f":"IF(ISBLANK(様式!G433),\"\",様式!G433)","v":""}]
[null,null,null,{"$f":"IF(ISBLANK(様式!B434),\"\",様式!B434)","v":""},{"$f":"IF(ISBLANK(様式!C434),\"\",様式!C434)","v":""},{"$f":"IF(ISBLANK(様式!D434),\"\",様式!D434)","v":""},{"$f":"IF(ISBLANK(様式!E434),\"\",様式!E434)","v":""},{"$f":"IF(ISBLANK(様式!F434),\"\",様式!F434)","v":""},{"$f":"IF(ISBLANK(様式!G434),\"\",様式!G434)","v":""}]
[null,null,null,{"$f":"IF(ISBLANK(様式!B435),\"\",様式!B435)","v":""},{"$f":"IF(ISBLANK(様式!C435),\"\",様式!C435)","v":""},{"$f":"IF(ISBLANK(様式!D435),\"\",様式!D435)","v":""},{"$f":"IF(ISBLANK(様式!E435),\"\",様式!E435)","v":""},{"$f":"IF(ISBLANK(様式!F435),\"\",様式!F435)","v":""},{"$f":"IF(ISBLANK(様式!G435),\"\",様式!G435)","v":""}]
[null,null,null,{"$f":"IF(ISBLANK(様式!B436),\"\",様式!B436)","v":""},{"$f":"IF(ISBLANK(様式!C436),\"\",様式!C436)","v":""},{"$f":"IF(ISBLANK(様式!D436),\"\",様式!D436)","v":""},{"$f":"IF(ISBLANK(様式!E436),\"\",様式!E436)","v":""},{"$f":"IF(ISBLANK(様式!F436),\"\",様式!F436)","v":""},{"$f":"IF(ISBLANK(様式!G436),\"\",様式!G436)","v":""}]
[null,null,null,{"$f":"IF(ISBLANK(様式!B437),\"\",様式!B437)","v":""},{"$f":"IF(ISBLANK(様式!C437),\"\",様式!C437)","v":""},{"$f":"IF(ISBLANK(様式!D437),\"\",様式!D437)","v":""},{"$f":"IF(ISBLANK(様式!E437),\"\",様式!E437)","v":""},{"$f":"IF(ISBLANK(様式!F437),\"\",様式!F437)","v":""},{"$f":"IF(ISBLANK(様式!G437),\"\",様式!G437)","v":""}]
[null,null,null,{"$f":"IF(ISBLANK(様式!B438),\"\",様式!B438)","v":""},{"$f":"IF(ISBLANK(様式!C438),\"\",様式!C438)","v":""},{"$f":"IF(ISBLANK(様式!D438),\"\",様式!D438)","v":""},{"$f":"IF(ISBLANK(様式!E438),\"\",様式!E438)","v":""},{"$f":"IF(ISBLANK(様式!F438),\"\",様式!F438)","v":""},{"$f":"IF(ISBLANK(様式!G438),\"\",様式!G438)","v":""}]
[null,null,null,{"$f":"IF(ISBLANK(様式!B439),\"\",様式!B439)","v":""},{"$f":"IF(ISBLANK(様式!C439),\"\",様式!C439)","v":""},{"$f":"IF(ISBLANK(様式!D439),\"\",様式!D439)","v":""},{"$f":"IF(ISBLANK(様式!E439),\"\",様式!E439)","v":""},{"$f":"IF(ISBLANK(様式!F439),\"\",様式!F439)","v":""},{"$f":"IF(ISBLANK(様式!G439),\"\",様式!G439)","v":""}]
[null,null,null,{"$f":"IF(ISBLANK(様式!B440),\"\",様式!B440)","v":""},{"$f":"IF(ISBLANK(様式!C440),\"\",様式!C440)","v":""},{"$f":"IF(ISBLANK(様式!D440),\"\",様式!D440)","v":""},{"$f":"IF(ISBLANK(様式!E440),\"\",様式!E440)","v":""},{"$f":"IF(ISBLANK(様式!F440),\"\",様式!F440)","v":""},{"$f":"IF(ISBLANK(様式!G440),\"\",様式!G440)","v":""}]
[null,null,null,{"$f":"IF(ISBLANK(様式!B441),\"\",様式!B441)","v":""},{"$f":"IF(ISBLANK(様式!C441),\"\",様式!C441)","v":""},{"$f":"IF(ISBLANK(様式!D441),\"\",様式!D441)","v":""},{"$f":"IF(ISBLANK(様式!E441),\"\",様式!E441)","v":""},{"$f":"IF(ISBLANK(様式!F441),\"\",様式!F441)","v":""},{"$f":"IF(ISBLANK(様式!G441),\"\",様式!G441)","v":""}]
[null,null,null,{"$f":"IF(ISBLANK(様式!B442),\"\",様式!B442)","v":""},{"$f":"IF(ISBLANK(様式!C442),\"\",様式!C442)","v":""},{"$f":"IF(ISBLANK(様式!D442),\"\",様式!D442)","v":""},{"$f":"IF(ISBLANK(様式!E442),\"\",様式!E442)","v":""},{"$f":"IF(ISBLANK(様式!F442),\"\",様式!F442)","v":""},{"$f":"IF(ISBLANK(様式!G442),\"\",様式!G442)","v":""}]
[null,null,null,{"$f":"IF(ISBLANK(様式!B443),\"\",様式!B443)","v":""},{"$f":"IF(ISBLANK(様式!C443),\"\",様式!C443)","v":""},{"$f":"IF(ISBLANK(様式!D443),\"\",様式!D443)","v":""},{"$f":"IF(ISBLANK(様式!E443),\"\",様式!E443)","v":""},{"$f":"IF(ISBLANK(様式!F443),\"\",様式!F443)","v":""},{"$f":"IF(ISBLANK(様式!G443),\"\",様式!G443)","v":""}]
[null,null,null,{"$f":"IF(ISBLANK(様式!B444),\"\",様式!B444)","v":""},{"$f":"IF(ISBLANK(様式!C444),\"\",様式!C444)","v":""},{"$f":"IF(ISBLANK(様式!D444),\"\",様式!D444)","v":""},{"$f":"IF(ISBLANK(様式!E444),\"\",様式!E444)","v":""},{"$f":"IF(ISBLANK(様式!F444),\"\",様式!F444)","v":""},{"$f":"IF(ISBLANK(様式!G444),\"\",様式!G444)","v":""}]
[null,null,null,{"$f":"IF(ISBLANK(様式!B445),\"\",様式!B445)","v":""},{"$f":"IF(ISBLANK(様式!C445),\"\",様式!C445)","v":""},{"$f":"IF(ISBLANK(様式!D445),\"\",様式!D445)","v":""},{"$f":"IF(ISBLANK(様式!E445),\"\",様式!E445)","v":""},{"$f":"IF(ISBLANK(様式!F445),\"\",様式!F445)","v":""},{"$f":"IF(ISBLANK(様式!G445),\"\",様式!G445)","v":""}]
[null,null,null,{"$f":"IF(ISBLANK(様式!B446),\"\",様式!B446)","v":""},{"$f":"IF(ISBLANK(様式!C446),\"\",様式!C446)","v":""},{"$f":"IF(ISBLANK(様式!D446),\"\",様式!D446)","v":""},{"$f":"IF(ISBLANK(様式!E446),\"\",様式!E446)","v":""},{"$f":"IF(ISBLANK(様式!F446),\"\",様式!F446)","v":""},{"$f":"IF(ISBLANK(様式!G446),\"\",様式!G446)","v":""}]
[null,null,null,{"$f":"IF(ISBLANK(様式!B447),\"\",様式!B447)","v":""},{"$f":"IF(ISBLANK(様式!C447),\"\",様式!C447)","v":""},{"$f":"IF(ISBLANK(様式!D447),\"\",様式!D447)","v":""},{"$f":"IF(ISBLANK(様式!E447),\"\",様式!E447)","v":""},{"$f":"IF(ISBLANK(様式!F447),\"\",様式!F447)","v":""},{"$f":"IF(ISBLANK(様式!G447),\"\",様式!G447)","v":""}]
[null,null,null,{"$f":"IF(ISBLANK(様式!B448),\"\",様式!B448)","v":""},{"$f":"IF(ISBLANK(様式!C448),\"\",様式!C448)","v":""},{"$f":"IF(ISBLANK(様式!D448),\"\",様式!D448)","v":""},{"$f":"IF(ISBLANK(様式!E448),\"\",様式!E448)","v":""},{"$f":"IF(ISBLANK(様式!F448),\"\",様式!F448)","v":""},{"$f":"IF(ISBLANK(様式!G448),\"\",様式!G448)","v":""}]
[null,null,null,{"$f":"IF(ISBLANK(様式!B449),\"\",様式!B449)","v":""},{"$f":"IF(ISBLANK(様式!C449),\"\",様式!C449)","v":""},{"$f":"IF(ISBLANK(様式!D449),\"\",様式!D449)","v":""},{"$f":"IF(ISBLANK(様式!E449),\"\",様式!E449)","v":""},{"$f":"IF(ISBLANK(様式!F449),\"\",様式!F449)","v":""},{"$f":"IF(ISBLANK(様式!G449),\"\",様式!G449)","v":""}]
[null,null,null,{"$f":"IF(ISBLANK(様式!B450),\"\",様式!B450)","v":""},{"$f":"IF(ISBLANK(様式!C450),\"\",様式!C450)","v":""},{"$f":"IF(ISBLANK(様式!D450),\"\",様式!D450)","v":""},{"$f":"IF(ISBLANK(様式!E450),\"\",様式!E450)","v":""},{"$f":"IF(ISBLANK(様式!F450),\"\",様式!F450)","v":""},{"$f":"IF(ISBLANK(様式!G450),\"\",様式!G450)","v":""}]
[null,null,null,{"$f":"IF(ISBLANK(様式!B451),\"\",様式!B451)","v":""},{"$f":"IF(ISBLANK(様式!C451),\"\",様式!C451)","v":""},{"$f":"IF(ISBLANK(様式!D451),\"\",様式!D451)","v":""},{"$f":"IF(ISBLANK(様式!E451),\"\",様式!E451)","v":""},{"$f":"IF(ISBLANK(様式!F451),\"\",様式!F451)","v":""},{"$f":"IF(ISBLANK(様式!G451),\"\",様式!G451)","v":""}]
[null,null,null,{"$f":"IF(ISBLANK(様式!B452),\"\",様式!B452)","v":""},{"$f":"IF(ISBLANK(様式!C452),\"\",様式!C452)","v":""},{"$f":"IF(ISBLANK(様式!D452),\"\",様式!D452)","v":""},{"$f":"IF(ISBLANK(様式!E452),\"\",様式!E452)","v":""},{"$f":"IF(ISBLANK(様式!F452),\"\",様式!F452)","v":""},{"$f":"IF(ISBLANK(様式!G452),\"\",様式!G452)","v":""}]
[null,null,null,{"$f":"IF(ISBLANK(様式!B453),\"\",様式!B453)","v":""},{"$f":"IF(ISBLANK(様式!C453),\"\",様式!C453)","v":""},{"$f":"IF(ISBLANK(様式!D453),\"\",様式!D453)","v":""},{"$f":"IF(ISBLANK(様式!E453),\"\",様式!E453)","v":""},{"$f":"IF(ISBLANK(様式!F453),\"\",様式!F453)","v":""},{"$f":"IF(ISBLANK(様式!G453),\"\",様式!G453)","v":""}]
[null,null,null,{"$f":"IF(ISBLANK(様式!B454),\"\",様式!B454)","v":""},{"$f":"IF(ISBLANK(様式!C454),\"\",様式!C454)","v":""},{"$f":"IF(ISBLANK(様式!D454),\"\",様式!D454)","v":""},{"$f":"IF(ISBLANK(様式!E454),\"\",様式!E454)","v":""},{"$f":"IF(ISBLANK(様式!F454),\"\",様式!F454)","v":""},{"$f":"IF(ISBLANK(様式!G454),\"\",様式!G454)","v":""}]
[null,null,null,{"$f":"IF(ISBLANK(様式!B455),\"\",様式!B455)","v":""},{"$f":"IF(ISBLANK(様式!C455),\"\",様式!C455)","v":""},{"$f":"IF(ISBLANK(様式!D455),\"\",様式!D455)","v":""},{"$f":"IF(ISBLANK(様式!E455),\"\",様式!E455)","v":""},{"$f":"IF(ISBLANK(様式!F455),\"\",様式!F455)","v":""},{"$f":"IF(ISBLANK(様式!G455),\"\",様式!G455)","v":""}]
[null,null,null,{"$f":"IF(ISBLANK(様式!B456),\"\",様式!B456)","v":""},{"$f":"IF(ISBLANK(様式!C456),\"\",様式!C456)","v":""},{"$f":"IF(ISBLANK(様式!D456),\"\",様式!D456)","v":""},{"$f":"IF(ISBLANK(様式!E456),\"\",様式!E456)","v":""},{"$f":"IF(ISBLANK(様式!F456),\"\",様式!F456)","v":""},{"$f":"IF(ISBLANK(様式!G456),\"\",様式!G456)","v":""}]
[null,null,null,{"$f":"IF(ISBLANK(様式!B457),\"\",様式!B457)","v":""},{"$f":"IF(ISBLANK(様式!C457),\"\",様式!C457)","v":""},{"$f":"IF(ISBLANK(様式!D457),\"\",様式!D457)","v":""},{"$f":"IF(ISBLANK(様式!E457),\"\",様式!E457)","v":""},{"$f":"IF(ISBLANK(様式!F457),\"\",様式!F457)","v":""},{"$f":"IF(ISBLANK(様式!G457),\"\",様式!G457)","v":""}]
[null,null,null,{"$f":"IF(ISBLANK(様式!B458),\"\",様式!B458)","v":""},{"$f":"IF(ISBLANK(様式!C458),\"\",様式!C458)","v":""},{"$f":"IF(ISBLANK(様式!D458),\"\",様式!D458)","v":""},{"$f":"IF(ISBLANK(様式!E458),\"\",様式!E458)","v":""},{"$f":"IF(ISBLANK(様式!F458),\"\",様式!F458)","v":""},{"$f":"IF(ISBLANK(様式!G458),\"\",様式!G458)","v":""}]
[null,null,null,{"$f":"IF(ISBLANK(様式!B459),\"\",様式!B459)","v":""},{"$f":"IF(ISBLANK(様式!C459),\"\",様式!C459)","v":""},{"$f":"IF(ISBLANK(様式!D459),\"\",様式!D459)","v":""},{"$f":"IF(ISBLANK(様式!E459),\"\",様式!E459)","v":""},{"$f":"IF(ISBLANK(様式!F459),\"\",様式!F459)","v":""},{"$f":"IF(ISBLANK(様式!G459),\"\",様式!G459)","v":""}]